Workbook
Name Annet: #REF!
Name Antall_Kar: 'Beregninger RAS'!$K:$K
Name Antall_Kar: 'Beregninger gj.strømming'!$K:$K
Name ek_ansvarlig: hiddenSheet!$A$6
Name ek_bedriftsnavn: hiddenSheet!$A$2
Name ek_doktittel: hiddenSheet!$A$8
Name ek_doktype: hiddenSheet!$A$3
Name ek_gjeldertil: hiddenSheet!$A$5
Name ek_revisjon: hiddenSheet!$A$4
Name ek_signatur: hiddenSheet!$A$7
Name ek_utgave: hiddenSheet!$A$1
Name f_slutt: Hjelpeark!$D$4
Name f_start: Hjelpeark!$D$3
Name ferskvann: Hjelpeark!$L$26:$L$27
Name Ferskvann_navn: Hjelpeark!$E$7
Name Fiskevekt_VT_FV: 'Veksttabell FV'!$B$4:$T$4
Name forsoks_temp_beregning: 'Beregninger RAS'!$P$4:$P$1100
Name forsoks_temp_beregning: 'Beregninger gj.strømming'!$T$4:$T$1100
Name forsokstem: Hjelpeark!$B$4:$B$24
Name Forsøksdyr: #REF!
Name Graf_antall: IF('Beregninger RAS'!$E$4="","",OFFSET('Beregninger RAS'!$E$4,0,0,(COUNT('Beregninger RAS'!$E$4:$E$1100)),1))
Name Graf_antall: IF('Beregninger gj.strømming'!$E$4="","",OFFSET('Beregninger gj.strømming'!$E$4,0,0,(COUNT('Beregninger gj.strømming'!$E$4:$E$1100)),1))
Name Graf_dato: IF('Beregninger RAS'!$A$4="","",OFFSET('Beregninger RAS'!$A$4,0,0,(COUNT('Beregninger RAS'!$A$4:$A$1100)),1))
Name Graf_dato: IF('Beregninger gj.strømming'!$A$4="","",OFFSET('Beregninger gj.strømming'!$A$4,0,0,(COUNT('Beregninger gj.strømming'!$A$4:$A$1100)),1))
Name Graf_snitt: IF('Beregninger RAS'!$F$4="","",OFFSET('Beregninger RAS'!$F$4,0,0,(COUNT('Beregninger RAS'!$F$4:$F$1100)),1))
Name Graf_snitt: IF('Beregninger gj.strømming'!$F$4="","",OFFSET('Beregninger gj.strømming'!$F$4,0,0,(COUNT('Beregninger gj.strømming'!$F$4:$F$1100)),1))
Name Graf_tetthet: IF('Beregninger RAS'!$J$4="","",OFFSET('Beregninger RAS'!$J$4,0,0,(COUNT('Beregninger RAS'!$J$4:$J$1100)),1))
Name Graf_tetthet: IF('Beregninger gj.strømming'!$J$4="","",OFFSET('Beregninger gj.strømming'!$J$4,0,0,(COUNT('Beregninger gj.strømming'!$J$4:$J$1100)),1))
Name karlaogfhl: Hjelpeark!$H$14:$H$15
Name karsmak: Hjelpeark!$I$14
Name merdsa: Hjelpeark!$N$14
Name nanoras1modul: Hjelpeark!$K$14:$K$15
Name nanoras2moduler: Hjelpeark!$L$14:$L$15
Name nanoras3moduler: Hjelpeark!$M$14:$M$15
Name rasfhl: Hjelpeark!$J$14:$J$15
Name sjøvann: Hjelpeark!$M$26:$M$29
Name Sjøvann_navn: Hjelpeark!$D$7
Name snittvekt: 'Beregninger RAS'!$F$4:$F$1048576
Name snittvekt: 'Beregninger gj.strømming'!$F$4:$F$1048576
Name Temp_VT_FV: 'Veksttabell FV'!$A$5:$A$21
Name Tjenester: #REF!
Name vannkvalitet: Hjelpeark!$K$26:$K$27

Sheet hiddenSheet
A1: 1.05
A2: Havbruksstasjonen i Tromsø AS
A3: Generelt
A4: 1.05
A5: 25.02.2027
A6: Are Homann-Danielsen
A7: Are Homann-Danielsen
A8: Prisestimat forsøk

Sheet Informasjon
B1: {=hiddenSheet!ek_doktittel} -> Prisestimat forsøk
B2: Dokumentansvarlig: | D2: Godkjent av: | F2: Versjon: | G2: Gyldig til: | I2: Dokumenttype:
B3: =hiddenSheet!ek_ansvarlig -> Are Homann-Danielsen | D3: =hiddenSheet!ek_signatur -> Are Homann-Danielsen | F3: =hiddenSheet!ek_revisjon -> 1.05 | G3: =hiddenSheet!ek_gjeldertil -> 25.02.2027 | I3: =hiddenSheet!ek_doktype -> Generelt
D5: Informasjon
B7: Dette regnearket er laget for kunder ved Havbruksstasjonen i Tromsø til estimering av forsøkskostnad i forbindelse med søknad om midler.
B8: Regnearket estimerer kostnad for forsøk eller smitteforsøk i gjennomstrømmings- og resirkuleringssystemer (RAS)
B9: Kostnadsestimatet omfatter rigg, karleie, vann og resirkulering og vil være lavere enn endelig pris.
B10: Avhengig av forsøkets størrelse og kompleksitet kan det påløpe kostnader for:
C11: - Forsøksdyr
C12: - Sjøvannstester
C13: - Fôroppsamling
C14: - Merking
C15: - Sortering
C16: - Vaksinering
C17: - Måling av vannparametere
C18: - Prosjekttimer etc.
B19: Havbruksstasjonens prissystem er beskrevet i dokumentet "Beskrivelse av priser, varer og tjenester i forsøk" som sammen med prislisten
B20: kan benyttes til å estimere priser for andre varer og tjenester.

Sheet Priseestimat gj.strømming
B1: Prisestimat for forsøk i gjennomstrømmingssystem
B3: Forsøksoppsett | C3: Verdi | D3: Grenseverdier | G3: Historisk råvannstemperatur | K3: Bruk av regnearket
D4: Min | E4: Maks | G4: Måned | H4: Sjøvann | I4: Ferskvann
B5: Kunde | G5: Januar | H5: 4 | I5: 0 | K5: - Prisestimat for rigging, karleie, pumping og oppvarming av vann og ev. desinfisering av avløpsvann.
B6: Smitteforsøk | G6: Februar | H6: 4 | I6: 0 | K6: - Det kan kun legges inn data i hvite celler og alle hvite celler må fylles ut for at regnearket skal fungere.
B7: Startdato (dd.mm.åå) | G7: Mars | H7: 4 | I7: 0 | K7: - Prisestimatet er utarbeidet for 500 liters kar med minimum flow 15 l/min.
B8: Sluttdato (dd.mm.åå) | G8: April | H8: 4 | I8: 0 | K8: - Veksttabellen Laks HiT representerer den tilveksten Havbruksstasjonen har erfart i forsøk.
B9: Ant. døgn | C9: =IF(C7="","",C8-C7+1) | G9: Mai | H9: 5 | I9: 2 | K9: - Tid på året vil påvirke oppvarming- og kjølekostnaden på grunn av ulik råvannstemperatur
B10: Antall kar | G10: Juni | H10: 6 | I10: 5 | K10: - Ved smitteforsøk vil det tilkomme kostnad for desinfisering av avløpsvann samt at tilvekst reduseres til 70 %.
B11: Karvolum (l) | C11: 500 | D11: 15 l/min | G11: Juli | H11: 8 | I11: 10 | K11: - Se fanen Beregninger gj.strømming for detaljert oversikt over beregningene.
B12: Vannkvalitet | G12: August | H12: 9 | I12: 11
B13: Veksttabell | G13: September | H13: 9 | I13: 8 | K13: Rigging | L13: ='Beregninger gj.strømming'!AE4
B14: Forsøkstemperatur | D14: =IF(C12="","",IF($C$12=Hjelpeark!$H$14,'Veksttabell SV'!$N$3,'Veksttabell FV'!$N$2)) | E14: =IF(C12="","",IF($C$12=Hjelpeark!$H$14,'Veksttabell SV'!$O$3,'Veksttabell FV'!$O$2)) | G14: Oktober | H14: 9 | I14: 4 | K14: Karleie | L14: =SUM('Beregninger gj.strømming'!AF:AF) -> 0
B15: Justering av veksttabell | C15: =IF(C6="Ja",0.7,1) -> 1 | G15: November | H15: 7 | I15: 1 | K15: Pumping | L15: =SUM('Beregninger gj.strømming'!Z:Z) -> 0
B16: Totalt antall fisk ved start | G16: Desember | H16: 6 | I16: 0 | K16: Oppvarming / kjøling | L16: =SUM('Beregninger gj.strømming'!AA:AA) -> 0
B17: Snittvekt start (g) | D17: =IF(C12="","",IF($C$12=Hjelpeark!$H$14,'Veksttabell SV'!$J$3,'Veksttabell FV'!$J$2)) | E17: =IF(C12="","",IF($C$12=Hjelpeark!$H$14,'Veksttabell SV'!$K$3,'Veksttabell FV'!$K$2)) | K17: Desinfisering avløpsvann | L17: =SUM('Beregninger gj.strømming'!AB:AB) -> 0
B18: Snittvekt slutt (g) | C18: =IFERROR(IF(C8="","",_xlfn.XLOOKUP(C8,'Beregninger gj.strømming'!$A:$A,'Beregninger gj.strømming'!$F:$F)),"")
B19: Tetthet start (kg/m3) | C19: =IFERROR(IF(C7="","",_xlfn.XLOOKUP(C7,'Beregninger gj.strømming'!$A:$A,'Beregninger gj.strømming'!$J:$J)),"") | D19: - | E19: 50 | G19: Påslag | I19: 0 | K19: Prisestimat | L19: =IF($C$5=Hjelpeark!$G$9,SUM('Beregninger gj.strømming'!AC:AC)*1.25+SUM('Beregninger gj.strømming'!AE:AF)*1.25,SUM('Beregninger gj.strømming'!AC:AC)+SUM('Beregninger gj.strømming'!AE:AF))+IF($C$5=Hjelpeark!$G$9,SUM('Beregninger gj.strømming'!AC:AC)*1.25+SUM('Beregninger gj.strømming'!AE:AF)*1.25,SUM('Beregninger gj.strømming'!AC:AC)+SUM('Beregninger gj.strømming'!AE:AF))*I19 -> 0
B20: Tetthet slutt (kg/m3) | C20: =IFERROR(IF(C8="","",_xlfn.XLOOKUP(C8,'Beregninger gj.strømming'!$A:$A,'Beregninger gj.strømming'!$J:$J)),"") | D20: - | E20: 50

Sheet Beregninger gj.strømming
B1: Beregninger gjennomstrømming
A2: Tid | E2: Tilvekst og biomasse | K2: Kar og vannforbruk | S2: Oppvarming/kjøling | V2: Vannkostnad | AD2: Andre kostnader
A3: Dato | B3: Ukenr. | C3: Måned | D3: År | E3: Antall fisk | F3: Snittvekt (g) | G3: Justering av tilvekst (SGR) | H3: SGR (%) | I3: Biomasse (kg) | J3: Tetthet (kg/m3) | K3: Antall kar | L3: Karvolum (liter) | M3: Vannkvalitet | N3: Behandling av avløpsvann | O3: (l/min/kg) | P3: Minimum vannforbruk pr kar (l/min/kar) | Q3: l/min/kar | R3: m3/dag Alle kar | S3: Råvanns-temperatur | T3: Forsøks-temperatur | U3: ΔT | V3: Pumpe-kostnad pr m3 | W3: Energi-kostnad pr m3 | X3: Avløps-kostnad pr m3 | Y3: Total vann-kostnad pr m3 | Z3: Pumpe-kostnad pr. dag | AA3: Energi-kostnad pr. dag | AB3: Avløps-kostnad pr. dag | AC3: Total vann-kostnad pr dag | AD3: Kardøgn | AE3: Riggkostnad | AF3: Karleie
A4: =IF(f_start=0,"",f_start) | B4: =IFERROR(_xlfn.ISOWEEKNUM(A4),"") | C4: =IFERROR(MONTH(A4),"") | D4: =IFERROR(YEAR(A4),"") | E4: =IFERROR(IF(A4="","",'Priseestimat gj.strømming'!C16),"") | F4: =IF(A4="","",'Priseestimat gj.strømming'!C17) | G4: =IF($A4="","",'Priseestimat gj.strømming'!$C$15) | H4: {=IF(M4=Hjelpeark!$E$7,_xlfn.XLOOKUP(IF(T4="Naturlig",S4,T4),Temp_VT_FV,_xlfn.XLOOKUP('Beregninger gj.strømming'!F4,Fiskevekt_VT_FV,'Veksttabell FV'!$B$5:$T$21,,-1),,-1)*G4,IF('Beregninger gj.strømming'!M4=Hjelpeark!$D$7,_xlfn.XLOOKUP(IF(T4="Naturlig",S4,T4),'Veksttabell SV'!$A$6:$A$22,_xlfn.XLOOKUP('Beregninger gj.strømming'!F4,'Veksttabell SV'!$B$5:$AU$5,'Veksttabell SV'!$B$6:$AU$22,,-1),,-1)*G4,""))} | I4: =IF(A4="","",E4*F4/1000) | J4: =IF(A4="","",I4/(L4/1000)/K4) | K4: =IF(A4="","",'Priseestimat gj.strømming'!$C$10) | L4: =IF(A4="","",'Priseestimat gj.strømming'!$C$11) | M4: =IF(A4="","",'Priseestimat gj.strømming'!$C$12) | N4: =IF($A4="","",'Priseestimat gj.strømming'!$C$6) | O4: {=IF(M4=Hjelpeark!$D$7,_xlfn.XLOOKUP(IF(T4="Naturlig",S4,T4),'Vannbehov SV'!$A$5:$A$13,_xlfn.XLOOKUP('Beregninger gj.strømming'!F4,'Vannbehov SV'!$B$4:$O$4,'Vannbehov SV'!$B$5:$O$13,,-1),,-1),IF(M4=Hjelpeark!$E$7,_xlfn.XLOOKUP(IF(T4="Naturlig",S4,T4),'Vannbehov FV'!$A$5:$A$20,_xlfn.XLOOKUP('Beregninger gj.strømming'!F4,'Vannbehov FV'!$B$4:$O$4,'Vannbehov FV'!$B$5:$O$20,,-1),,-1),""))} | P4: =IF(A4="","",15) | Q4: =IFERROR(IF(A4="","",IF(P4>I4/K4*O4,P4,I4/K4*O4)),"") | R4: =IF(A4="","",Q4*K4*1.44) | S4: =IFERROR(IF(M4=Hjelpeark!$D$7,_xlfn.XLOOKUP('Beregninger gj.strømming'!C4,Hjelpeark!$C$8:$C$19,Hjelpeark!$D$8:$D$19),_xlfn.XLOOKUP('Beregninger gj.strømming'!C4,Hjelpeark!$C$8:$C$19,Hjelpeark!$E$8:$E$19)),"") | T4: =IF(A4="","",'Priseestimat gj.strømming'!C14) | U4: =IFERROR(IF(T4=Hjelpeark!$B$4,0,ABS(T4-S4)),"") | V4: =IFERROR(IF(A4="","",_xlfn.XLOOKUP(D4,Prisliste!$C$4:$F$4,Prisliste!$C$20:$F$20)),"") | W4: =IFERROR(U4*_xlfn.XLOOKUP(D4,Prisliste!$C$4:$F$4,Prisliste!$C$21:$F$21),"") | X4: =IFERROR(IF(A4="","",IF(N4="Ja",_xlfn.XLOOKUP('Beregninger gj.strømming'!D4,Prisliste!$C$4:$F$4,Prisliste!$C$24:$F$24),0)),"") | Y4: =IF(SUM(V4:X4)=0,"",SUM(V4:X4)) | Z4: =IF($A$4="","",V4*$R4) | AA4: =IFERROR(IF($A$4="","",W4*$R4),"") | AB4: =IFERROR(IF($A$4="","",X4*$R4),"") | AC4: =IFERROR(R4*Y4,"") | AD4: =K4 | AE4: =IFERROR(_xlfn.XLOOKUP(D4,Prisliste!$C$4:$F$4,Prisliste!$C$18:$F$18)*AD4,"") | AF4: =IFERROR(_xlfn.XLOOKUP(D4,Prisliste!$C$4:$F$4,Prisliste!$C$19:$F$19)*AD4,"")
A5: =IF(A4="","",IF(A4+1<=f_slutt,'Beregninger gj.strømming'!A4+1,"")) | B5: =IFERROR(_xlfn.ISOWEEKNUM(A5),"") | C5: =IFERROR(MONTH(A5),"") | D5: =IFERROR(YEAR(A5),"") | E5: =IFERROR(IF(A5="","",E4),"") | F5: =IF(A5="","",F4+(F4*H4/100)) | G5: =IF($A5="","",'Priseestimat gj.strømming'!$C$15) | H5: {=IF(M5=Hjelpeark!$E$7,_xlfn.XLOOKUP(IF(T5="Naturlig",S5,T5),Temp_VT_FV,_xlfn.XLOOKUP('Beregninger gj.strømming'!F5,Fiskevekt_VT_FV,'Veksttabell FV'!$B$5:$T$21,,-1),,-1)*G5,IF('Beregninger gj.strømming'!M5=Hjelpeark!$D$7,_xlfn.XLOOKUP(IF(T5="Naturlig",S5,T5),'Veksttabell SV'!$A$6:$A$22,_xlfn.XLOOKUP('Beregninger gj.strømming'!F5,'Veksttabell SV'!$B$5:$AU$5,'Veksttabell SV'!$B$6:$AU$22,,-1),,-1)*G5,""))} | I5: =IF(A5="","",E5*F5/1000) | J5: =IF(A5="","",I5/(L5/1000)/K5) | K5: =IF(A5="","",'Priseestimat gj.strømming'!$C$10) | L5: =IF(A5="","",'Priseestimat gj.strømming'!$C$11) | M5: =IF(A5="","",'Priseestimat gj.strømming'!$C$12) | N5: =IF($A5="","",'Priseestimat gj.strømming'!$C$6) | O5: {=IF(M5=Hjelpeark!$D$7,_xlfn.XLOOKUP(IF(T5="Naturlig",S5,T5),'Vannbehov SV'!$A$5:$A$13,_xlfn.XLOOKUP('Beregninger gj.strømming'!F5,'Vannbehov SV'!$B$4:$O$4,'Vannbehov SV'!$B$5:$O$13,,-1),,-1),IF(M5=Hjelpeark!$E$7,_xlfn.XLOOKUP(IF(T5="Naturlig",S5,T5),'Vannbehov FV'!$A$5:$A$20,_xlfn.XLOOKUP('Beregninger gj.strømming'!F5,'Vannbehov FV'!$B$4:$O$4,'Vannbehov FV'!$B$5:$O$20,,-1),,-1),""))} | P5: =IF(A5="","",15) | Q5: =IFERROR(IF(A5="","",IF(P5>I5/K5*O5,P5,I5/K5*O5)),"") | R5: =IF(A5="","",Q5*K5*1.44) | S5: =IFERROR(IF(M5=Hjelpeark!$D$7,_xlfn.XLOOKUP('Beregninger gj.strømming'!C5,Hjelpeark!$C$8:$C$19,Hjelpeark!$D$8:$D$19),_xlfn.XLOOKUP('Beregninger gj.strømming'!C5,Hjelpeark!$C$8:$C$19,Hjelpeark!$E$8:$E$19)),"") | T5: =IF(A5="","",T4) | U5: =IFERROR(IF(T5=Hjelpeark!$B$4,0,ABS(T5-S5)),"") | V5: =IFERROR(IF(A5="","",_xlfn.XLOOKUP(D5,Prisliste!$C$4:$F$4,Prisliste!$C$20:$F$20)),"") | W5: =IFERROR(U5*_xlfn.XLOOKUP(D5,Prisliste!$C$4:$F$4,Prisliste!$C$21:$F$21),"") | X5: =IFERROR(IF(A5="","",IF(N5="Ja",_xlfn.XLOOKUP('Beregninger gj.strømming'!D5,Prisliste!$C$4:$F$4,Prisliste!$C$24:$F$24),0)),"") | Y5: =IF(SUM(V5:X5)=0,"",SUM(V5:X5)) | Z5: =IF(A5="","",V5*R5) | AA5: =IFERROR(IF($A$4="","",W5*$R5),"") | AB5: =IFERROR(IF($A$4="","",X5*$R5),"") | AC5: =IFERROR(R5*Y5,"") | AD5: =K5 | AF5: =IFERROR(_xlfn.XLOOKUP(D5,Prisliste!$C$4:$F$4,Prisliste!$C$19:$F$19)*AD5,"")
A6: =IF(A5="","",IF(A5+1<=f_slutt,'Beregninger gj.strømming'!A5+1,"")) | B6: =IFERROR(_xlfn.ISOWEEKNUM(A6),"") | C6: =IFERROR(MONTH(A6),"") | D6: =IFERROR(YEAR(A6),"") | E6: =IFERROR(IF(A6="","",E5),"") | F6: =IF(A6="","",F5+(F5*H5/100)) | G6: =IF($A6="","",'Priseestimat gj.strømming'!$C$15) | H6: {=IF(M6=Hjelpeark!$E$7,_xlfn.XLOOKUP(IF(T6="Naturlig",S6,T6),Temp_VT_FV,_xlfn.XLOOKUP('Beregninger gj.strømming'!F6,Fiskevekt_VT_FV,'Veksttabell FV'!$B$5:$T$21,,-1),,-1)*G6,IF('Beregninger gj.strømming'!M6=Hjelpeark!$D$7,_xlfn.XLOOKUP(IF(T6="Naturlig",S6,T6),'Veksttabell SV'!$A$6:$A$22,_xlfn.XLOOKUP('Beregninger gj.strømming'!F6,'Veksttabell SV'!$B$5:$AU$5,'Veksttabell SV'!$B$6:$AU$22,,-1),,-1)*G6,""))} | I6: =IF(A6="","",E6*F6/1000) | J6: =IF(A6="","",I6/(L6/1000)/K6) | K6: =IF(A6="","",'Priseestimat gj.strømming'!$C$10) | L6: =IF(A6="","",'Priseestimat gj.strømming'!$C$11) | M6: =IF(A6="","",'Priseestimat gj.strømming'!$C$12) | N6: =IF($A6="","",'Priseestimat gj.strømming'!$C$6) | O6: {=IF(M6=Hjelpeark!$D$7,_xlfn.XLOOKUP(IF(T6="Naturlig",S6,T6),'Vannbehov SV'!$A$5:$A$13,_xlfn.XLOOKUP('Beregninger gj.strømming'!F6,'Vannbehov SV'!$B$4:$O$4,'Vannbehov SV'!$B$5:$O$13,,-1),,-1),IF(M6=Hjelpeark!$E$7,_xlfn.XLOOKUP(IF(T6="Naturlig",S6,T6),'Vannbehov FV'!$A$5:$A$20,_xlfn.XLOOKUP('Beregninger gj.strømming'!F6,'Vannbehov FV'!$B$4:$O$4,'Vannbehov FV'!$B$5:$O$20,,-1),,-1),""))} | P6: =IF(A6="","",15) | Q6: =IFERROR(IF(A6="","",IF(P6>I6/K6*O6,P6,I6/K6*O6)),"") | R6: =IF(A6="","",Q6*K6*1.44) | S6: =IFERROR(IF(M6=Hjelpeark!$D$7,_xlfn.XLOOKUP('Beregninger gj.strømming'!C6,Hjelpeark!$C$8:$C$19,Hjelpeark!$D$8:$D$19),_xlfn.XLOOKUP('Beregninger gj.strømming'!C6,Hjelpeark!$C$8:$C$19,Hjelpeark!$E$8:$E$19)),"") | T6: =IF(A6="","",T5) | U6: =IFERROR(IF(T6=Hjelpeark!$B$4,0,ABS(T6-S6)),"") | V6: =IFERROR(IF(A6="","",_xlfn.XLOOKUP(D6,Prisliste!$C$4:$F$4,Prisliste!$C$20:$F$20)),"") | W6: =IFERROR(U6*_xlfn.XLOOKUP(D6,Prisliste!$C$4:$F$4,Prisliste!$C$21:$F$21),"") | X6: =IFERROR(IF(A6="","",IF(N6="Ja",_xlfn.XLOOKUP('Beregninger gj.strømming'!D6,Prisliste!$C$4:$F$4,Prisliste!$C$24:$F$24),0)),"") | Y6: =IF(SUM(V6:X6)=0,"",SUM(V6:X6)) | Z6: =IF(A6="","",V6*R6) | AA6: =IFERROR(IF($A$4="","",W6*$R6),"") | AB6: =IFERROR(IF($A$4="","",X6*$R6),"") | AC6: =IFERROR(R6*Y6,"") | AD6: =K6 | AF6: =IFERROR(_xlfn.XLOOKUP(D6,Prisliste!$C$4:$F$4,Prisliste!$C$19:$F$19)*AD6,"")
A7: =IF(A6="","",IF(A6+1<=f_slutt,'Beregninger gj.strømming'!A6+1,"")) | B7: =IFERROR(_xlfn.ISOWEEKNUM(A7),"") | C7: =IFERROR(MONTH(A7),"") | D7: =IFERROR(YEAR(A7),"") | E7: =IFERROR(IF(A7="","",E6),"") | F7: =IF(A7="","",F6+(F6*H6/100)) | G7: =IF($A7="","",'Priseestimat gj.strømming'!$C$15) | H7: {=IF(M7=Hjelpeark!$E$7,_xlfn.XLOOKUP(IF(T7="Naturlig",S7,T7),Temp_VT_FV,_xlfn.XLOOKUP('Beregninger gj.strømming'!F7,Fiskevekt_VT_FV,'Veksttabell FV'!$B$5:$T$21,,-1),,-1)*G7,IF('Beregninger gj.strømming'!M7=Hjelpeark!$D$7,_xlfn.XLOOKUP(IF(T7="Naturlig",S7,T7),'Veksttabell SV'!$A$6:$A$22,_xlfn.XLOOKUP('Beregninger gj.strømming'!F7,'Veksttabell SV'!$B$5:$AU$5,'Veksttabell SV'!$B$6:$AU$22,,-1),,-1)*G7,""))} | I7: =IF(A7="","",E7*F7/1000) | J7: =IF(A7="","",I7/(L7/1000)/K7) | K7: =IF(A7="","",'Priseestimat gj.strømming'!$C$10) | L7: =IF(A7="","",'Priseestimat gj.strømming'!$C$11) | M7: =IF(A7="","",'Priseestimat gj.strømming'!$C$12) | N7: =IF($A7="","",'Priseestimat gj.strømming'!$C$6) | O7: {=IF(M7=Hjelpeark!$D$7,_xlfn.XLOOKUP(IF(T7="Naturlig",S7,T7),'Vannbehov SV'!$A$5:$A$13,_xlfn.XLOOKUP('Beregninger gj.strømming'!F7,'Vannbehov SV'!$B$4:$O$4,'Vannbehov SV'!$B$5:$O$13,,-1),,-1),IF(M7=Hjelpeark!$E$7,_xlfn.XLOOKUP(IF(T7="Naturlig",S7,T7),'Vannbehov FV'!$A$5:$A$20,_xlfn.XLOOKUP('Beregninger gj.strømming'!F7,'Vannbehov FV'!$B$4:$O$4,'Vannbehov FV'!$B$5:$O$20,,-1),,-1),""))} | P7: =IF(A7="","",15) | Q7: =IFERROR(IF(A7="","",IF(P7>I7/K7*O7,P7,I7/K7*O7)),"") | R7: =IF(A7="","",Q7*K7*1.44) | S7: =IFERROR(IF(M7=Hjelpeark!$D$7,_xlfn.XLOOKUP('Beregninger gj.strømming'!C7,Hjelpeark!$C$8:$C$19,Hjelpeark!$D$8:$D$19),_xlfn.XLOOKUP('Beregninger gj.strømming'!C7,Hjelpeark!$C$8:$C$19,Hjelpeark!$E$8:$E$19)),"") | T7: =IF(A7="","",T6) | U7: =IFERROR(IF(T7=Hjelpeark!$B$4,0,ABS(T7-S7)),"") | V7: =IFERROR(IF(A7="","",_xlfn.XLOOKUP(D7,Prisliste!$C$4:$F$4,Prisliste!$C$20:$F$20)),"") | W7: =IFERROR(U7*_xlfn.XLOOKUP(D7,Prisliste!$C$4:$F$4,Prisliste!$C$21:$F$21),"") | X7: =IFERROR(IF(A7="","",IF(N7="Ja",_xlfn.XLOOKUP('Beregninger gj.strømming'!D7,Prisliste!$C$4:$F$4,Prisliste!$C$24:$F$24),0)),"") | Y7: =IF(SUM(V7:X7)=0,"",SUM(V7:X7)) | Z7: =IF(A7="","",V7*R7) | AA7: =IFERROR(IF($A$4="","",W7*$R7),"") | AB7: =IFERROR(IF($A$4="","",X7*$R7),"") | AC7: =IFERROR(R7*Y7,"") | AD7: =K7 | AF7: =IFERROR(_xlfn.XLOOKUP(D7,Prisliste!$C$4:$F$4,Prisliste!$C$19:$F$19)*AD7,"")
A8: =IF(A7="","",IF(A7+1<=f_slutt,'Beregninger gj.strømming'!A7+1,"")) | B8: =IFERROR(_xlfn.ISOWEEKNUM(A8),"") | C8: =IFERROR(MONTH(A8),"") | D8: =IFERROR(YEAR(A8),"") | E8: =IFERROR(IF(A8="","",E7),"") | F8: =IF(A8="","",F7+(F7*H7/100)) | G8: =IF($A8="","",'Priseestimat gj.strømming'!$C$15) | H8: {=IF(M8=Hjelpeark!$E$7,_xlfn.XLOOKUP(IF(T8="Naturlig",S8,T8),Temp_VT_FV,_xlfn.XLOOKUP('Beregninger gj.strømming'!F8,Fiskevekt_VT_FV,'Veksttabell FV'!$B$5:$T$21,,-1),,-1)*G8,IF('Beregninger gj.strømming'!M8=Hjelpeark!$D$7,_xlfn.XLOOKUP(IF(T8="Naturlig",S8,T8),'Veksttabell SV'!$A$6:$A$22,_xlfn.XLOOKUP('Beregninger gj.strømming'!F8,'Veksttabell SV'!$B$5:$AU$5,'Veksttabell SV'!$B$6:$AU$22,,-1),,-1)*G8,""))} | I8: =IF(A8="","",E8*F8/1000) | J8: =IF(A8="","",I8/(L8/1000)/K8) | K8: =IF(A8="","",'Priseestimat gj.strømming'!$C$10) | L8: =IF(A8="","",'Priseestimat gj.strømming'!$C$11) | M8: =IF(A8="","",'Priseestimat gj.strømming'!$C$12) | N8: =IF($A8="","",'Priseestimat gj.strømming'!$C$6) | O8: {=IF(M8=Hjelpeark!$D$7,_xlfn.XLOOKUP(IF(T8="Naturlig",S8,T8),'Vannbehov SV'!$A$5:$A$13,_xlfn.XLOOKUP('Beregninger gj.strømming'!F8,'Vannbehov SV'!$B$4:$O$4,'Vannbehov SV'!$B$5:$O$13,,-1),,-1),IF(M8=Hjelpeark!$E$7,_xlfn.XLOOKUP(IF(T8="Naturlig",S8,T8),'Vannbehov FV'!$A$5:$A$20,_xlfn.XLOOKUP('Beregninger gj.strømming'!F8,'Vannbehov FV'!$B$4:$O$4,'Vannbehov FV'!$B$5:$O$20,,-1),,-1),""))} | P8: =IF(A8="","",15) | Q8: =IFERROR(IF(A8="","",IF(P8>I8/K8*O8,P8,I8/K8*O8)),"") | R8: =IF(A8="","",Q8*K8*1.44) | S8: =IFERROR(IF(M8=Hjelpeark!$D$7,_xlfn.XLOOKUP('Beregninger gj.strømming'!C8,Hjelpeark!$C$8:$C$19,Hjelpeark!$D$8:$D$19),_xlfn.XLOOKUP('Beregninger gj.strømming'!C8,Hjelpeark!$C$8:$C$19,Hjelpeark!$E$8:$E$19)),"") | T8: =IF(A8="","",T7) | U8: =IFERROR(IF(T8=Hjelpeark!$B$4,0,ABS(T8-S8)),"") | V8: =IFERROR(IF(A8="","",_xlfn.XLOOKUP(D8,Prisliste!$C$4:$F$4,Prisliste!$C$20:$F$20)),"") | W8: =IFERROR(U8*_xlfn.XLOOKUP(D8,Prisliste!$C$4:$F$4,Prisliste!$C$21:$F$21),"") | X8: =IFERROR(IF(A8="","",IF(N8="Ja",_xlfn.XLOOKUP('Beregninger gj.strømming'!D8,Prisliste!$C$4:$F$4,Prisliste!$C$24:$F$24),0)),"") | Y8: =IF(SUM(V8:X8)=0,"",SUM(V8:X8)) | Z8: =IF(A8="","",V8*R8) | AA8: =IFERROR(IF($A$4="","",W8*$R8),"") | AB8: =IFERROR(IF($A$4="","",X8*$R8),"") | AC8: =IFERROR(R8*Y8,"") | AD8: =K8 | AF8: =IFERROR(_xlfn.XLOOKUP(D8,Prisliste!$C$4:$F$4,Prisliste!$C$19:$F$19)*AD8,"")
A9: =IF(A8="","",IF(A8+1<=f_slutt,'Beregninger gj.strømming'!A8+1,"")) | B9: =IFERROR(_xlfn.ISOWEEKNUM(A9),"") | C9: =IFERROR(MONTH(A9),"") | D9: =IFERROR(YEAR(A9),"") | E9: =IFERROR(IF(A9="","",E8),"") | F9: =IF(A9="","",F8+(F8*H8/100)) | G9: =IF($A9="","",'Priseestimat gj.strømming'!$C$15) | H9: {=IF(M9=Hjelpeark!$E$7,_xlfn.XLOOKUP(IF(T9="Naturlig",S9,T9),Temp_VT_FV,_xlfn.XLOOKUP('Beregninger gj.strømming'!F9,Fiskevekt_VT_FV,'Veksttabell FV'!$B$5:$T$21,,-1),,-1)*G9,IF('Beregninger gj.strømming'!M9=Hjelpeark!$D$7,_xlfn.XLOOKUP(IF(T9="Naturlig",S9,T9),'Veksttabell SV'!$A$6:$A$22,_xlfn.XLOOKUP('Beregninger gj.strømming'!F9,'Veksttabell SV'!$B$5:$AU$5,'Veksttabell SV'!$B$6:$AU$22,,-1),,-1)*G9,""))} | I9: =IF(A9="","",E9*F9/1000) | J9: =IF(A9="","",I9/(L9/1000)/K9) | K9: =IF(A9="","",'Priseestimat gj.strømming'!$C$10) | L9: =IF(A9="","",'Priseestimat gj.strømming'!$C$11) | M9: =IF(A9="","",'Priseestimat gj.strømming'!$C$12) | N9: =IF($A9="","",'Priseestimat gj.strømming'!$C$6) | O9: {=IF(M9=Hjelpeark!$D$7,_xlfn.XLOOKUP(IF(T9="Naturlig",S9,T9),'Vannbehov SV'!$A$5:$A$13,_xlfn.XLOOKUP('Beregninger gj.strømming'!F9,'Vannbehov SV'!$B$4:$O$4,'Vannbehov SV'!$B$5:$O$13,,-1),,-1),IF(M9=Hjelpeark!$E$7,_xlfn.XLOOKUP(IF(T9="Naturlig",S9,T9),'Vannbehov FV'!$A$5:$A$20,_xlfn.XLOOKUP('Beregninger gj.strømming'!F9,'Vannbehov FV'!$B$4:$O$4,'Vannbehov FV'!$B$5:$O$20,,-1),,-1),""))} | P9: =IF(A9="","",15) | Q9: =IFERROR(IF(A9="","",IF(P9>I9/K9*O9,P9,I9/K9*O9)),"") | R9: =IF(A9="","",Q9*K9*1.44) | S9: =IFERROR(IF(M9=Hjelpeark!$D$7,_xlfn.XLOOKUP('Beregninger gj.strømming'!C9,Hjelpeark!$C$8:$C$19,Hjelpeark!$D$8:$D$19),_xlfn.XLOOKUP('Beregninger gj.strømming'!C9,Hjelpeark!$C$8:$C$19,Hjelpeark!$E$8:$E$19)),"") | T9: =IF(A9="","",T8) | U9: =IFERROR(IF(T9=Hjelpeark!$B$4,0,ABS(T9-S9)),"") | V9: =IFERROR(IF(A9="","",_xlfn.XLOOKUP(D9,Prisliste!$C$4:$F$4,Prisliste!$C$20:$F$20)),"") | W9: =IFERROR(U9*_xlfn.XLOOKUP(D9,Prisliste!$C$4:$F$4,Prisliste!$C$21:$F$21),"") | X9: =IFERROR(IF(A9="","",IF(N9="Ja",_xlfn.XLOOKUP('Beregninger gj.strømming'!D9,Prisliste!$C$4:$F$4,Prisliste!$C$24:$F$24),0)),"") | Y9: =IF(SUM(V9:X9)=0,"",SUM(V9:X9)) | Z9: =IF(A9="","",V9*R9) | AA9: =IFERROR(IF($A$4="","",W9*$R9),"") | AB9: =IFERROR(IF($A$4="","",X9*$R9),"") | AC9: =IFERROR(R9*Y9,"") | AD9: =K9 | AF9: =IFERROR(_xlfn.XLOOKUP(D9,Prisliste!$C$4:$F$4,Prisliste!$C$19:$F$19)*AD9,"")
A10: =IF(A9="","",IF(A9+1<=f_slutt,'Beregninger gj.strømming'!A9+1,"")) | B10: =IFERROR(_xlfn.ISOWEEKNUM(A10),"") | C10: =IFERROR(MONTH(A10),"") | D10: =IFERROR(YEAR(A10),"") | E10: =IFERROR(IF(A10="","",E9),"") | F10: =IF(A10="","",F9+(F9*H9/100)) | G10: =IF($A10="","",'Priseestimat gj.strømming'!$C$15) | H10: {=IF(M10=Hjelpeark!$E$7,_xlfn.XLOOKUP(IF(T10="Naturlig",S10,T10),Temp_VT_FV,_xlfn.XLOOKUP('Beregninger gj.strømming'!F10,Fiskevekt_VT_FV,'Veksttabell FV'!$B$5:$T$21,,-1),,-1)*G10,IF('Beregninger gj.strømming'!M10=Hjelpeark!$D$7,_xlfn.XLOOKUP(IF(T10="Naturlig",S10,T10),'Veksttabell SV'!$A$6:$A$22,_xlfn.XLOOKUP('Beregninger gj.strømming'!F10,'Veksttabell SV'!$B$5:$AU$5,'Veksttabell SV'!$B$6:$AU$22,,-1),,-1)*G10,""))} | I10: =IF(A10="","",E10*F10/1000) | J10: =IF(A10="","",I10/(L10/1000)/K10) | K10: =IF(A10="","",'Priseestimat gj.strømming'!$C$10) | L10: =IF(A10="","",'Priseestimat gj.strømming'!$C$11) | M10: =IF(A10="","",'Priseestimat gj.strømming'!$C$12) | N10: =IF($A10="","",'Priseestimat gj.strømming'!$C$6) | O10: {=IF(M10=Hjelpeark!$D$7,_xlfn.XLOOKUP(IF(T10="Naturlig",S10,T10),'Vannbehov SV'!$A$5:$A$13,_xlfn.XLOOKUP('Beregninger gj.strømming'!F10,'Vannbehov SV'!$B$4:$O$4,'Vannbehov SV'!$B$5:$O$13,,-1),,-1),IF(M10=Hjelpeark!$E$7,_xlfn.XLOOKUP(IF(T10="Naturlig",S10,T10),'Vannbehov FV'!$A$5:$A$20,_xlfn.XLOOKUP('Beregninger gj.strømming'!F10,'Vannbehov FV'!$B$4:$O$4,'Vannbehov FV'!$B$5:$O$20,,-1),,-1),""))} | P10: =IF(A10="","",15) | Q10: =IFERROR(IF(A10="","",IF(P10>I10/K10*O10,P10,I10/K10*O10)),"") | R10: =IF(A10="","",Q10*K10*1.44) | S10: =IFERROR(IF(M10=Hjelpeark!$D$7,_xlfn.XLOOKUP('Beregninger gj.strømming'!C10,Hjelpeark!$C$8:$C$19,Hjelpeark!$D$8:$D$19),_xlfn.XLOOKUP('Beregninger gj.strømming'!C10,Hjelpeark!$C$8:$C$19,Hjelpeark!$E$8:$E$19)),"") | T10: =IF(A10="","",T9) | U10: =IFERROR(IF(T10=Hjelpeark!$B$4,0,ABS(T10-S10)),"") | V10: =IFERROR(IF(A10="","",_xlfn.XLOOKUP(D10,Prisliste!$C$4:$F$4,Prisliste!$C$20:$F$20)),"") | W10: =IFERROR(U10*_xlfn.XLOOKUP(D10,Prisliste!$C$4:$F$4,Prisliste!$C$21:$F$21),"") | X10: =IFERROR(IF(A10="","",IF(N10="Ja",_xlfn.XLOOKUP('Beregninger gj.strømming'!D10,Prisliste!$C$4:$F$4,Prisliste!$C$24:$F$24),0)),"") | Y10: =IF(SUM(V10:X10)=0,"",SUM(V10:X10)) | Z10: =IF(A10="","",V10*R10) | AA10: =IFERROR(IF($A$4="","",W10*$R10),"") | AB10: =IFERROR(IF($A$4="","",X10*$R10),"") | AC10: =IFERROR(R10*Y10,"") | AD10: =K10 | AF10: =IFERROR(_xlfn.XLOOKUP(D10,Prisliste!$C$4:$F$4,Prisliste!$C$19:$F$19)*AD10,"")
A11: =IF(A10="","",IF(A10+1<=f_slutt,'Beregninger gj.strømming'!A10+1,"")) | B11: =IFERROR(_xlfn.ISOWEEKNUM(A11),"") | C11: =IFERROR(MONTH(A11),"") | D11: =IFERROR(YEAR(A11),"") | E11: =IFERROR(IF(A11="","",E10),"") | F11: =IF(A11="","",F10+(F10*H10/100)) | G11: =IF($A11="","",'Priseestimat gj.strømming'!$C$15) | H11: {=IF(M11=Hjelpeark!$E$7,_xlfn.XLOOKUP(IF(T11="Naturlig",S11,T11),Temp_VT_FV,_xlfn.XLOOKUP('Beregninger gj.strømming'!F11,Fiskevekt_VT_FV,'Veksttabell FV'!$B$5:$T$21,,-1),,-1)*G11,IF('Beregninger gj.strømming'!M11=Hjelpeark!$D$7,_xlfn.XLOOKUP(IF(T11="Naturlig",S11,T11),'Veksttabell SV'!$A$6:$A$22,_xlfn.XLOOKUP('Beregninger gj.strømming'!F11,'Veksttabell SV'!$B$5:$AU$5,'Veksttabell SV'!$B$6:$AU$22,,-1),,-1)*G11,""))} | I11: =IF(A11="","",E11*F11/1000) | J11: =IF(A11="","",I11/(L11/1000)/K11) | K11: =IF(A11="","",'Priseestimat gj.strømming'!$C$10) | L11: =IF(A11="","",'Priseestimat gj.strømming'!$C$11) | M11: =IF(A11="","",'Priseestimat gj.strømming'!$C$12) | N11: =IF($A11="","",'Priseestimat gj.strømming'!$C$6) | O11: {=IF(M11=Hjelpeark!$D$7,_xlfn.XLOOKUP(IF(T11="Naturlig",S11,T11),'Vannbehov SV'!$A$5:$A$13,_xlfn.XLOOKUP('Beregninger gj.strømming'!F11,'Vannbehov SV'!$B$4:$O$4,'Vannbehov SV'!$B$5:$O$13,,-1),,-1),IF(M11=Hjelpeark!$E$7,_xlfn.XLOOKUP(IF(T11="Naturlig",S11,T11),'Vannbehov FV'!$A$5:$A$20,_xlfn.XLOOKUP('Beregninger gj.strømming'!F11,'Vannbehov FV'!$B$4:$O$4,'Vannbehov FV'!$B$5:$O$20,,-1),,-1),""))} | P11: =IF(A11="","",15) | Q11: =IFERROR(IF(A11="","",IF(P11>I11/K11*O11,P11,I11/K11*O11)),"") | R11: =IF(A11="","",Q11*K11*1.44) | S11: =IFERROR(IF(M11=Hjelpeark!$D$7,_xlfn.XLOOKUP('Beregninger gj.strømming'!C11,Hjelpeark!$C$8:$C$19,Hjelpeark!$D$8:$D$19),_xlfn.XLOOKUP('Beregninger gj.strømming'!C11,Hjelpeark!$C$8:$C$19,Hjelpeark!$E$8:$E$19)),"") | T11: =IF(A11="","",T10) | U11: =IFERROR(IF(T11=Hjelpeark!$B$4,0,ABS(T11-S11)),"") | V11: =IFERROR(IF(A11="","",_xlfn.XLOOKUP(D11,Prisliste!$C$4:$F$4,Prisliste!$C$20:$F$20)),"") | W11: =IFERROR(U11*_xlfn.XLOOKUP(D11,Prisliste!$C$4:$F$4,Prisliste!$C$21:$F$21),"") | X11: =IFERROR(IF(A11="","",IF(N11="Ja",_xlfn.XLOOKUP('Beregninger gj.strømming'!D11,Prisliste!$C$4:$F$4,Prisliste!$C$24:$F$24),0)),"") | Y11: =IF(SUM(V11:X11)=0,"",SUM(V11:X11)) | Z11: =IF(A11="","",V11*R11) | AA11: =IFERROR(IF($A$4="","",W11*$R11),"") | AB11: =IFERROR(IF($A$4="","",X11*$R11),"") | AC11: =IFERROR(R11*Y11,"") | AD11: =K11 | AF11: =IFERROR(_xlfn.XLOOKUP(D11,Prisliste!$C$4:$F$4,Prisliste!$C$19:$F$19)*AD11,"")
A12: =IF(A11="","",IF(A11+1<=f_slutt,'Beregninger gj.strømming'!A11+1,"")) | B12: =IFERROR(_xlfn.ISOWEEKNUM(A12),"") | C12: =IFERROR(MONTH(A12),"") | D12: =IFERROR(YEAR(A12),"") | E12: =IFERROR(IF(A12="","",E11),"") | F12: =IF(A12="","",F11+(F11*H11/100)) | G12: =IF($A12="","",'Priseestimat gj.strømming'!$C$15) | H12: {=IF(M12=Hjelpeark!$E$7,_xlfn.XLOOKUP(IF(T12="Naturlig",S12,T12),Temp_VT_FV,_xlfn.XLOOKUP('Beregninger gj.strømming'!F12,Fiskevekt_VT_FV,'Veksttabell FV'!$B$5:$T$21,,-1),,-1)*G12,IF('Beregninger gj.strømming'!M12=Hjelpeark!$D$7,_xlfn.XLOOKUP(IF(T12="Naturlig",S12,T12),'Veksttabell SV'!$A$6:$A$22,_xlfn.XLOOKUP('Beregninger gj.strømming'!F12,'Veksttabell SV'!$B$5:$AU$5,'Veksttabell SV'!$B$6:$AU$22,,-1),,-1)*G12,""))} | I12: =IF(A12="","",E12*F12/1000) | J12: =IF(A12="","",I12/(L12/1000)/K12) | K12: =IF(A12="","",'Priseestimat gj.strømming'!$C$10) | L12: =IF(A12="","",'Priseestimat gj.strømming'!$C$11) | M12: =IF(A12="","",'Priseestimat gj.strømming'!$C$12) | N12: =IF($A12="","",'Priseestimat gj.strømming'!$C$6) | O12: {=IF(M12=Hjelpeark!$D$7,_xlfn.XLOOKUP(IF(T12="Naturlig",S12,T12),'Vannbehov SV'!$A$5:$A$13,_xlfn.XLOOKUP('Beregninger gj.strømming'!F12,'Vannbehov SV'!$B$4:$O$4,'Vannbehov SV'!$B$5:$O$13,,-1),,-1),IF(M12=Hjelpeark!$E$7,_xlfn.XLOOKUP(IF(T12="Naturlig",S12,T12),'Vannbehov FV'!$A$5:$A$20,_xlfn.XLOOKUP('Beregninger gj.strømming'!F12,'Vannbehov FV'!$B$4:$O$4,'Vannbehov FV'!$B$5:$O$20,,-1),,-1),""))} | P12: =IF(A12="","",15) | Q12: =IFERROR(IF(A12="","",IF(P12>I12/K12*O12,P12,I12/K12*O12)),"") | R12: =IF(A12="","",Q12*K12*1.44) | S12: =IFERROR(IF(M12=Hjelpeark!$D$7,_xlfn.XLOOKUP('Beregninger gj.strømming'!C12,Hjelpeark!$C$8:$C$19,Hjelpeark!$D$8:$D$19),_xlfn.XLOOKUP('Beregninger gj.strømming'!C12,Hjelpeark!$C$8:$C$19,Hjelpeark!$E$8:$E$19)),"") | T12: =IF(A12="","",T11) | U12: =IFERROR(IF(T12=Hjelpeark!$B$4,0,ABS(T12-S12)),"") | V12: =IFERROR(IF(A12="","",_xlfn.XLOOKUP(D12,Prisliste!$C$4:$F$4,Prisliste!$C$20:$F$20)),"") | W12: =IFERROR(U12*_xlfn.XLOOKUP(D12,Prisliste!$C$4:$F$4,Prisliste!$C$21:$F$21),"") | X12: =IFERROR(IF(A12="","",IF(N12="Ja",_xlfn.XLOOKUP('Beregninger gj.strømming'!D12,Prisliste!$C$4:$F$4,Prisliste!$C$24:$F$24),0)),"") | Y12: =IF(SUM(V12:X12)=0,"",SUM(V12:X12)) | Z12: =IF(A12="","",V12*R12) | AA12: =IFERROR(IF($A$4="","",W12*$R12),"") | AB12: =IFERROR(IF($A$4="","",X12*$R12),"") | AC12: =IFERROR(R12*Y12,"") | AD12: =K12 | AF12: =IFERROR(_xlfn.XLOOKUP(D12,Prisliste!$C$4:$F$4,Prisliste!$C$19:$F$19)*AD12,"")
A13: =IF(A12="","",IF(A12+1<=f_slutt,'Beregninger gj.strømming'!A12+1,"")) | B13: =IFERROR(_xlfn.ISOWEEKNUM(A13),"") | C13: =IFERROR(MONTH(A13),"") | D13: =IFERROR(YEAR(A13),"") | E13: =IFERROR(IF(A13="","",E12),"") | F13: =IF(A13="","",F12+(F12*H12/100)) | G13: =IF($A13="","",'Priseestimat gj.strømming'!$C$15) | H13: {=IF(M13=Hjelpeark!$E$7,_xlfn.XLOOKUP(IF(T13="Naturlig",S13,T13),Temp_VT_FV,_xlfn.XLOOKUP('Beregninger gj.strømming'!F13,Fiskevekt_VT_FV,'Veksttabell FV'!$B$5:$T$21,,-1),,-1)*G13,IF('Beregninger gj.strømming'!M13=Hjelpeark!$D$7,_xlfn.XLOOKUP(IF(T13="Naturlig",S13,T13),'Veksttabell SV'!$A$6:$A$22,_xlfn.XLOOKUP('Beregninger gj.strømming'!F13,'Veksttabell SV'!$B$5:$AU$5,'Veksttabell SV'!$B$6:$AU$22,,-1),,-1)*G13,""))} | I13: =IF(A13="","",E13*F13/1000) | J13: =IF(A13="","",I13/(L13/1000)/K13) | K13: =IF(A13="","",'Priseestimat gj.strømming'!$C$10) | L13: =IF(A13="","",'Priseestimat gj.strømming'!$C$11) | M13: =IF(A13="","",'Priseestimat gj.strømming'!$C$12) | N13: =IF($A13="","",'Priseestimat gj.strømming'!$C$6) | O13: {=IF(M13=Hjelpeark!$D$7,_xlfn.XLOOKUP(IF(T13="Naturlig",S13,T13),'Vannbehov SV'!$A$5:$A$13,_xlfn.XLOOKUP('Beregninger gj.strømming'!F13,'Vannbehov SV'!$B$4:$O$4,'Vannbehov SV'!$B$5:$O$13,,-1),,-1),IF(M13=Hjelpeark!$E$7,_xlfn.XLOOKUP(IF(T13="Naturlig",S13,T13),'Vannbehov FV'!$A$5:$A$20,_xlfn.XLOOKUP('Beregninger gj.strømming'!F13,'Vannbehov FV'!$B$4:$O$4,'Vannbehov FV'!$B$5:$O$20,,-1),,-1),""))} | P13: =IF(A13="","",15) | Q13: =IFERROR(IF(A13="","",IF(P13>I13/K13*O13,P13,I13/K13*O13)),"") | R13: =IF(A13="","",Q13*K13*1.44) | S13: =IFERROR(IF(M13=Hjelpeark!$D$7,_xlfn.XLOOKUP('Beregninger gj.strømming'!C13,Hjelpeark!$C$8:$C$19,Hjelpeark!$D$8:$D$19),_xlfn.XLOOKUP('Beregninger gj.strømming'!C13,Hjelpeark!$C$8:$C$19,Hjelpeark!$E$8:$E$19)),"") | T13: =IF(A13="","",T12) | U13: =IFERROR(IF(T13=Hjelpeark!$B$4,0,ABS(T13-S13)),"") | V13: =IFERROR(IF(A13="","",_xlfn.XLOOKUP(D13,Prisliste!$C$4:$F$4,Prisliste!$C$20:$F$20)),"") | W13: =IFERROR(U13*_xlfn.XLOOKUP(D13,Prisliste!$C$4:$F$4,Prisliste!$C$21:$F$21),"") | X13: =IFERROR(IF(A13="","",IF(N13="Ja",_xlfn.XLOOKUP('Beregninger gj.strømming'!D13,Prisliste!$C$4:$F$4,Prisliste!$C$24:$F$24),0)),"") | Y13: =IF(SUM(V13:X13)=0,"",SUM(V13:X13)) | Z13: =IF(A13="","",V13*R13) | AA13: =IFERROR(IF($A$4="","",W13*$R13),"") | AB13: =IFERROR(IF($A$4="","",X13*$R13),"") | AC13: =IFERROR(R13*Y13,"") | AD13: =K13 | AF13: =IFERROR(_xlfn.XLOOKUP(D13,Prisliste!$C$4:$F$4,Prisliste!$C$19:$F$19)*AD13,"")
A14: =IF(A13="","",IF(A13+1<=f_slutt,'Beregninger gj.strømming'!A13+1,"")) | B14: =IFERROR(_xlfn.ISOWEEKNUM(A14),"") | C14: =IFERROR(MONTH(A14),"") | D14: =IFERROR(YEAR(A14),"") | E14: =IFERROR(IF(A14="","",E13),"") | F14: =IF(A14="","",F13+(F13*H13/100)) | G14: =IF($A14="","",'Priseestimat gj.strømming'!$C$15) | H14: {=IF(M14=Hjelpeark!$E$7,_xlfn.XLOOKUP(IF(T14="Naturlig",S14,T14),Temp_VT_FV,_xlfn.XLOOKUP('Beregninger gj.strømming'!F14,Fiskevekt_VT_FV,'Veksttabell FV'!$B$5:$T$21,,-1),,-1)*G14,IF('Beregninger gj.strømming'!M14=Hjelpeark!$D$7,_xlfn.XLOOKUP(IF(T14="Naturlig",S14,T14),'Veksttabell SV'!$A$6:$A$22,_xlfn.XLOOKUP('Beregninger gj.strømming'!F14,'Veksttabell SV'!$B$5:$AU$5,'Veksttabell SV'!$B$6:$AU$22,,-1),,-1)*G14,""))} | I14: =IF(A14="","",E14*F14/1000) | J14: =IF(A14="","",I14/(L14/1000)/K14) | K14: =IF(A14="","",'Priseestimat gj.strømming'!$C$10) | L14: =IF(A14="","",'Priseestimat gj.strømming'!$C$11) | M14: =IF(A14="","",'Priseestimat gj.strømming'!$C$12) | N14: =IF($A14="","",'Priseestimat gj.strømming'!$C$6) | O14: {=IF(M14=Hjelpeark!$D$7,_xlfn.XLOOKUP(IF(T14="Naturlig",S14,T14),'Vannbehov SV'!$A$5:$A$13,_xlfn.XLOOKUP('Beregninger gj.strømming'!F14,'Vannbehov SV'!$B$4:$O$4,'Vannbehov SV'!$B$5:$O$13,,-1),,-1),IF(M14=Hjelpeark!$E$7,_xlfn.XLOOKUP(IF(T14="Naturlig",S14,T14),'Vannbehov FV'!$A$5:$A$20,_xlfn.XLOOKUP('Beregninger gj.strømming'!F14,'Vannbehov FV'!$B$4:$O$4,'Vannbehov FV'!$B$5:$O$20,,-1),,-1),""))} | P14: =IF(A14="","",15) | Q14: =IFERROR(IF(A14="","",IF(P14>I14/K14*O14,P14,I14/K14*O14)),"") | R14: =IF(A14="","",Q14*K14*1.44) | S14: =IFERROR(IF(M14=Hjelpeark!$D$7,_xlfn.XLOOKUP('Beregninger gj.strømming'!C14,Hjelpeark!$C$8:$C$19,Hjelpeark!$D$8:$D$19),_xlfn.XLOOKUP('Beregninger gj.strømming'!C14,Hjelpeark!$C$8:$C$19,Hjelpeark!$E$8:$E$19)),"") | T14: =IF(A14="","",T13) | U14: =IFERROR(IF(T14=Hjelpeark!$B$4,0,ABS(T14-S14)),"") | V14: =IFERROR(IF(A14="","",_xlfn.XLOOKUP(D14,Prisliste!$C$4:$F$4,Prisliste!$C$20:$F$20)),"") | W14: =IFERROR(U14*_xlfn.XLOOKUP(D14,Prisliste!$C$4:$F$4,Prisliste!$C$21:$F$21),"") | X14: =IFERROR(IF(A14="","",IF(N14="Ja",_xlfn.XLOOKUP('Beregninger gj.strømming'!D14,Prisliste!$C$4:$F$4,Prisliste!$C$24:$F$24),0)),"") | Y14: =IF(SUM(V14:X14)=0,"",SUM(V14:X14)) | Z14: =IF(A14="","",V14*R14) | AA14: =IFERROR(IF($A$4="","",W14*$R14),"") | AB14: =IFERROR(IF($A$4="","",X14*$R14),"") | AC14: =IFERROR(R14*Y14,"") | AD14: =K14 | AF14: =IFERROR(_xlfn.XLOOKUP(D14,Prisliste!$C$4:$F$4,Prisliste!$C$19:$F$19)*AD14,"")
A15: =IF(A14="","",IF(A14+1<=f_slutt,'Beregninger gj.strømming'!A14+1,"")) | B15: =IFERROR(_xlfn.ISOWEEKNUM(A15),"") | C15: =IFERROR(MONTH(A15),"") | D15: =IFERROR(YEAR(A15),"") | E15: =IFERROR(IF(A15="","",E14),"") | F15: =IF(A15="","",F14+(F14*H14/100)) | G15: =IF($A15="","",'Priseestimat gj.strømming'!$C$15) | H15: {=IF(M15=Hjelpeark!$E$7,_xlfn.XLOOKUP(IF(T15="Naturlig",S15,T15),Temp_VT_FV,_xlfn.XLOOKUP('Beregninger gj.strømming'!F15,Fiskevekt_VT_FV,'Veksttabell FV'!$B$5:$T$21,,-1),,-1)*G15,IF('Beregninger gj.strømming'!M15=Hjelpeark!$D$7,_xlfn.XLOOKUP(IF(T15="Naturlig",S15,T15),'Veksttabell SV'!$A$6:$A$22,_xlfn.XLOOKUP('Beregninger gj.strømming'!F15,'Veksttabell SV'!$B$5:$AU$5,'Veksttabell SV'!$B$6:$AU$22,,-1),,-1)*G15,""))} | I15: =IF(A15="","",E15*F15/1000) | J15: =IF(A15="","",I15/(L15/1000)/K15) | K15: =IF(A15="","",'Priseestimat gj.strømming'!$C$10) | L15: =IF(A15="","",'Priseestimat gj.strømming'!$C$11) | M15: =IF(A15="","",'Priseestimat gj.strømming'!$C$12) | N15: =IF($A15="","",'Priseestimat gj.strømming'!$C$6) | O15: {=IF(M15=Hjelpeark!$D$7,_xlfn.XLOOKUP(IF(T15="Naturlig",S15,T15),'Vannbehov SV'!$A$5:$A$13,_xlfn.XLOOKUP('Beregninger gj.strømming'!F15,'Vannbehov SV'!$B$4:$O$4,'Vannbehov SV'!$B$5:$O$13,,-1),,-1),IF(M15=Hjelpeark!$E$7,_xlfn.XLOOKUP(IF(T15="Naturlig",S15,T15),'Vannbehov FV'!$A$5:$A$20,_xlfn.XLOOKUP('Beregninger gj.strømming'!F15,'Vannbehov FV'!$B$4:$O$4,'Vannbehov FV'!$B$5:$O$20,,-1),,-1),""))} | P15: =IF(A15="","",15) | Q15: =IFERROR(IF(A15="","",IF(P15>I15/K15*O15,P15,I15/K15*O15)),"") | R15: =IF(A15="","",Q15*K15*1.44) | S15: =IFERROR(IF(M15=Hjelpeark!$D$7,_xlfn.XLOOKUP('Beregninger gj.strømming'!C15,Hjelpeark!$C$8:$C$19,Hjelpeark!$D$8:$D$19),_xlfn.XLOOKUP('Beregninger gj.strømming'!C15,Hjelpeark!$C$8:$C$19,Hjelpeark!$E$8:$E$19)),"") | T15: =IF(A15="","",T14) | U15: =IFERROR(IF(T15=Hjelpeark!$B$4,0,ABS(T15-S15)),"") | V15: =IFERROR(IF(A15="","",_xlfn.XLOOKUP(D15,Prisliste!$C$4:$F$4,Prisliste!$C$20:$F$20)),"") | W15: =IFERROR(U15*_xlfn.XLOOKUP(D15,Prisliste!$C$4:$F$4,Prisliste!$C$21:$F$21),"") | X15: =IFERROR(IF(A15="","",IF(N15="Ja",_xlfn.XLOOKUP('Beregninger gj.strømming'!D15,Prisliste!$C$4:$F$4,Prisliste!$C$24:$F$24),0)),"") | Y15: =IF(SUM(V15:X15)=0,"",SUM(V15:X15)) | Z15: =IF(A15="","",V15*R15) | AA15: =IFERROR(IF($A$4="","",W15*$R15),"") | AB15: =IFERROR(IF($A$4="","",X15*$R15),"") | AC15: =IFERROR(R15*Y15,"") | AD15: =K15 | AF15: =IFERROR(_xlfn.XLOOKUP(D15,Prisliste!$C$4:$F$4,Prisliste!$C$19:$F$19)*AD15,"")
A16: =IF(A15="","",IF(A15+1<=f_slutt,'Beregninger gj.strømming'!A15+1,"")) | B16: =IFERROR(_xlfn.ISOWEEKNUM(A16),"") | C16: =IFERROR(MONTH(A16),"") | D16: =IFERROR(YEAR(A16),"") | E16: =IFERROR(IF(A16="","",E15),"") | F16: =IF(A16="","",F15+(F15*H15/100)) | G16: =IF($A16="","",'Priseestimat gj.strømming'!$C$15) | H16: {=IF(M16=Hjelpeark!$E$7,_xlfn.XLOOKUP(IF(T16="Naturlig",S16,T16),Temp_VT_FV,_xlfn.XLOOKUP('Beregninger gj.strømming'!F16,Fiskevekt_VT_FV,'Veksttabell FV'!$B$5:$T$21,,-1),,-1)*G16,IF('Beregninger gj.strømming'!M16=Hjelpeark!$D$7,_xlfn.XLOOKUP(IF(T16="Naturlig",S16,T16),'Veksttabell SV'!$A$6:$A$22,_xlfn.XLOOKUP('Beregninger gj.strømming'!F16,'Veksttabell SV'!$B$5:$AU$5,'Veksttabell SV'!$B$6:$AU$22,,-1),,-1)*G16,""))} | I16: =IF(A16="","",E16*F16/1000) | J16: =IF(A16="","",I16/(L16/1000)/K16) | K16: =IF(A16="","",'Priseestimat gj.strømming'!$C$10) | L16: =IF(A16="","",'Priseestimat gj.strømming'!$C$11) | M16: =IF(A16="","",'Priseestimat gj.strømming'!$C$12) | N16: =IF($A16="","",'Priseestimat gj.strømming'!$C$6) | O16: {=IF(M16=Hjelpeark!$D$7,_xlfn.XLOOKUP(IF(T16="Naturlig",S16,T16),'Vannbehov SV'!$A$5:$A$13,_xlfn.XLOOKUP('Beregninger gj.strømming'!F16,'Vannbehov SV'!$B$4:$O$4,'Vannbehov SV'!$B$5:$O$13,,-1),,-1),IF(M16=Hjelpeark!$E$7,_xlfn.XLOOKUP(IF(T16="Naturlig",S16,T16),'Vannbehov FV'!$A$5:$A$20,_xlfn.XLOOKUP('Beregninger gj.strømming'!F16,'Vannbehov FV'!$B$4:$O$4,'Vannbehov FV'!$B$5:$O$20,,-1),,-1),""))} | P16: =IF(A16="","",15) | Q16: =IFERROR(IF(A16="","",IF(P16>I16/K16*O16,P16,I16/K16*O16)),"") | R16: =IF(A16="","",Q16*K16*1.44) | S16: =IFERROR(IF(M16=Hjelpeark!$D$7,_xlfn.XLOOKUP('Beregninger gj.strømming'!C16,Hjelpeark!$C$8:$C$19,Hjelpeark!$D$8:$D$19),_xlfn.XLOOKUP('Beregninger gj.strømming'!C16,Hjelpeark!$C$8:$C$19,Hjelpeark!$E$8:$E$19)),"") | T16: =IF(A16="","",T15) | U16: =IFERROR(IF(T16=Hjelpeark!$B$4,0,ABS(T16-S16)),"") | V16: =IFERROR(IF(A16="","",_xlfn.XLOOKUP(D16,Prisliste!$C$4:$F$4,Prisliste!$C$20:$F$20)),"") | W16: =IFERROR(U16*_xlfn.XLOOKUP(D16,Prisliste!$C$4:$F$4,Prisliste!$C$21:$F$21),"") | X16: =IFERROR(IF(A16="","",IF(N16="Ja",_xlfn.XLOOKUP('Beregninger gj.strømming'!D16,Prisliste!$C$4:$F$4,Prisliste!$C$24:$F$24),0)),"") | Y16: =IF(SUM(V16:X16)=0,"",SUM(V16:X16)) | Z16: =IF(A16="","",V16*R16) | AA16: =IFERROR(IF($A$4="","",W16*$R16),"") | AB16: =IFERROR(IF($A$4="","",X16*$R16),"") | AC16: =IFERROR(R16*Y16,"") | AD16: =K16 | AF16: =IFERROR(_xlfn.XLOOKUP(D16,Prisliste!$C$4:$F$4,Prisliste!$C$19:$F$19)*AD16,"")
... A1100: =IF(A1099="","",IF(A1099+1<=f_slutt,'Beregninger gj.strømming'!A1099+1,"")) | B1100: =IFERROR(_xlfn.ISOWEEKNUM(A1100),"") | C1100: =IFERROR(MONTH(A1100),"") | D1100: =IFERROR(YEAR(A1100),"") | E1100: =IFERROR(IF(A1100="","",E1099),"") | F1100: =IF(A1100="","",F1099+(F1099*H1099/100)) | G1100: =IF($A1100="","",'Priseestimat gj.strømming'!$C$15) | H1100: {=IF(M1100=Hjelpeark!$E$7,_xlfn.XLOOKUP(IF(T1100="Naturlig",S1100,T1100),Temp_VT_FV,_xlfn.XLOOKUP('Beregninger gj.strømming'!F1100,Fiskevekt_VT_FV,'Veksttabell FV'!$B$5:$T$21,,-1),,-1)*G1100,IF('Beregninger gj.strømming'!M1100=Hjelpeark!$D$7,_xlfn.XLOOKUP(IF(T1100="Naturlig",S1100,T1100),'Veksttabell SV'!$A$6:$A$22,_xlfn.XLOOKUP('Beregninger gj.strømming'!F1100,'Veksttabell SV'!$B$5:$AU$5,'Veksttabell SV'!$B$6:$AU$22,,-1),,-1)*G1100,""))} | I1100: =IF(A1100="","",E1100*F1100/1000) | J1100: =IF(A1100="","",I1100/(L1100/1000)/K1100) | K1100: =IF(A1100="","",'Priseestimat gj.strømming'!$C$10) | L1100: =IF(A1100="","",'Priseestimat gj.strømming'!$C$11) | M1100: =IF(A1100="","",'Priseestimat gj.strømming'!$C$12) | N1100: =IF($A1100="","",'Priseestimat gj.strømming'!$C$6) | O1100: {=IF(M1100=Hjelpeark!$D$7,_xlfn.XLOOKUP(IF(T1100="Naturlig",S1100,T1100),'Vannbehov SV'!$A$5:$A$13,_xlfn.XLOOKUP('Beregninger gj.strømming'!F1100,'Vannbehov SV'!$B$4:$O$4,'Vannbehov SV'!$B$5:$O$13,,-1),,-1),IF(M1100=Hjelpeark!$E$7,_xlfn.XLOOKUP(IF(T1100="Naturlig",S1100,T1100),'Vannbehov FV'!$A$5:$A$20,_xlfn.XLOOKUP('Beregninger gj.strømming'!F1100,'Vannbehov FV'!$B$4:$O$4,'Vannbehov FV'!$B$5:$O$20,,-1),,-1),""))} | P1100: =IF(A1100="","",15) | Q1100: =IFERROR(IF(A1100="","",IF(P1100>I1100/K1100*O1100,P1100,I1100/K1100*O1100)),"") | R1100: =IF(A1100="","",Q1100*K1100*1.44) | S1100: =IFERROR(IF(M1100=Hjelpeark!$D$7,_xlfn.XLOOKUP('Beregninger gj.strømming'!C1100,Hjelpeark!$C$8:$C$19,Hjelpeark!$D$8:$D$19),_xlfn.XLOOKUP('Beregninger gj.strømming'!C1100,Hjelpeark!$C$8:$C$19,Hjelpeark!$E$8:$E$19)),"") | T1100: =IF(A1100="","",T1099) | U1100: =IFERROR(IF(T1100=Hjelpeark!$B$4,0,ABS(T1100-S1100)),"") | V1100: =IFERROR(IF(A1100="","",_xlfn.XLOOKUP(D1100,Prisliste!$C$4:$F$4,Prisliste!$C$20:$F$20)),"") | W1100: =IFERROR(U1100*_xlfn.XLOOKUP(D1100,Prisliste!$C$4:$F$4,Prisliste!$C$21:$F$21),"") | X1100: =IFERROR(IF(A1100="","",IF(N1100="Ja",_xlfn.XLOOKUP('Beregninger gj.strømming'!D1100,Prisliste!$C$4:$F$4,Prisliste!$C$24:$F$24),0)),"") | Y1100: =IF(SUM(V1100:X1100)=0,"",SUM(V1100:X1100)) | Z1100: =IF(A1100="","",V1100*R1100) | AA1100: =IFERROR(IF($A$4="","",W1100*$R1100),"") | AB1100: =IFERROR(IF($A$4="","",X1100*$R1100),"") | AC1100: =IFERROR(R1100*Y1100,"") | AD1100: =K1100 | AF1100: =IFERROR(_xlfn.XLOOKUP(D1100,Prisliste!$C$4:$F$4,Prisliste!$C$19:$F$19)*AD1100,"")

Sheet Prisestimat RAS
C1: Prisestimat for forsøk i resirkuleringssystem (RAS)
B3: Forsøksoppsett | C3: Verdi | D3: Grenseverdier | G3: Bruk av regnearket
D4: Min | E4: Maks
B5: Kunde | G5: - Prisestimat for rigging, karleie og energi til resirkulering
B6: Startdato (dd.mm.åå) | G6: - Det kan kun legges inn data i hvite celler og alle hvite celler må fylles ut for at regnearket skal fungere.
B7: Sluttdato (dd.mm.åå) | G7: - Det benyttes to RAS-moduler i estimatet for RASforsk 9000 l
B8: Ant. døgn | C8: =IF(C6="","",C7-C6+1) | G8: - Veksttabellen Laks HiT representerer den tilveksten Havbruksstasjonen har erfart
B9: Antall kar | G9: - Ved smitteforsøk på Fiskehelselaboratoriet benyttes 70 % av veksttabelen
B10: RAS-system | G10: - Se fanen Beregninger RAS for detaljert oversikt
B11: Vannkvalitet
B12: Veksttabell | G12: Rigging | H12: ='Beregninger RAS'!S4
B13: Forsøkstemperatur | D13: =_xlfn.XLOOKUP($C$10,Hjelpeark!$G$35:$G$37,Hjelpeark!J35:J37,"") | E13: =_xlfn.XLOOKUP($C$10,Hjelpeark!$G$35:$G$37,Hjelpeark!K35:K37,"") | G13: Karleie | H13: =SUM('Beregninger RAS'!T:T) -> 0
B14: Justering av veksttabell | C14: =IF(C10="","",IF(C10=Hjelpeark!P14,0.7,1)) | G14: Energi til resirkulering | H14: =SUM('Beregninger RAS'!U:U) -> 0
B15: Antall fisk ved start
B16: Snittvekt start (g) | D16: =IF($C$11="","",IF($C$11=Hjelpeark!$H$15,'Veksttabell FV'!J23,'Veksttabell SV'!$N$24)) | E16: =IF($C$11="","",IF($C$11=Hjelpeark!$H$15,'Veksttabell FV'!K23,'Veksttabell SV'!$K$24)) | G16: Påslag | H16: 0.2
B17: Snittvekt slutt (g) | C17: =IFERROR(IF(C7="","",_xlfn.XLOOKUP(C7,'Beregninger RAS'!A:A,'Beregninger RAS'!F:F)),"")
B18: Tetthet start (kg/m3) | C18: =IFERROR(IF(C6="","",_xlfn.XLOOKUP(C6,'Beregninger RAS'!A:A,'Beregninger RAS'!J:J)),"") | D18: =_xlfn.XLOOKUP($C$10,Hjelpeark!$G$35:$G$37,Hjelpeark!$H$35:$H$37,"") | E18: =_xlfn.XLOOKUP($C$10,Hjelpeark!$G$35:$G$37,Hjelpeark!$I$35:$I$37,"") | G18: Prisestimat | H18: =IFERROR(IF(C5=Hjelpeark!G9,('Beregninger RAS'!S4+SUM('Beregninger RAS'!T:U)*1.25),'Beregninger RAS'!S4+SUM('Beregninger RAS'!T:U))+IF(C5=Hjelpeark!G9,('Beregninger RAS'!S4+SUM('Beregninger RAS'!T:U)*1.25),'Beregninger RAS'!S4+SUM('Beregninger RAS'!T:U))*H16,"")
B19: Tetthet slutt (kg/m3) | C19: =IFERROR(IF(C7="","",_xlfn.XLOOKUP(C7,'Beregninger RAS'!A:A,'Beregninger RAS'!J:J)),"") | D19: =_xlfn.XLOOKUP($C$10,Hjelpeark!$G$35:$G$37,Hjelpeark!$H$35:$H$37,"") | E19: =_xlfn.XLOOKUP($C$10,Hjelpeark!$G$35:$G$37,Hjelpeark!$I$35:$I$37,"")

Sheet Beregninger RAS
B1: Beregninger RAS
A2: Tid | E2: Tilvekst og biomasse | K2: Kar og vann | R2: Andre kostnader
A3: Dato | B3: Ukenr. | C3: Måned | D3: År | E3: Antall fisk | F3: Snittvekt (g) | G3: Justering av tilvekst (SGR) | H3: SGR (%) | I3: Biomasse (kg) | J3: Tetthet (kg/m3) | K3: Antall kar | L3: RAS-system | M3: Karvolum (liter) | N3: Vannkvalitet | O3: Råvanns-temperatur | P3: Forsøks-temperatur | Q3: ΔT | R3: Kardøgn | S3: Riggkostnad | T3: Karleie | U3: Resirkulering
A4: =IF('Prisestimat RAS'!C6="","",'Prisestimat RAS'!C6) | B4: =IFERROR(_xlfn.ISOWEEKNUM(A4),"") | C4: =IFERROR(MONTH(A4),"") | D4: =IFERROR(YEAR(A4),"") | E4: =IFERROR(IF(A4="","",'Prisestimat RAS'!C15),"") | F4: =IF(A4="","",'Prisestimat RAS'!$C$16) | G4: =IF($A4="","",'Prisestimat RAS'!$C$14) | H4: {=IF(N4=Hjelpeark!$E$7,_xlfn.XLOOKUP(IF(P4="Naturlig",O4,P4),'Veksttabell FV'!$A$26:$A$42,_xlfn.XLOOKUP('Beregninger RAS'!F4,'Veksttabell FV'!$B$25:$T$25,'Veksttabell FV'!$B$26:$T$42,,-1),,-1)*G4,IF('Beregninger RAS'!N4=Hjelpeark!$D$7,_xlfn.XLOOKUP(IF(P4="Naturlig",O4,P4),'Veksttabell SV'!$A$27:$A$43,_xlfn.XLOOKUP('Beregninger RAS'!F4,'Veksttabell SV'!$B$26:$AU$26,'Veksttabell SV'!$B$27:$AU$43,,-1),,-1)*G4,""))} | I4: =IF(A4="","",E4*F4/1000) | J4: =IF(A4="","",I4/(M4/1000)/K4) | K4: =IF(A4="","",'Prisestimat RAS'!$C$9) | L4: =IF(B4="","",'Prisestimat RAS'!$C$10) | M4: =IF(A4="","",_xlfn.XLOOKUP('Prisestimat RAS'!$C$10,Hjelpeark!$P$14:$P$16,Hjelpeark!$Q$14:$Q$16)) | N4: =IF(A4="","",'Prisestimat RAS'!C11) | O4: =IFERROR(IF(N4=Hjelpeark!$D$7,_xlfn.XLOOKUP('Beregninger RAS'!C4,Hjelpeark!$C$8:$C$19,Hjelpeark!$D$8:$D$19),_xlfn.XLOOKUP('Beregninger RAS'!C4,Hjelpeark!$C$8:$C$19,Hjelpeark!$E$8:$E$19)),"") | P4: =IF(A4="","",'Prisestimat RAS'!C13) | Q4: =IFERROR(IF(P4=Hjelpeark!$B$4,0,ABS(P4-O4)),"") | R4: =K4 | S4: =IFERROR(IF(L4=Hjelpeark!$P$14,_xlfn.XLOOKUP(D4,Prisliste!$C$4:$F$4,Prisliste!$C$25:$F$25)*R4,IF(L4=Hjelpeark!$P$15,_xlfn.XLOOKUP(D4,Prisliste!$C$4:$F$4,Prisliste!$C$26:$F$26)*R4,_xlfn.XLOOKUP(D4,Prisliste!$C$4:$F$4,Prisliste!$C$26:$F$26)*R4+_xlfn.XLOOKUP(D4,Prisliste!$C$4:$F$4,Prisliste!$C$27:$F$27)*R4)),"") | T4: =IFERROR(_xlfn.XLOOKUP(D4,Prisliste!$C$4:$F$4,Prisliste!$C$28:$F$28)*R4,"") | U4: =IFERROR(IF(L4=Hjelpeark!$P$14,_xlfn.XLOOKUP(D4,Prisliste!$C$4:$F$4,Prisliste!$C$29:$F$29)*R4,IF(L4=Hjelpeark!$P$15,_xlfn.XLOOKUP(D4,Prisliste!$C$4:$F$4,Prisliste!$C$30:$F$30)*R4,_xlfn.XLOOKUP(D4,Prisliste!$C$4:$F$4,Prisliste!$C$31:$F$31)*R4)),"")
A5: =IF(A4="","",IF(A4+1<='Prisestimat RAS'!$C$7,'Beregninger RAS'!A4+1,"")) | B5: =IFERROR(_xlfn.ISOWEEKNUM(A5),"") | C5: =IFERROR(MONTH(A5),"") | D5: =IFERROR(YEAR(A5),"") | E5: =IFERROR(IF(A5="","",E4),"") | F5: =IF(A5="","",F4+(F4*H4/100)) | G5: =IF($A5="","",'Prisestimat RAS'!$C$14) | H5: {=IF(N5=Hjelpeark!$E$7,_xlfn.XLOOKUP(IF(P5="Naturlig",O5,P5),'Veksttabell FV'!$A$26:$A$42,_xlfn.XLOOKUP('Beregninger RAS'!F5,'Veksttabell FV'!$B$25:$T$25,'Veksttabell FV'!$B$26:$T$42,,-1),,-1)*G5,IF('Beregninger RAS'!N5=Hjelpeark!$D$7,_xlfn.XLOOKUP(IF(P5="Naturlig",O5,P5),'Veksttabell SV'!$A$27:$A$43,_xlfn.XLOOKUP('Beregninger RAS'!F5,'Veksttabell SV'!$B$26:$AU$26,'Veksttabell SV'!$B$27:$AU$43,,-1),,-1)*G5,""))} | I5: =IF(A5="","",E5*F5/1000) | J5: =IF(A5="","",I5/(M5/1000)/K5) | K5: =IF(A5="","",'Prisestimat RAS'!$C$9) | L5: =IF(B5="","",'Prisestimat RAS'!$C$10) | M5: =IF(A5="","",_xlfn.XLOOKUP('Prisestimat RAS'!$C$10,Hjelpeark!$P$14:$P$16,Hjelpeark!$Q$14:$Q$16)) | N5: =IF(A5="","",N4) | O5: =IFERROR(IF(N5=Hjelpeark!$D$7,_xlfn.XLOOKUP('Beregninger RAS'!C5,Hjelpeark!$C$8:$C$19,Hjelpeark!$D$8:$D$19),_xlfn.XLOOKUP('Beregninger RAS'!C5,Hjelpeark!$C$8:$C$19,Hjelpeark!$E$8:$E$19)),"") | P5: =IF(A5="","",P4) | Q5: =IFERROR(IF(P5=Hjelpeark!$B$4,0,ABS(P5-O5)),"") | R5: =K5 | T5: =IFERROR(_xlfn.XLOOKUP(D5,Prisliste!$C$4:$F$4,Prisliste!$C$28:$F$28)*R5,"") | U5: =IFERROR(IF(L5=Hjelpeark!$P$14,_xlfn.XLOOKUP(D5,Prisliste!$C$4:$F$4,Prisliste!$C$29:$F$29)*R5,IF(L5=Hjelpeark!$P$15,_xlfn.XLOOKUP(D5,Prisliste!$C$4:$F$4,Prisliste!$C$30:$F$30)*R5,_xlfn.XLOOKUP(D5,Prisliste!$C$4:$F$4,Prisliste!$C$31:$F$31)*R5)),"")
A6: =IF(A5="","",IF(A5+1<='Prisestimat RAS'!$C$7,'Beregninger RAS'!A5+1,"")) | B6: =IFERROR(_xlfn.ISOWEEKNUM(A6),"") | C6: =IFERROR(MONTH(A6),"") | D6: =IFERROR(YEAR(A6),"") | E6: =IFERROR(IF(A6="","",E5),"") | F6: =IF(A6="","",F5+(F5*H5/100)) | G6: =IF($A6="","",'Prisestimat RAS'!$C$14) | H6: {=IF(N6=Hjelpeark!$E$7,_xlfn.XLOOKUP(IF(P6="Naturlig",O6,P6),'Veksttabell FV'!$A$26:$A$42,_xlfn.XLOOKUP('Beregninger RAS'!F6,'Veksttabell FV'!$B$25:$T$25,'Veksttabell FV'!$B$26:$T$42,,-1),,-1)*G6,IF('Beregninger RAS'!N6=Hjelpeark!$D$7,_xlfn.XLOOKUP(IF(P6="Naturlig",O6,P6),'Veksttabell SV'!$A$27:$A$43,_xlfn.XLOOKUP('Beregninger RAS'!F6,'Veksttabell SV'!$B$26:$AU$26,'Veksttabell SV'!$B$27:$AU$43,,-1),,-1)*G6,""))} | I6: =IF(A6="","",E6*F6/1000) | J6: =IF(A6="","",I6/(M6/1000)/K6) | K6: =IF(A6="","",'Prisestimat RAS'!$C$9) | L6: =IF(B6="","",'Prisestimat RAS'!$C$10) | M6: =IF(A6="","",_xlfn.XLOOKUP('Prisestimat RAS'!$C$10,Hjelpeark!$P$14:$P$16,Hjelpeark!$Q$14:$Q$16)) | N6: =IF(A6="","",N5) | O6: =IFERROR(IF(N6=Hjelpeark!$D$7,_xlfn.XLOOKUP('Beregninger RAS'!C6,Hjelpeark!$C$8:$C$19,Hjelpeark!$D$8:$D$19),_xlfn.XLOOKUP('Beregninger RAS'!C6,Hjelpeark!$C$8:$C$19,Hjelpeark!$E$8:$E$19)),"") | P6: =IF(A6="","",P5) | Q6: =IFERROR(IF(P6=Hjelpeark!$B$4,0,ABS(P6-O6)),"") | R6: =K6 | T6: =IFERROR(_xlfn.XLOOKUP(D6,Prisliste!$C$4:$F$4,Prisliste!$C$28:$F$28)*R6,"") | U6: =IFERROR(IF(L6=Hjelpeark!$P$14,_xlfn.XLOOKUP(D6,Prisliste!$C$4:$F$4,Prisliste!$C$29:$F$29)*R6,IF(L6=Hjelpeark!$P$15,_xlfn.XLOOKUP(D6,Prisliste!$C$4:$F$4,Prisliste!$C$30:$F$30)*R6,_xlfn.XLOOKUP(D6,Prisliste!$C$4:$F$4,Prisliste!$C$31:$F$31)*R6)),"")
A7: =IF(A6="","",IF(A6+1<='Prisestimat RAS'!$C$7,'Beregninger RAS'!A6+1,"")) | B7: =IFERROR(_xlfn.ISOWEEKNUM(A7),"") | C7: =IFERROR(MONTH(A7),"") | D7: =IFERROR(YEAR(A7),"") | E7: =IFERROR(IF(A7="","",E6),"") | F7: =IF(A7="","",F6+(F6*H6/100)) | G7: =IF($A7="","",'Prisestimat RAS'!$C$14) | H7: {=IF(N7=Hjelpeark!$E$7,_xlfn.XLOOKUP(IF(P7="Naturlig",O7,P7),'Veksttabell FV'!$A$26:$A$42,_xlfn.XLOOKUP('Beregninger RAS'!F7,'Veksttabell FV'!$B$25:$T$25,'Veksttabell FV'!$B$26:$T$42,,-1),,-1)*G7,IF('Beregninger RAS'!N7=Hjelpeark!$D$7,_xlfn.XLOOKUP(IF(P7="Naturlig",O7,P7),'Veksttabell SV'!$A$27:$A$43,_xlfn.XLOOKUP('Beregninger RAS'!F7,'Veksttabell SV'!$B$26:$AU$26,'Veksttabell SV'!$B$27:$AU$43,,-1),,-1)*G7,""))} | I7: =IF(A7="","",E7*F7/1000) | J7: =IF(A7="","",I7/(M7/1000)/K7) | K7: =IF(A7="","",'Prisestimat RAS'!$C$9) | L7: =IF(B7="","",'Prisestimat RAS'!$C$10) | M7: =IF(A7="","",_xlfn.XLOOKUP('Prisestimat RAS'!$C$10,Hjelpeark!$P$14:$P$16,Hjelpeark!$Q$14:$Q$16)) | N7: =IF(A7="","",N6) | O7: =IFERROR(IF(N7=Hjelpeark!$D$7,_xlfn.XLOOKUP('Beregninger RAS'!C7,Hjelpeark!$C$8:$C$19,Hjelpeark!$D$8:$D$19),_xlfn.XLOOKUP('Beregninger RAS'!C7,Hjelpeark!$C$8:$C$19,Hjelpeark!$E$8:$E$19)),"") | P7: =IF(A7="","",P6) | Q7: =IFERROR(IF(P7=Hjelpeark!$B$4,0,ABS(P7-O7)),"") | R7: =K7 | T7: =IFERROR(_xlfn.XLOOKUP(D7,Prisliste!$C$4:$F$4,Prisliste!$C$28:$F$28)*R7,"") | U7: =IFERROR(IF(L7=Hjelpeark!$P$14,_xlfn.XLOOKUP(D7,Prisliste!$C$4:$F$4,Prisliste!$C$29:$F$29)*R7,IF(L7=Hjelpeark!$P$15,_xlfn.XLOOKUP(D7,Prisliste!$C$4:$F$4,Prisliste!$C$30:$F$30)*R7,_xlfn.XLOOKUP(D7,Prisliste!$C$4:$F$4,Prisliste!$C$31:$F$31)*R7)),"")
A8: =IF(A7="","",IF(A7+1<='Prisestimat RAS'!$C$7,'Beregninger RAS'!A7+1,"")) | B8: =IFERROR(_xlfn.ISOWEEKNUM(A8),"") | C8: =IFERROR(MONTH(A8),"") | D8: =IFERROR(YEAR(A8),"") | E8: =IFERROR(IF(A8="","",E7),"") | F8: =IF(A8="","",F7+(F7*H7/100)) | G8: =IF($A8="","",'Prisestimat RAS'!$C$14) | H8: {=IF(N8=Hjelpeark!$E$7,_xlfn.XLOOKUP(IF(P8="Naturlig",O8,P8),'Veksttabell FV'!$A$26:$A$42,_xlfn.XLOOKUP('Beregninger RAS'!F8,'Veksttabell FV'!$B$25:$T$25,'Veksttabell FV'!$B$26:$T$42,,-1),,-1)*G8,IF('Beregninger RAS'!N8=Hjelpeark!$D$7,_xlfn.XLOOKUP(IF(P8="Naturlig",O8,P8),'Veksttabell SV'!$A$27:$A$43,_xlfn.XLOOKUP('Beregninger RAS'!F8,'Veksttabell SV'!$B$26:$AU$26,'Veksttabell SV'!$B$27:$AU$43,,-1),,-1)*G8,""))} | I8: =IF(A8="","",E8*F8/1000) | J8: =IF(A8="","",I8/(M8/1000)/K8) | K8: =IF(A8="","",'Prisestimat RAS'!$C$9) | L8: =IF(B8="","",'Prisestimat RAS'!$C$10) | M8: =IF(A8="","",_xlfn.XLOOKUP('Prisestimat RAS'!$C$10,Hjelpeark!$P$14:$P$16,Hjelpeark!$Q$14:$Q$16)) | N8: =IF(A8="","",N7) | O8: =IFERROR(IF(N8=Hjelpeark!$D$7,_xlfn.XLOOKUP('Beregninger RAS'!C8,Hjelpeark!$C$8:$C$19,Hjelpeark!$D$8:$D$19),_xlfn.XLOOKUP('Beregninger RAS'!C8,Hjelpeark!$C$8:$C$19,Hjelpeark!$E$8:$E$19)),"") | P8: =IF(A8="","",P7) | Q8: =IFERROR(IF(P8=Hjelpeark!$B$4,0,ABS(P8-O8)),"") | R8: =K8 | T8: =IFERROR(_xlfn.XLOOKUP(D8,Prisliste!$C$4:$F$4,Prisliste!$C$28:$F$28)*R8,"") | U8: =IFERROR(IF(L8=Hjelpeark!$P$14,_xlfn.XLOOKUP(D8,Prisliste!$C$4:$F$4,Prisliste!$C$29:$F$29)*R8,IF(L8=Hjelpeark!$P$15,_xlfn.XLOOKUP(D8,Prisliste!$C$4:$F$4,Prisliste!$C$30:$F$30)*R8,_xlfn.XLOOKUP(D8,Prisliste!$C$4:$F$4,Prisliste!$C$31:$F$31)*R8)),"")
A9: =IF(A8="","",IF(A8+1<='Prisestimat RAS'!$C$7,'Beregninger RAS'!A8+1,"")) | B9: =IFERROR(_xlfn.ISOWEEKNUM(A9),"") | C9: =IFERROR(MONTH(A9),"") | D9: =IFERROR(YEAR(A9),"") | E9: =IFERROR(IF(A9="","",E8),"") | F9: =IF(A9="","",F8+(F8*H8/100)) | G9: =IF($A9="","",'Prisestimat RAS'!$C$14) | H9: {=IF(N9=Hjelpeark!$E$7,_xlfn.XLOOKUP(IF(P9="Naturlig",O9,P9),'Veksttabell FV'!$A$26:$A$42,_xlfn.XLOOKUP('Beregninger RAS'!F9,'Veksttabell FV'!$B$25:$T$25,'Veksttabell FV'!$B$26:$T$42,,-1),,-1)*G9,IF('Beregninger RAS'!N9=Hjelpeark!$D$7,_xlfn.XLOOKUP(IF(P9="Naturlig",O9,P9),'Veksttabell SV'!$A$27:$A$43,_xlfn.XLOOKUP('Beregninger RAS'!F9,'Veksttabell SV'!$B$26:$AU$26,'Veksttabell SV'!$B$27:$AU$43,,-1),,-1)*G9,""))} | I9: =IF(A9="","",E9*F9/1000) | J9: =IF(A9="","",I9/(M9/1000)/K9) | K9: =IF(A9="","",'Prisestimat RAS'!$C$9) | L9: =IF(B9="","",'Prisestimat RAS'!$C$10) | M9: =IF(A9="","",_xlfn.XLOOKUP('Prisestimat RAS'!$C$10,Hjelpeark!$P$14:$P$16,Hjelpeark!$Q$14:$Q$16)) | N9: =IF(A9="","",N8) | O9: =IFERROR(IF(N9=Hjelpeark!$D$7,_xlfn.XLOOKUP('Beregninger RAS'!C9,Hjelpeark!$C$8:$C$19,Hjelpeark!$D$8:$D$19),_xlfn.XLOOKUP('Beregninger RAS'!C9,Hjelpeark!$C$8:$C$19,Hjelpeark!$E$8:$E$19)),"") | P9: =IF(A9="","",P8) | Q9: =IFERROR(IF(P9=Hjelpeark!$B$4,0,ABS(P9-O9)),"") | R9: =K9 | T9: =IFERROR(_xlfn.XLOOKUP(D9,Prisliste!$C$4:$F$4,Prisliste!$C$28:$F$28)*R9,"") | U9: =IFERROR(IF(L9=Hjelpeark!$P$14,_xlfn.XLOOKUP(D9,Prisliste!$C$4:$F$4,Prisliste!$C$29:$F$29)*R9,IF(L9=Hjelpeark!$P$15,_xlfn.XLOOKUP(D9,Prisliste!$C$4:$F$4,Prisliste!$C$30:$F$30)*R9,_xlfn.XLOOKUP(D9,Prisliste!$C$4:$F$4,Prisliste!$C$31:$F$31)*R9)),"")
A10: =IF(A9="","",IF(A9+1<='Prisestimat RAS'!$C$7,'Beregninger RAS'!A9+1,"")) | B10: =IFERROR(_xlfn.ISOWEEKNUM(A10),"") | C10: =IFERROR(MONTH(A10),"") | D10: =IFERROR(YEAR(A10),"") | E10: =IFERROR(IF(A10="","",E9),"") | F10: =IF(A10="","",F9+(F9*H9/100)) | G10: =IF($A10="","",'Prisestimat RAS'!$C$14) | H10: {=IF(N10=Hjelpeark!$E$7,_xlfn.XLOOKUP(IF(P10="Naturlig",O10,P10),'Veksttabell FV'!$A$26:$A$42,_xlfn.XLOOKUP('Beregninger RAS'!F10,'Veksttabell FV'!$B$25:$T$25,'Veksttabell FV'!$B$26:$T$42,,-1),,-1)*G10,IF('Beregninger RAS'!N10=Hjelpeark!$D$7,_xlfn.XLOOKUP(IF(P10="Naturlig",O10,P10),'Veksttabell SV'!$A$27:$A$43,_xlfn.XLOOKUP('Beregninger RAS'!F10,'Veksttabell SV'!$B$26:$AU$26,'Veksttabell SV'!$B$27:$AU$43,,-1),,-1)*G10,""))} | I10: =IF(A10="","",E10*F10/1000) | J10: =IF(A10="","",I10/(M10/1000)/K10) | K10: =IF(A10="","",'Prisestimat RAS'!$C$9) | L10: =IF(B10="","",'Prisestimat RAS'!$C$10) | M10: =IF(A10="","",_xlfn.XLOOKUP('Prisestimat RAS'!$C$10,Hjelpeark!$P$14:$P$16,Hjelpeark!$Q$14:$Q$16)) | N10: =IF(A10="","",N9) | O10: =IFERROR(IF(N10=Hjelpeark!$D$7,_xlfn.XLOOKUP('Beregninger RAS'!C10,Hjelpeark!$C$8:$C$19,Hjelpeark!$D$8:$D$19),_xlfn.XLOOKUP('Beregninger RAS'!C10,Hjelpeark!$C$8:$C$19,Hjelpeark!$E$8:$E$19)),"") | P10: =IF(A10="","",P9) | Q10: =IFERROR(IF(P10=Hjelpeark!$B$4,0,ABS(P10-O10)),"") | R10: =K10 | T10: =IFERROR(_xlfn.XLOOKUP(D10,Prisliste!$C$4:$F$4,Prisliste!$C$28:$F$28)*R10,"") | U10: =IFERROR(IF(L10=Hjelpeark!$P$14,_xlfn.XLOOKUP(D10,Prisliste!$C$4:$F$4,Prisliste!$C$29:$F$29)*R10,IF(L10=Hjelpeark!$P$15,_xlfn.XLOOKUP(D10,Prisliste!$C$4:$F$4,Prisliste!$C$30:$F$30)*R10,_xlfn.XLOOKUP(D10,Prisliste!$C$4:$F$4,Prisliste!$C$31:$F$31)*R10)),"")
A11: =IF(A10="","",IF(A10+1<='Prisestimat RAS'!$C$7,'Beregninger RAS'!A10+1,"")) | B11: =IFERROR(_xlfn.ISOWEEKNUM(A11),"") | C11: =IFERROR(MONTH(A11),"") | D11: =IFERROR(YEAR(A11),"") | E11: =IFERROR(IF(A11="","",E10),"") | F11: =IF(A11="","",F10+(F10*H10/100)) | G11: =IF($A11="","",'Prisestimat RAS'!$C$14) | H11: {=IF(N11=Hjelpeark!$E$7,_xlfn.XLOOKUP(IF(P11="Naturlig",O11,P11),'Veksttabell FV'!$A$26:$A$42,_xlfn.XLOOKUP('Beregninger RAS'!F11,'Veksttabell FV'!$B$25:$T$25,'Veksttabell FV'!$B$26:$T$42,,-1),,-1)*G11,IF('Beregninger RAS'!N11=Hjelpeark!$D$7,_xlfn.XLOOKUP(IF(P11="Naturlig",O11,P11),'Veksttabell SV'!$A$27:$A$43,_xlfn.XLOOKUP('Beregninger RAS'!F11,'Veksttabell SV'!$B$26:$AU$26,'Veksttabell SV'!$B$27:$AU$43,,-1),,-1)*G11,""))} | I11: =IF(A11="","",E11*F11/1000) | J11: =IF(A11="","",I11/(M11/1000)/K11) | K11: =IF(A11="","",'Prisestimat RAS'!$C$9) | L11: =IF(B11="","",'Prisestimat RAS'!$C$10) | M11: =IF(A11="","",_xlfn.XLOOKUP('Prisestimat RAS'!$C$10,Hjelpeark!$P$14:$P$16,Hjelpeark!$Q$14:$Q$16)) | N11: =IF(A11="","",N10) | O11: =IFERROR(IF(N11=Hjelpeark!$D$7,_xlfn.XLOOKUP('Beregninger RAS'!C11,Hjelpeark!$C$8:$C$19,Hjelpeark!$D$8:$D$19),_xlfn.XLOOKUP('Beregninger RAS'!C11,Hjelpeark!$C$8:$C$19,Hjelpeark!$E$8:$E$19)),"") | P11: =IF(A11="","",P10) | Q11: =IFERROR(IF(P11=Hjelpeark!$B$4,0,ABS(P11-O11)),"") | R11: =K11 | T11: =IFERROR(_xlfn.XLOOKUP(D11,Prisliste!$C$4:$F$4,Prisliste!$C$28:$F$28)*R11,"") | U11: =IFERROR(IF(L11=Hjelpeark!$P$14,_xlfn.XLOOKUP(D11,Prisliste!$C$4:$F$4,Prisliste!$C$29:$F$29)*R11,IF(L11=Hjelpeark!$P$15,_xlfn.XLOOKUP(D11,Prisliste!$C$4:$F$4,Prisliste!$C$30:$F$30)*R11,_xlfn.XLOOKUP(D11,Prisliste!$C$4:$F$4,Prisliste!$C$31:$F$31)*R11)),"")
