Workbook
Name Annet: #REF!
Name Antall_Kar: 'Beregninger RAS'!$K:$K
Name Antall_Kar: 'Beregninger gj.strømming'!$K:$K
Name ek_ansvarlig: hiddenSheet!$A$6
Name ek_bedriftsnavn: hiddenSheet!$A$2
Name ek_doktittel: hiddenSheet!$A$8
Name ek_doktype: hiddenSheet!$A$3
Name ek_gjeldertil: hiddenSheet!$A$5
Name ek_revisjon: hiddenSheet!$A$4
Name ek_signatur: hiddenSheet!$A$7
Name ek_utgave: hiddenSheet!$A$1
Name f_slutt: Hjelpeark!$D$4
Name f_start: Hjelpeark!$D$3
Name ferskvann: Hjelpeark!$L$26:$L$27
Name Ferskvann_navn: Hjelpeark!$E$7
Name Fiskevekt_VT_FV: 'Veksttabell FV'!$B$4:$T$4
Name forsoks_temp_beregning: 'Beregninger RAS'!$P$4:$P$1100
Name forsoks_temp_beregning: 'Beregninger gj.strømming'!$T$4:$T$1100
Name forsokstem: Hjelpeark!$B$4:$B$24
Name Forsøksdyr: #REF!
Name Graf_antall: IF('Beregninger RAS'!$E$4="","",OFFSET('Beregninger RAS'!$E$4,0,0,(COUNT('Beregninger RAS'!$E$4:$E$1100)),1))
Name Graf_antall: IF('Beregninger gj.strømming'!$E$4="","",OFFSET('Beregninger gj.strømming'!$E$4,0,0,(COUNT('Beregninger gj.strømming'!$E$4:$E$1100)),1))
Name Graf_dato: IF('Beregninger RAS'!$A$4="","",OFFSET('Beregninger RAS'!$A$4,0,0,(COUNT('Beregninger RAS'!$A$4:$A$1100)),1))
Name Graf_dato: IF('Beregninger gj.strømming'!$A$4="","",OFFSET('Beregninger gj.strømming'!$A$4,0,0,(COUNT('Beregninger gj.strømming'!$A$4:$A$1100)),1))
Name Graf_snitt: IF('Beregninger RAS'!$F$4="","",OFFSET('Beregninger RAS'!$F$4,0,0,(COUNT('Beregninger RAS'!$F$4:$F$1100)),1))
Name Graf_snitt: IF('Beregninger gj.strømming'!$F$4="","",OFFSET('Beregninger gj.strømming'!$F$4,0,0,(COUNT('Beregninger gj.strømming'!$F$4:$F$1100)),1))
Name Graf_tetthet: IF('Beregninger RAS'!$J$4="","",OFFSET('Beregninger RAS'!$J$4,0,0,(COUNT('Beregninger RAS'!$J$4:$J$1100)),1))
Name Graf_tetthet: IF('Beregninger gj.strømming'!$J$4="","",OFFSET('Beregninger gj.strømming'!$J$4,0,0,(COUNT('Beregninger gj.strømming'!$J$4:$J$1100)),1))
Name karlaogfhl: Hjelpeark!$H$14:$H$15
Name karsmak: Hjelpeark!$I$14
Name merdsa: Hjelpeark!$N$14
Name nanoras1modul: Hjelpeark!$K$14:$K$15
Name nanoras2moduler: Hjelpeark!$L$14:$L$15
Name nanoras3moduler: Hjelpeark!$M$14:$M$15
Name rasfhl: Hjelpeark!$J$14:$J$15
Name sjøvann: Hjelpeark!$M$26:$M$29
Name Sjøvann_navn: Hjelpeark!$D$7
Name snittvekt: 'Beregninger RAS'!$F$4:$F$1048576
Name snittvekt: 'Beregninger gj.strømming'!$F$4:$F$1048576
Name Temp_VT_FV: 'Veksttabell FV'!$A$5:$A$21
Name Tjenester: #REF!
Name vannkvalitet: Hjelpeark!$K$26:$K$27

Sheet hiddenSheet
A1: 1.05
A2: Havbruksstasjonen i Tromsø AS
A3: Generelt
A4: 1.05
A5: 25.02.2027
A6: Are Homann-Danielsen
A7: Are Homann-Danielsen
A8: Prisestimat forsøk

Sheet Informasjon
B1: {=hiddenSheet!ek_doktittel} -> Prisestimat forsøk
B2: Dokumentansvarlig: | D2: Godkjent av: | F2: Versjon: | G2: Gyldig til: | I2: Dokumenttype:
B3: =hiddenSheet!ek_ansvarlig -> Are Homann-Danielsen | D3: =hiddenSheet!ek_signatur -> Are Homann-Danielsen | F3: =hiddenSheet!ek_revisjon -> 1.05 | G3: =hiddenSheet!ek_gjeldertil -> 25.02.2027 | I3: =hiddenSheet!ek_doktype -> Generelt
D5: Informasjon
B7: Dette regnearket er laget for kunder ved Havbruksstasjonen i Tromsø til estimering av forsøkskostnad i forbindelse med søknad om midler.
B8: Regnearket estimerer kostnad for forsøk eller smitteforsøk i gjennomstrømmings- og resirkuleringssystemer (RAS)
B9: Kostnadsestimatet omfatter rigg, karleie, vann og resirkulering og vil være lavere enn endelig pris.
B10: Avhengig av forsøkets størrelse og kompleksitet kan det påløpe kostnader for:
C11: - Forsøksdyr
C12: - Sjøvannstester
C13: - Fôroppsamling
C14: - Merking
C15: - Sortering
C16: - Vaksinering
C17: - Måling av vannparametere
C18: - Prosjekttimer etc.
B19: Havbruksstasjonens prissystem er beskrevet i dokumentet "Beskrivelse av priser, varer og tjenester i forsøk" som sammen med prislisten
B20: kan benyttes til å estimere priser for andre varer og tjenester.

Sheet Priseestimat gj.strømming
B1: Prisestimat for forsøk i gjennomstrømmingssystem
B3: Forsøksoppsett | C3: Verdi | D3: Grenseverdier | G3: Historisk råvannstemperatur | K3: Bruk av regnearket
D4: Min | E4: Maks | G4: Måned | H4: Sjøvann | I4: Ferskvann
B5: Kunde | G5: Januar | H5: 4 | I5: 0 | K5: - Prisestimat for rigging, karleie, pumping og oppvarming av vann og ev. desinfisering av avløpsvann.
B6: Smitteforsøk | G6: Februar | H6: 4 | I6: 0 | K6: - Det kan kun legges inn data i hvite celler og alle hvite celler må fylles ut for at regnearket skal fungere.
B7: Startdato (dd.mm.åå) | G7: Mars | H7: 4 | I7: 0 | K7: - Prisestimatet er utarbeidet for 500 liters kar med minimum flow 15 l/min.
B8: Sluttdato (dd.mm.åå) | G8: April | H8: 4 | I8: 0 | K8: - Veksttabellen Laks HiT representerer den tilveksten Havbruksstasjonen har erfart i forsøk.
B9: Ant. døgn | C9: =IF(C7="","",C8-C7+1) | G9: Mai | H9: 5 | I9: 2 | K9: - Tid på året vil påvirke oppvarming- og kjølekostnaden på grunn av ulik råvannstemperatur
B10: Antall kar | G10: Juni | H10: 6 | I10: 5 | K10: - Ved smitteforsøk vil det tilkomme kostnad for desinfisering av avløpsvann samt at tilvekst reduseres til 70 %.
B11: Karvolum (l) | C11: 500 | D11: 15 l/min | G11: Juli | H11: 8 | I11: 10 | K11: - Se fanen Beregninger gj.strømming for detaljert oversikt over beregningene.
B12: Vannkvalitet | G12: August | H12: 9 | I12: 11
B13: Veksttabell | G13: September | H13: 9 | I13: 8 | K13: Rigging | L13: ='Beregninger gj.strømming'!AE4
B14: Forsøkstemperatur | D14: =IF(C12="","",IF($C$12=Hjelpeark!$H$14,'Veksttabell SV'!$N$3,'Veksttabell FV'!$N$2)) | E14: =IF(C12="","",IF($C$12=Hjelpeark!$H$14,'Veksttabell SV'!$O$3,'Veksttabell FV'!$O$2)) | G14: Oktober | H14: 9 | I14: 4 | K14: Karleie | L14: =SUM('Beregninger gj.strømming'!AF:AF) -> 0
B15: Justering av veksttabell | C15: =IF(C6="Ja",0.7,1) -> 1 | G15: November | H15: 7 | I15: 1 | K15: Pumping | L15: =SUM('Beregninger gj.strømming'!Z:Z) -> 0
B16: Totalt antall fisk ved start | G16: Desember | H16: 6 | I16: 0 | K16: Oppvarming / kjøling | L16: =SUM('Beregninger gj.strømming'!AA:AA) -> 0
B17: Snittvekt start (g) | D17: =IF(C12="","",IF($C$12=Hjelpeark!$H$14,'Veksttabell SV'!$J$3,'Veksttabell FV'!$J$2)) | E17: =IF(C12="","",IF($C$12=Hjelpeark!$H$14,'Veksttabell SV'!$K$3,'Veksttabell FV'!$K$2)) | K17: Desinfisering avløpsvann | L17: =SUM('Beregninger gj.strømming'!AB:AB) -> 0
B18: Snittvekt slutt (g) | C18: =IFERROR(IF(C8="","",_xlfn.XLOOKUP(C8,'Beregninger gj.strømming'!$A:$A,'Beregninger gj.strømming'!$F:$F)),"")
B19: Tetthet start (kg/m3) | C19: =IFERROR(IF(C7="","",_xlfn.XLOOKUP(C7,'Beregninger gj.strømming'!$A:$A,'Beregninger gj.strømming'!$J:$J)),"") | D19: - | E19: 50 | G19: Påslag | I19: 0 | K19: Prisestimat | L19: =IF($C$5=Hjelpeark!$G$9,SUM('Beregninger gj.strømming'!AC:AC)*1.25+SUM('Beregninger gj.strømming'!AE:AF)*1.25,SUM('Beregninger gj.strømming'!AC:AC)+SUM('Beregninger gj.strømming'!AE:AF))+IF($C$5=Hjelpeark!$G$9,SUM('Beregninger gj.strømming'!AC:AC)*1.25+SUM('Beregninger gj.strømming'!AE:AF)*1.25,SUM('Beregninger gj.strømming'!AC:AC)+SUM('Beregninger gj.strømming'!AE:AF))*I19 -> 0
B20: Tetthet slutt (kg/m3) | C20: =IFERROR(IF(C8="","",_xlfn.XLOOKUP(C8,'Beregninger gj.strømming'!$A:$A,'Beregninger gj.strømming'!$J:$J)),"") | D20: - | E20: 50

Sheet Beregninger gj.strømming
B1: Beregninger gjennomstrømming
A2: Tid | E2: Tilvekst og biomasse | K2: Kar og vannforbruk | S2: Oppvarming/kjøling | V2: Vannkostnad | AD2: Andre kostnader
A3: Dato | B3: Ukenr. | C3: Måned | D3: År | E3: Antall fisk | F3: Snittvekt (g) | G3: Justering av tilvekst (SGR) | H3: SGR (%) | I3: Biomasse (kg) | J3: Tetthet (kg/m3) | K3: Antall kar | L3: Karvolum (liter) | M3: Vannkvalitet | N3: Behandling av avløpsvann | O3: (l/min/kg) | P3: Minimum vannforbruk pr kar (l/min/kar) | Q3: l/min/kar | R3: m3/dag Alle kar | S3: Råvanns-temperatur | T3: Forsøks-temperatur | U3: ΔT | V3: Pumpe-kostnad pr m3 | W3: Energi-kostnad pr m3 | X3: Avløps-kostnad pr m3 | Y3: Total vann-kostnad pr m3 | Z3: Pumpe-kostnad pr. dag | AA3: Energi-kostnad pr. dag | AB3: Avløps-kostnad pr. dag | AC3: Total vann-kostnad pr dag | AD3: Kardøgn | AE3: Riggkostnad | AF3: Karleie
A4: =IF(f_start=0,"",f_start) | B4: =IFERROR(_xlfn.ISOWEEKNUM(A4),"") | C4: =IFERROR(MONTH(A4),"") | D4: =IFERROR(YEAR(A4),"") | E4: =IFERROR(IF(A4="","",'Priseestimat gj.strømming'!C16),"") | F4: =IF(A4="","",'Priseestimat gj.strømming'!C17) | G4: =IF($A4="","",'Priseestimat gj.strømming'!$C$15) | H4: {=IF(M4=Hjelpeark!$E$7,_xlfn.XLOOKUP(IF(T4="Naturlig",S4,T4),Temp_VT_FV,_xlfn.XLOOKUP('Beregninger gj.strømming'!F4,Fiskevekt_VT_FV,'Veksttabell FV'!$B$5:$T$21,,-1),,-1)*G4,IF('Beregninger gj.strømming'!M4=Hjelpeark!$D$7,_xlfn.XLOOKUP(IF(T4="Naturlig",S4,T4),'Veksttabell SV'!$A$6:$A$22,_xlfn.XLOOKUP('Beregninger gj.strømming'!F4,'Veksttabell SV'!$B$5:$AU$5,'Veksttabell SV'!$B$6:$AU$22,,-1),,-1)*G4,""))} | I4: =IF(A4="","",E4*F4/1000) | J4: =IF(A4="","",I4/(L4/1000)/K4) | K4: =IF(A4="","",'Priseestimat gj.strømming'!$C$10) | L4: =IF(A4="","",'Priseestimat gj.strømming'!$C$11) | M4: =IF(A4="","",'Priseestimat gj.strømming'!$C$12) | N4: =IF($A4="","",'Priseestimat gj.strømming'!$C$6) | O4: {=IF(M4=Hjelpeark!$D$7,_xlfn.XLOOKUP(IF(T4="Naturlig",S4,T4),'Vannbehov SV'!$A$5:$A$13,_xlfn.XLOOKUP('Beregninger gj.strømming'!F4,'Vannbehov SV'!$B$4:$O$4,'Vannbehov SV'!$B$5:$O$13,,-1),,-1),IF(M4=Hjelpeark!$E$7,_xlfn.XLOOKUP(IF(T4="Naturlig",S4,T4),'Vannbehov FV'!$A$5:$A$20,_xlfn.XLOOKUP('Beregninger gj.strømming'!F4,'Vannbehov FV'!$B$4:$O$4,'Vannbehov FV'!$B$5:$O$20,,-1),,-1),""))} | P4: =IF(A4="","",15) | Q4: =IFERROR(IF(A4="","",IF(P4>I4/K4*O4,P4,I4/K4*O4)),"") | R4: =IF(A4="","",Q4*K4*1.44) | S4: =IFERROR(IF(M4=Hjelpeark!$D$7,_xlfn.XLOOKUP('Beregninger gj.strømming'!C4,Hjelpeark!$C$8:$C$19,Hjelpeark!$D$8:$D$19),_xlfn.XLOOKUP('Beregninger gj.strømming'!C4,Hjelpeark!$C$8:$C$19,Hjelpeark!$E$8:$E$19)),"") | T4: =IF(A4="","",'Priseestimat gj.strømming'!C14) | U4: =IFERROR(IF(T4=Hjelpeark!$B$4,0,ABS(T4-S4)),"") | V4: =IFERROR(IF(A4="","",_xlfn.XLOOKUP(D4,Prisliste!$C$4:$F$4,Prisliste!$C$20:$F$20)),"") | W4: =IFERROR(U4*_xlfn.XLOOKUP(D4,Prisliste!$C$4:$F$4,Prisliste!$C$21:$F$21),"") | X4: =IFERROR(IF(A4="","",IF(N4="Ja",_xlfn.XLOOKUP('Beregninger gj.strømming'!D4,Prisliste!$C$4:$F$4,Prisliste!$C$24:$F$24),0)),"") | Y4: =IF(SUM(V4:X4)=0,"",SUM(V4:X4)) | Z4: =IF($A$4="","",V4*$R4) | AA4: =IFERROR(IF($A$4="","",W4*$R4),"") | AB4: =IFERROR(IF($A$4="","",X4*$R4),"") | AC4: =IFERROR(R4*Y4,"") | AD4: =K4 | AE4: =IFERROR(_xlfn.XLOOKUP(D4,Prisliste!$C$4:$F$4,Prisliste!$C$18:$F$18)*AD4,"") | AF4: =IFERROR(_xlfn.XLOOKUP(D4,Prisliste!$C$4:$F$4,Prisliste!$C$19:$F$19)*AD4,"")
A5: =IF(A4="","",IF(A4+1<=f_slutt,'Beregninger gj.strømming'!A4+1,"")) | B5: =IFERROR(_xlfn.ISOWEEKNUM(A5),"") | C5: =IFERROR(MONTH(A5),"") | D5: =IFERROR(YEAR(A5),"") | E5: =IFERROR(IF(A5="","",E4),"") | F5: =IF(A5="","",F4+(F4*H4/100)) | G5: =IF($A5="","",'Priseestimat gj.strømming'!$C$15) | H5: {=IF(M5=Hjelpeark!$E$7,_xlfn.XLOOKUP(IF(T5="Naturlig",S5,T5),Temp_VT_FV,_xlfn.XLOOKUP('Beregninger gj.strømming'!F5,Fiskevekt_VT_FV,'Veksttabell FV'!$B$5:$T$21,,-1),,-1)*G5,IF('Beregninger gj.strømming'!M5=Hjelpeark!$D$7,_xlfn.XLOOKUP(IF(T5="Naturlig",S5,T5),'Veksttabell SV'!$A$6:$A$22,_xlfn.XLOOKUP('Beregninger gj.strømming'!F5,'Veksttabell SV'!$B$5:$AU$5,'Veksttabell SV'!$B$6:$AU$22,,-1),,-1)*G5,""))} | I5: =IF(A5="","",E5*F5/1000) | J5: =IF(A5="","",I5/(L5/1000)/K5) | K5: =IF(A5="","",'Priseestimat gj.strømming'!$C$10) | L5: =IF(A5="","",'Priseestimat gj.strømming'!$C$11) | M5: =IF(A5="","",'Priseestimat gj.strømming'!$C$12) | N5: =IF($A5="","",'Priseestimat gj.strømming'!$C$6) | O5: {=IF(M5=Hjelpeark!$D$7,_xlfn.XLOOKUP(IF(T5="Naturlig",S5,T5),'Vannbehov SV'!$A$5:$A$13,_xlfn.XLOOKUP('Beregninger gj.strømming'!F5,'Vannbehov SV'!$B$4:$O$4,'Vannbehov SV'!$B$5:$O$13,,-1),,-1),IF(M5=Hjelpeark!$E$7,_xlfn.XLOOKUP(IF(T5="Naturlig",S5,T5),'Vannbehov FV'!$A$5:$A$20,_xlfn.XLOOKUP('Beregninger gj.strømming'!F5,'Vannbehov FV'!$B$4:$O$4,'Vannbehov FV'!$B$5:$O$20,,-1),,-1),""))} | P5: =IF(A5="","",15) | Q5: =IFERROR(IF(A5="","",IF(P5>I5/K5*O5,P5,I5/K5*O5)),"") | R5: =IF(A5="","",Q5*K5*1.44) | S5: =IFERROR(IF(M5=Hjelpeark!$D$7,_xlfn.XLOOKUP('Beregninger gj.strømming'!C5,Hjelpeark!$C$8:$C$19,Hjelpeark!$D$8:$D$19),_xlfn.XLOOKUP('Beregninger gj.strømming'!C5,Hjelpeark!$C$8:$C$19,Hjelpeark!$E$8:$E$19)),"") | T5: =IF(A5="","",T4) | U5: =IFERROR(IF(T5=Hjelpeark!$B$4,0,ABS(T5-S5)),"") | V5: =IFERROR(IF(A5="","",_xlfn.XLOOKUP(D5,Prisliste!$C$4:$F$4,Prisliste!$C$20:$F$20)),"") | W5: =IFERROR(U5*_xlfn.XLOOKUP(D5,Prisliste!$C$4:$F$4,Prisliste!$C$21:$F$21),"") | X5: =IFERROR(IF(A5="","",IF(N5="Ja",_xlfn.XLOOKUP('Beregninger gj.strømming'!D5,Prisliste!$C$4:$F$4,Prisliste!$C$24:$F$24),0)),"") | Y5: =IF(SUM(V5:X5)=0,"",SUM(V5:X5)) | Z5: =IF(A5="","",V5*R5) | AA5: =IFERROR(IF($A$4="","",W5*$R5),"") | AB5: =IFERROR(IF($A$4="","",X5*$R5),"") | AC5: =IFERROR(R5*Y5,"") | AD5: =K5 | AF5: =IFERROR(_xlfn.XLOOKUP(D5,Prisliste!$C$4:$F$4,Prisliste!$C$19:$F$19)*AD5,"")
A6: =IF(A5="","",IF(A5+1<=f_slutt,'Beregninger gj.strømming'!A5+1,"")) | B6: =IFERROR(_xlfn.ISOWEEKNUM(A6),"") | C6: =IFERROR(MONTH(A6),"") | D6: =IFERROR(YEAR(A6),"") | E6: =IFERROR(IF(A6="","",E5),"") | F6: =IF(A6="","",F5+(F5*H5/100)) | G6: =IF($A6="","",'Priseestimat gj.strømming'!$C$15) | H6: {=IF(M6=Hjelpeark!$E$7,_xlfn.XLOOKUP(IF(T6="Naturlig",S6,T6),Temp_VT_FV,_xlfn.XLOOKUP('Beregninger gj.strømming'!F6,Fiskevekt_VT_FV,'Veksttabell FV'!$B$5:$T$21,,-1),,-1)*G6,IF('Beregninger gj.strømming'!M6=Hjelpeark!$D$7,_xlfn.XLOOKUP(IF(T6="Naturlig",S6,T6),'Veksttabell SV'!$A$6:$A$22,_xlfn.XLOOKUP('Beregninger gj.strømming'!F6,'Veksttabell SV'!$B$5:$AU$5,'Veksttabell SV'!$B$6:$AU$22,,-1),,-1)*G6,""))} | I6: =IF(A6="","",E6*F6/1000) | J6: =IF(A6="","",I6/(L6/1000)/K6) | K6: =IF(A6="","",'Priseestimat gj.strømming'!$C$10) | L6: =IF(A6="","",'Priseestimat gj.strømming'!$C$11) | M6: =IF(A6="","",'Priseestimat gj.strømming'!$C$12) | N6: =IF($A6="","",'Priseestimat gj.strømming'!$C$6) | O6: {=IF(M6=Hjelpeark!$D$7,_xlfn.XLOOKUP(IF(T6="Naturlig",S6,T6),'Vannbehov SV'!$A$5:$A$13,_xlfn.XLOOKUP('Beregninger gj.strømming'!F6,'Vannbehov SV'!$B$4:$O$4,'Vannbehov SV'!$B$5:$O$13,,-1),,-1),IF(M6=Hjelpeark!$E$7,_xlfn.XLOOKUP(IF(T6="Naturlig",S6,T6),'Vannbehov FV'!$A$5:$A$20,_xlfn.XLOOKUP('Beregninger gj.strømming'!F6,'Vannbehov FV'!$B$4:$O$4,'Vannbehov FV'!$B$5:$O$20,,-1),,-1),""))} | P6: =IF(A6="","",15) | Q6: =IFERROR(IF(A6="","",IF(P6>I6/K6*O6,P6,I6/K6*O6)),"") | R6: =IF(A6="","",Q6*K6*1.44) | S6: =IFERROR(IF(M6=Hjelpeark!$D$7,_xlfn.XLOOKUP('Beregninger gj.strømming'!C6,Hjelpeark!$C$8:$C$19,Hjelpeark!$D$8:$D$19),_xlfn.XLOOKUP('Beregninger gj.strømming'!C6,Hjelpeark!$C$8:$C$19,Hjelpeark!$E$8:$E$19)),"") | T6: =IF(A6="","",T5) | U6: =IFERROR(IF(T6=Hjelpeark!$B$4,0,ABS(T6-S6)),"") | V6: =IFERROR(IF(A6="","",_xlfn.XLOOKUP(D6,Prisliste!$C$4:$F$4,Prisliste!$C$20:$F$20)),"") | W6: =IFERROR(U6*_xlfn.XLOOKUP(D6,Prisliste!$C$4:$F$4,Prisliste!$C$21:$F$21),"") | X6: =IFERROR(IF(A6="","",IF(N6="Ja",_xlfn.XLOOKUP('Beregninger gj.strømming'!D6,Prisliste!$C$4:$F$4,Prisliste!$C$24:$F$24),0)),"") | Y6: =IF(SUM(V6:X6)=0,"",SUM(V6:X6)) | Z6: =IF(A6="","",V6*R6) | AA6: =IFERROR(IF($A$4="","",W6*$R6),"") | AB6: =IFERROR(IF($A$4="","",X6*$R6),"") | AC6: =IFERROR(R6*Y6,"") | AD6: =K6 | AF6: =IFERROR(_xlfn.XLOOKUP(D6,Prisliste!$C$4:$F$4,Prisliste!$C$19:$F$19)*AD6,"")
A7: =IF(A6="","",IF(A6+1<=f_slutt,'Beregninger gj.strømming'!A6+1,"")) | B7: =IFERROR(_xlfn.ISOWEEKNUM(A7),"") | C7: =IFERROR(MONTH(A7),"") | D7: =IFERROR(YEAR(A7),"") | E7: =IFERROR(IF(A7="","",E6),"") | F7: =IF(A7="","",F6+(F6*H6/100)) | G7: =IF($A7="","",'Priseestimat gj.strømming'!$C$15) | H7: {=IF(M7=Hjelpeark!$E$7,_xlfn.XLOOKUP(IF(T7="Naturlig",S7,T7),Temp_VT_FV,_xlfn.XLOOKUP('Beregninger gj.strømming'!F7,Fiskevekt_VT_FV,'Veksttabell FV'!$B$5:$T$21,,-1),,-1)*G7,IF('Beregninger gj.strømming'!M7=Hjelpeark!$D$7,_xlfn.XLOOKUP(IF(T7="Naturlig",S7,T7),'Veksttabell SV'!$A$6:$A$22,_xlfn.XLOOKUP('Beregninger gj.strømming'!F7,'Veksttabell SV'!$B$5:$AU$5,'Veksttabell SV'!$B$6:$AU$22,,-1),,-1)*G7,""))} | I7: =IF(A7="","",E7*F7/1000) | J7: =IF(A7="","",I7/(L7/1000)/K7) | K7: =IF(A7="","",'Priseestimat gj.strømming'!$C$10) | L7: =IF(A7="","",'Priseestimat gj.strømming'!$C$11) | M7: =IF(A7="","",'Priseestimat gj.strømming'!$C$12) | N7: =IF($A7="","",'Priseestimat gj.strømming'!$C$6) | O7: {=IF(M7=Hjelpeark!$D$7,_xlfn.XLOOKUP(IF(T7="Naturlig",S7,T7),'Vannbehov SV'!$A$5:$A$13,_xlfn.XLOOKUP('Beregninger gj.strømming'!F7,'Vannbehov SV'!$B$4:$O$4,'Vannbehov SV'!$B$5:$O$13,,-1),,-1),IF(M7=Hjelpeark!$E$7,_xlfn.XLOOKUP(IF(T7="Naturlig",S7,T7),'Vannbehov FV'!$A$5:$A$20,_xlfn.XLOOKUP('Beregninger gj.strømming'!F7,'Vannbehov FV'!$B$4:$O$4,'Vannbehov FV'!$B$5:$O$20,,-1),,-1),""))} | P7: =IF(A7="","",15) | Q7: =IFERROR(IF(A7="","",IF(P7>I7/K7*O7,P7,I7/K7*O7)),"") | R7: =IF(A7="","",Q7*K7*1.44) | S7: =IFERROR(IF(M7=Hjelpeark!$D$7,_xlfn.XLOOKUP('Beregninger gj.strømming'!C7,Hjelpeark!$C$8:$C$19,Hjelpeark!$D$8:$D$19),_xlfn.XLOOKUP('Beregninger gj.strømming'!C7,Hjelpeark!$C$8:$C$19,Hjelpeark!$E$8:$E$19)),"") | T7: =IF(A7="","",T6) | U7: =IFERROR(IF(T7=Hjelpeark!$B$4,0,ABS(T7-S7)),"") | V7: =IFERROR(IF(A7="","",_xlfn.XLOOKUP(D7,Prisliste!$C$4:$F$4,Prisliste!$C$20:$F$20)),"") | W7: =IFERROR(U7*_xlfn.XLOOKUP(D7,Prisliste!$C$4:$F$4,Prisliste!$C$21:$F$21),"") | X7: =IFERROR(IF(A7="","",IF(N7="Ja",_xlfn.XLOOKUP('Beregninger gj.strømming'!D7,Prisliste!$C$4:$F$4,Prisliste!$C$24:$F$24),0)),"") | Y7: =IF(SUM(V7:X7)=0,"",SUM(V7:X7)) | Z7: =IF(A7="","",V7*R7) | AA7: =IFERROR(IF($A$4="","",W7*$R7),"") | AB7: =IFERROR(IF($A$4="","",X7*$R7),"") | AC7: =IFERROR(R7*Y7,"") | AD7: =K7 | AF7: =IFERROR(_xlfn.XLOOKUP(D7,Prisliste!$C$4:$F$4,Prisliste!$C$19:$F$19)*AD7,"")
A8: =IF(A7="","",IF(A7+1<=f_slutt,'Beregninger gj.strømming'!A7+1,"")) | B8: =IFERROR(_xlfn.ISOWEEKNUM(A8),"") | C8: =IFERROR(MONTH(A8),"") | D8: =IFERROR(YEAR(A8),"") | E8: =IFERROR(IF(A8="","",E7),"") | F8: =IF(A8="","",F7+(F7*H7/100)) | G8: =IF($A8="","",'Priseestimat gj.strømming'!$C$15) | H8: {=IF(M8=Hjelpeark!$E$7,_xlfn.XLOOKUP(IF(T8="Naturlig",S8,T8),Temp_VT_FV,_xlfn.XLOOKUP('Beregninger gj.strømming'!F8,Fiskevekt_VT_FV,'Veksttabell FV'!$B$5:$T$21,,-1),,-1)*G8,IF('Beregninger gj.strømming'!M8=Hjelpeark!$D$7,_xlfn.XLOOKUP(IF(T8="Naturlig",S8,T8),'Veksttabell SV'!$A$6:$A$22,_xlfn.XLOOKUP('Beregninger gj.strømming'!F8,'Veksttabell SV'!$B$5:$AU$5,'Veksttabell SV'!$B$6:$AU$22,,-1),,-1)*G8,""))} | I8: =IF(A8="","",E8*F8/1000) | J8: =IF(A8="","",I8/(L8/1000)/K8) | K8: =IF(A8="","",'Priseestimat gj.strømming'!$C$10) | L8: =IF(A8="","",'Priseestimat gj.strømming'!$C$11) | M8: =IF(A8="","",'Priseestimat gj.strømming'!$C$12) | N8: =IF($A8="","",'Priseestimat gj.strømming'!$C$6) | O8: {=IF(M8=Hjelpeark!$D$7,_xlfn.XLOOKUP(IF(T8="Naturlig",S8,T8),'Vannbehov SV'!$A$5:$A$13,_xlfn.XLOOKUP('Beregninger gj.strømming'!F8,'Vannbehov SV'!$B$4:$O$4,'Vannbehov SV'!$B$5:$O$13,,-1),,-1),IF(M8=Hjelpeark!$E$7,_xlfn.XLOOKUP(IF(T8="Naturlig",S8,T8),'Vannbehov FV'!$A$5:$A$20,_xlfn.XLOOKUP('Beregninger gj.strømming'!F8,'Vannbehov FV'!$B$4:$O$4,'Vannbehov FV'!$B$5:$O$20,,-1),,-1),""))} | P8: =IF(A8="","",15) | Q8: =IFERROR(IF(A8="","",IF(P8>I8/K8*O8,P8,I8/K8*O8)),"") | R8: =IF(A8="","",Q8*K8*1.44) | S8: =IFERROR(IF(M8=Hjelpeark!$D$7,_xlfn.XLOOKUP('Beregninger gj.strømming'!C8,Hjelpeark!$C$8:$C$19,Hjelpeark!$D$8:$D$19),_xlfn.XLOOKUP('Beregninger gj.strømming'!C8,Hjelpeark!$C$8:$C$19,Hjelpeark!$E$8:$E$19)),"") | T8: =IF(A8="","",T7) | U8: =IFERROR(IF(T8=Hjelpeark!$B$4,0,ABS(T8-S8)),"") | V8: =IFERROR(IF(A8="","",_xlfn.XLOOKUP(D8,Prisliste!$C$4:$F$4,Prisliste!$C$20:$F$20)),"") | W8: =IFERROR(U8*_xlfn.XLOOKUP(D8,Prisliste!$C$4:$F$4,Prisliste!$C$21:$F$21),"") | X8: =IFERROR(IF(A8="","",IF(N8="Ja",_xlfn.XLOOKUP('Beregninger gj.strømming'!D8,Prisliste!$C$4:$F$4,Prisliste!$C$24:$F$24),0)),"") | Y8: =IF(SUM(V8:X8)=0,"",SUM(V8:X8)) | Z8: =IF(A8="","",V8*R8) | AA8: =IFERROR(IF($A$4="","",W8*$R8),"") | AB8: =IFERROR(IF($A$4="","",X8*$R8),"") | AC8: =IFERROR(R8*Y8,"") | AD8: =K8 | AF8: =IFERROR(_xlfn.XLOOKUP(D8,Prisliste!$C$4:$F$4,Prisliste!$C$19:$F$19)*AD8,"")
A9: =IF(A8="","",IF(A8+1<=f_slutt,'Beregninger gj.strømming'!A8+1,"")) | B9: =IFERROR(_xlfn.ISOWEEKNUM(A9),"") | C9: =IFERROR(MONTH(A9),"") | D9: =IFERROR(YEAR(A9),"") | E9: =IFERROR(IF(A9="","",E8),"") | F9: =IF(A9="","",F8+(F8*H8/100)) | G9: =IF($A9="","",'Priseestimat gj.strømming'!$C$15) | H9: {=IF(M9=Hjelpeark!$E$7,_xlfn.XLOOKUP(IF(T9="Naturlig",S9,T9),Temp_VT_FV,_xlfn.XLOOKUP('Beregninger gj.strømming'!F9,Fiskevekt_VT_FV,'Veksttabell FV'!$B$5:$T$21,,-1),,-1)*G9,IF('Beregninger gj.strømming'!M9=Hjelpeark!$D$7,_xlfn.XLOOKUP(IF(T9="Naturlig",S9,T9),'Veksttabell SV'!$A$6:$A$22,_xlfn.XLOOKUP('Beregninger gj.strømming'!F9,'Veksttabell SV'!$B$5:$AU$5,'Veksttabell SV'!$B$6:$AU$22,,-1),,-1)*G9,""))} | I9: =IF(A9="","",E9*F9/1000) | J9: =IF(A9="","",I9/(L9/1000)/K9) | K9: =IF(A9="","",'Priseestimat gj.strømming'!$C$10) | L9: =IF(A9="","",'Priseestimat gj.strømming'!$C$11) | M9: =IF(A9="","",'Priseestimat gj.strømming'!$C$12) | N9: =IF($A9="","",'Priseestimat gj.strømming'!$C$6) | O9: {=IF(M9=Hjelpeark!$D$7,_xlfn.XLOOKUP(IF(T9="Naturlig",S9,T9),'Vannbehov SV'!$A$5:$A$13,_xlfn.XLOOKUP('Beregninger gj.strømming'!F9,'Vannbehov SV'!$B$4:$O$4,'Vannbehov SV'!$B$5:$O$13,,-1),,-1),IF(M9=Hjelpeark!$E$7,_xlfn.XLOOKUP(IF(T9="Naturlig",S9,T9),'Vannbehov FV'!$A$5:$A$20,_xlfn.XLOOKUP('Beregninger gj.strømming'!F9,'Vannbehov FV'!$B$4:$O$4,'Vannbehov FV'!$B$5:$O$20,,-1),,-1),""))} | P9: =IF(A9="","",15) | Q9: =IFERROR(IF(A9="","",IF(P9>I9/K9*O9,P9,I9/K9*O9)),"") | R9: =IF(A9="","",Q9*K9*1.44) | S9: =IFERROR(IF(M9=Hjelpeark!$D$7,_xlfn.XLOOKUP('Beregninger gj.strømming'!C9,Hjelpeark!$C$8:$C$19,Hjelpeark!$D$8:$D$19),_xlfn.XLOOKUP('Beregninger gj.strømming'!C9,Hjelpeark!$C$8:$C$19,Hjelpeark!$E$8:$E$19)),"") | T9: =IF(A9="","",T8) | U9: =IFERROR(IF(T9=Hjelpeark!$B$4,0,ABS(T9-S9)),"") | V9: =IFERROR(IF(A9="","",_xlfn.XLOOKUP(D9,Prisliste!$C$4:$F$4,Prisliste!$C$20:$F$20)),"") | W9: =IFERROR(U9*_xlfn.XLOOKUP(D9,Prisliste!$C$4:$F$4,Prisliste!$C$21:$F$21),"") | X9: =IFERROR(IF(A9="","",IF(N9="Ja",_xlfn.XLOOKUP('Beregninger gj.strømming'!D9,Prisliste!$C$4:$F$4,Prisliste!$C$24:$F$24),0)),"") | Y9: =IF(SUM(V9:X9)=0,"",SUM(V9:X9)) | Z9: =IF(A9="","",V9*R9) | AA9: =IFERROR(IF($A$4="","",W9*$R9),"") | AB9: =IFERROR(IF($A$4="","",X9*$R9),"") | AC9: =IFERROR(R9*Y9,"") | AD9: =K9 | AF9: =IFERROR(_xlfn.XLOOKUP(D9,Prisliste!$C$4:$F$4,Prisliste!$C$19:$F$19)*AD9,"")
A10: =IF(A9="","",IF(A9+1<=f_slutt,'Beregninger gj.strømming'!A9+1,"")) | B10: =IFERROR(_xlfn.ISOWEEKNUM(A10),"") | C10: =IFERROR(MONTH(A10),"") | D10: =IFERROR(YEAR(A10),"") | E10: =IFERROR(IF(A10="","",E9),"") | F10: =IF(A10="","",F9+(F9*H9/100)) | G10: =IF($A10="","",'Priseestimat gj.strømming'!$C$15) | H10: {=IF(M10=Hjelpeark!$E$7,_xlfn.XLOOKUP(IF(T10="Naturlig",S10,T10),Temp_VT_FV,_xlfn.XLOOKUP('Beregninger gj.strømming'!F10,Fiskevekt_VT_FV,'Veksttabell FV'!$B$5:$T$21,,-1),,-1)*G10,IF('Beregninger gj.strømming'!M10=Hjelpeark!$D$7,_xlfn.XLOOKUP(IF(T10="Naturlig",S10,T10),'Veksttabell SV'!$A$6:$A$22,_xlfn.XLOOKUP('Beregninger gj.strømming'!F10,'Veksttabell SV'!$B$5:$AU$5,'Veksttabell SV'!$B$6:$AU$22,,-1),,-1)*G10,""))} | I10: =IF(A10="","",E10*F10/1000) | J10: =IF(A10="","",I10/(L10/1000)/K10) | K10: =IF(A10="","",'Priseestimat gj.strømming'!$C$10) | L10: =IF(A10="","",'Priseestimat gj.strømming'!$C$11) | M10: =IF(A10="","",'Priseestimat gj.strømming'!$C$12) | N10: =IF($A10="","",'Priseestimat gj.strømming'!$C$6) | O10: {=IF(M10=Hjelpeark!$D$7,_xlfn.XLOOKUP(IF(T10="Naturlig",S10,T10),'Vannbehov SV'!$A$5:$A$13,_xlfn.XLOOKUP('Beregninger gj.strømming'!F10,'Vannbehov SV'!$B$4:$O$4,'Vannbehov SV'!$B$5:$O$13,,-1),,-1),IF(M10=Hjelpeark!$E$7,_xlfn.XLOOKUP(IF(T10="Naturlig",S10,T10),'Vannbehov FV'!$A$5:$A$20,_xlfn.XLOOKUP('Beregninger gj.strømming'!F10,'Vannbehov FV'!$B$4:$O$4,'Vannbehov FV'!$B$5:$O$20,,-1),,-1),""))} | P10: =IF(A10="","",15) | Q10: =IFERROR(IF(A10="","",IF(P10>I10/K10*O10,P10,I10/K10*O10)),"") | R10: =IF(A10="","",Q10*K10*1.44) | S10: =IFERROR(IF(M10=Hjelpeark!$D$7,_xlfn.XLOOKUP('Beregninger gj.strømming'!C10,Hjelpeark!$C$8:$C$19,Hjelpeark!$D$8:$D$19),_xlfn.XLOOKUP('Beregninger gj.strømming'!C10,Hjelpeark!$C$8:$C$19,Hjelpeark!$E$8:$E$19)),"") | T10: =IF(A10="","",T9) | U10: =IFERROR(IF(T10=Hjelpeark!$B$4,0,ABS(T10-S10)),"") | V10: =IFERROR(IF(A10="","",_xlfn.XLOOKUP(D10,Prisliste!$C$4:$F$4,Prisliste!$C$20:$F$20)),"") | W10: =IFERROR(U10*_xlfn.XLOOKUP(D10,Prisliste!$C$4:$F$4,Prisliste!$C$21:$F$21),"") | X10: =IFERROR(IF(A10="","",IF(N10="Ja",_xlfn.XLOOKUP('Beregninger gj.strømming'!D10,Prisliste!$C$4:$F$4,Prisliste!$C$24:$F$24),0)),"") | Y10: =IF(SUM(V10:X10)=0,"",SUM(V10:X10)) | Z10: =IF(A10="","",V10*R10) | AA10: =IFERROR(IF($A$4="","",W10*$R10),"") | AB10: =IFERROR(IF($A$4="","",X10*$R10),"") | AC10: =IFERROR(R10*Y10,"") | AD10: =K10 | AF10: =IFERROR(_xlfn.XLOOKUP(D10,Prisliste!$C$4:$F$4,Prisliste!$C$19:$F$19)*AD10,"")
A11: =IF(A10="","",IF(A10+1<=f_slutt,'Beregninger gj.strømming'!A10+1,"")) | B11: =IFERROR(_xlfn.ISOWEEKNUM(A11),"") | C11: =IFERROR(MONTH(A11),"") | D11: =IFERROR(YEAR(A11),"") | E11: =IFERROR(IF(A11="","",E10),"") | F11: =IF(A11="","",F10+(F10*H10/100)) | G11: =IF($A11="","",'Priseestimat gj.strømming'!$C$15) | H11: {=IF(M11=Hjelpeark!$E$7,_xlfn.XLOOKUP(IF(T11="Naturlig",S11,T11),Temp_VT_FV,_xlfn.XLOOKUP('Beregninger gj.strømming'!F11,Fiskevekt_VT_FV,'Veksttabell FV'!$B$5:$T$21,,-1),,-1)*G11,IF('Beregninger gj.strømming'!M11=Hjelpeark!$D$7,_xlfn.XLOOKUP(IF(T11="Naturlig",S11,T11),'Veksttabell SV'!$A$6:$A$22,_xlfn.XLOOKUP('Beregninger gj.strømming'!F11,'Veksttabell SV'!$B$5:$AU$5,'Veksttabell SV'!$B$6:$AU$22,,-1),,-1)*G11,""))} | I11: =IF(A11="","",E11*F11/1000) | J11: =IF(A11="","",I11/(L11/1000)/K11) | K11: =IF(A11="","",'Priseestimat gj.strømming'!$C$10) | L11: =IF(A11="","",'Priseestimat gj.strømming'!$C$11) | M11: =IF(A11="","",'Priseestimat gj.strømming'!$C$12) | N11: =IF($A11="","",'Priseestimat gj.strømming'!$C$6) | O11: {=IF(M11=Hjelpeark!$D$7,_xlfn.XLOOKUP(IF(T11="Naturlig",S11,T11),'Vannbehov SV'!$A$5:$A$13,_xlfn.XLOOKUP('Beregninger gj.strømming'!F11,'Vannbehov SV'!$B$4:$O$4,'Vannbehov SV'!$B$5:$O$13,,-1),,-1),IF(M11=Hjelpeark!$E$7,_xlfn.XLOOKUP(IF(T11="Naturlig",S11,T11),'Vannbehov FV'!$A$5:$A$20,_xlfn.XLOOKUP('Beregninger gj.strømming'!F11,'Vannbehov FV'!$B$4:$O$4,'Vannbehov FV'!$B$5:$O$20,,-1),,-1),""))} | P11: =IF(A11="","",15) | Q11: =IFERROR(IF(A11="","",IF(P11>I11/K11*O11,P11,I11/K11*O11)),"") | R11: =IF(A11="","",Q11*K11*1.44) | S11: =IFERROR(IF(M11=Hjelpeark!$D$7,_xlfn.XLOOKUP('Beregninger gj.strømming'!C11,Hjelpeark!$C$8:$C$19,Hjelpeark!$D$8:$D$19),_xlfn.XLOOKUP('Beregninger gj.strømming'!C11,Hjelpeark!$C$8:$C$19,Hjelpeark!$E$8:$E$19)),"") | T11: =IF(A11="","",T10) | U11: =IFERROR(IF(T11=Hjelpeark!$B$4,0,ABS(T11-S11)),"") | V11: =IFERROR(IF(A11="","",_xlfn.XLOOKUP(D11,Prisliste!$C$4:$F$4,Prisliste!$C$20:$F$20)),"") | W11: =IFERROR(U11*_xlfn.XLOOKUP(D11,Prisliste!$C$4:$F$4,Prisliste!$C$21:$F$21),"") | X11: =IFERROR(IF(A11="","",IF(N11="Ja",_xlfn.XLOOKUP('Beregninger gj.strømming'!D11,Prisliste!$C$4:$F$4,Prisliste!$C$24:$F$24),0)),"") | Y11: =IF(SUM(V11:X11)=0,"",SUM(V11:X11)) | Z11: =IF(A11="","",V11*R11) | AA11: =IFERROR(IF($A$4="","",W11*$R11),"") | AB11: =IFERROR(IF($A$4="","",X11*$R11),"") | AC11: =IFERROR(R11*Y11,"") | AD11: =K11 | AF11: =IFERROR(_xlfn.XLOOKUP(D11,Prisliste!$C$4:$F$4,Prisliste!$C$19:$F$19)*AD11,"")
A12: =IF(A11="","",IF(A11+1<=f_slutt,'Beregninger gj.strømming'!A11+1,"")) | B12: =IFERROR(_xlfn.ISOWEEKNUM(A12),"") | C12: =IFERROR(MONTH(A12),"") | D12: =IFERROR(YEAR(A12),"") | E12: =IFERROR(IF(A12="","",E11),"") | F12: =IF(A12="","",F11+(F11*H11/100)) | G12: =IF($A12="","",'Priseestimat gj.strømming'!$C$15) | H12: {=IF(M12=Hjelpeark!$E$7,_xlfn.XLOOKUP(IF(T12="Naturlig",S12,T12),Temp_VT_FV,_xlfn.XLOOKUP('Beregninger gj.strømming'!F12,Fiskevekt_VT_FV,'Veksttabell FV'!$B$5:$T$21,,-1),,-1)*G12,IF('Beregninger gj.strømming'!M12=Hjelpeark!$D$7,_xlfn.XLOOKUP(IF(T12="Naturlig",S12,T12),'Veksttabell SV'!$A$6:$A$22,_xlfn.XLOOKUP('Beregninger gj.strømming'!F12,'Veksttabell SV'!$B$5:$AU$5,'Veksttabell SV'!$B$6:$AU$22,,-1),,-1)*G12,""))} | I12: =IF(A12="","",E12*F12/1000) | J12: =IF(A12="","",I12/(L12/1000)/K12) | K12: =IF(A12="","",'Priseestimat gj.strømming'!$C$10) | L12: =IF(A12="","",'Priseestimat gj.strømming'!$C$11) | M12: =IF(A12="","",'Priseestimat gj.strømming'!$C$12) | N12: =IF($A12="","",'Priseestimat gj.strømming'!$C$6) | O12: {=IF(M12=Hjelpeark!$D$7,_xlfn.XLOOKUP(IF(T12="Naturlig",S12,T12),'Vannbehov SV'!$A$5:$A$13,_xlfn.XLOOKUP('Beregninger gj.strømming'!F12,'Vannbehov SV'!$B$4:$O$4,'Vannbehov SV'!$B$5:$O$13,,-1),,-1),IF(M12=Hjelpeark!$E$7,_xlfn.XLOOKUP(IF(T12="Naturlig",S12,T12),'Vannbehov FV'!$A$5:$A$20,_xlfn.XLOOKUP('Beregninger gj.strømming'!F12,'Vannbehov FV'!$B$4:$O$4,'Vannbehov FV'!$B$5:$O$20,,-1),,-1),""))} | P12: =IF(A12="","",15) | Q12: =IFERROR(IF(A12="","",IF(P12>I12/K12*O12,P12,I12/K12*O12)),"") | R12: =IF(A12="","",Q12*K12*1.44) | S12: =IFERROR(IF(M12=Hjelpeark!$D$7,_xlfn.XLOOKUP('Beregninger gj.strømming'!C12,Hjelpeark!$C$8:$C$19,Hjelpeark!$D$8:$D$19),_xlfn.XLOOKUP('Beregninger gj.strømming'!C12,Hjelpeark!$C$8:$C$19,Hjelpeark!$E$8:$E$19)),"") | T12: =IF(A12="","",T11) | U12: =IFERROR(IF(T12=Hjelpeark!$B$4,0,ABS(T12-S12)),"") | V12: =IFERROR(IF(A12="","",_xlfn.XLOOKUP(D12,Prisliste!$C$4:$F$4,Prisliste!$C$20:$F$20)),"") | W12: =IFERROR(U12*_xlfn.XLOOKUP(D12,Prisliste!$C$4:$F$4,Prisliste!$C$21:$F$21),"") | X12: =IFERROR(IF(A12="","",IF(N12="Ja",_xlfn.XLOOKUP('Beregninger gj.strømming'!D12,Prisliste!$C$4:$F$4,Prisliste!$C$24:$F$24),0)),"") | Y12: =IF(SUM(V12:X12)=0,"",SUM(V12:X12)) | Z12: =IF(A12="","",V12*R12) | AA12: =IFERROR(IF($A$4="","",W12*$R12),"") | AB12: =IFERROR(IF($A$4="","",X12*$R12),"") | AC12: =IFERROR(R12*Y12,"") | AD12: =K12 | AF12: =IFERROR(_xlfn.XLOOKUP(D12,Prisliste!$C$4:$F$4,Prisliste!$C$19:$F$19)*AD12,"")
A13: =IF(A12="","",IF(A12+1<=f_slutt,'Beregninger gj.strømming'!A12+1,"")) | B13: =IFERROR(_xlfn.ISOWEEKNUM(A13),"") | C13: =IFERROR(MONTH(A13),"") | D13: =IFERROR(YEAR(A13),"") | E13: =IFERROR(IF(A13="","",E12),"") | F13: =IF(A13="","",F12+(F12*H12/100)) | G13: =IF($A13="","",'Priseestimat gj.strømming'!$C$15) | H13: {=IF(M13=Hjelpeark!$E$7,_xlfn.XLOOKUP(IF(T13="Naturlig",S13,T13),Temp_VT_FV,_xlfn.XLOOKUP('Beregninger gj.strømming'!F13,Fiskevekt_VT_FV,'Veksttabell FV'!$B$5:$T$21,,-1),,-1)*G13,IF('Beregninger gj.strømming'!M13=Hjelpeark!$D$7,_xlfn.XLOOKUP(IF(T13="Naturlig",S13,T13),'Veksttabell SV'!$A$6:$A$22,_xlfn.XLOOKUP('Beregninger gj.strømming'!F13,'Veksttabell SV'!$B$5:$AU$5,'Veksttabell SV'!$B$6:$AU$22,,-1),,-1)*G13,""))} | I13: =IF(A13="","",E13*F13/1000) | J13: =IF(A13="","",I13/(L13/1000)/K13) | K13: =IF(A13="","",'Priseestimat gj.strømming'!$C$10) | L13: =IF(A13="","",'Priseestimat gj.strømming'!$C$11) | M13: =IF(A13="","",'Priseestimat gj.strømming'!$C$12) | N13: =IF($A13="","",'Priseestimat gj.strømming'!$C$6) | O13: {=IF(M13=Hjelpeark!$D$7,_xlfn.XLOOKUP(IF(T13="Naturlig",S13,T13),'Vannbehov SV'!$A$5:$A$13,_xlfn.XLOOKUP('Beregninger gj.strømming'!F13,'Vannbehov SV'!$B$4:$O$4,'Vannbehov SV'!$B$5:$O$13,,-1),,-1),IF(M13=Hjelpeark!$E$7,_xlfn.XLOOKUP(IF(T13="Naturlig",S13,T13),'Vannbehov FV'!$A$5:$A$20,_xlfn.XLOOKUP('Beregninger gj.strømming'!F13,'Vannbehov FV'!$B$4:$O$4,'Vannbehov FV'!$B$5:$O$20,,-1),,-1),""))} | P13: =IF(A13="","",15) | Q13: =IFERROR(IF(A13="","",IF(P13>I13/K13*O13,P13,I13/K13*O13)),"") | R13: =IF(A13="","",Q13*K13*1.44) | S13: =IFERROR(IF(M13=Hjelpeark!$D$7,_xlfn.XLOOKUP('Beregninger gj.strømming'!C13,Hjelpeark!$C$8:$C$19,Hjelpeark!$D$8:$D$19),_xlfn.XLOOKUP('Beregninger gj.strømming'!C13,Hjelpeark!$C$8:$C$19,Hjelpeark!$E$8:$E$19)),"") | T13: =IF(A13="","",T12) | U13: =IFERROR(IF(T13=Hjelpeark!$B$4,0,ABS(T13-S13)),"") | V13: =IFERROR(IF(A13="","",_xlfn.XLOOKUP(D13,Prisliste!$C$4:$F$4,Prisliste!$C$20:$F$20)),"") | W13: =IFERROR(U13*_xlfn.XLOOKUP(D13,Prisliste!$C$4:$F$4,Prisliste!$C$21:$F$21),"") | X13: =IFERROR(IF(A13="","",IF(N13="Ja",_xlfn.XLOOKUP('Beregninger gj.strømming'!D13,Prisliste!$C$4:$F$4,Prisliste!$C$24:$F$24),0)),"") | Y13: =IF(SUM(V13:X13)=0,"",SUM(V13:X13)) | Z13: =IF(A13="","",V13*R13) | AA13: =IFERROR(IF($A$4="","",W13*$R13),"") | AB13: =IFERROR(IF($A$4="","",X13*$R13),"") | AC13: =IFERROR(R13*Y13,"") | AD13: =K13 | AF13: =IFERROR(_xlfn.XLOOKUP(D13,Prisliste!$C$4:$F$4,Prisliste!$C$19:$F$19)*AD13,"")
A14: =IF(A13="","",IF(A13+1<=f_slutt,'Beregninger gj.strømming'!A13+1,"")) | B14: =IFERROR(_xlfn.ISOWEEKNUM(A14),"") | C14: =IFERROR(MONTH(A14),"") | D14: =IFERROR(YEAR(A14),"") | E14: =IFERROR(IF(A14="","",E13),"") | F14: =IF(A14="","",F13+(F13*H13/100)) | G14: =IF($A14="","",'Priseestimat gj.strømming'!$C$15) | H14: {=IF(M14=Hjelpeark!$E$7,_xlfn.XLOOKUP(IF(T14="Naturlig",S14,T14),Temp_VT_FV,_xlfn.XLOOKUP('Beregninger gj.strømming'!F14,Fiskevekt_VT_FV,'Veksttabell FV'!$B$5:$T$21,,-1),,-1)*G14,IF('Beregninger gj.strømming'!M14=Hjelpeark!$D$7,_xlfn.XLOOKUP(IF(T14="Naturlig",S14,T14),'Veksttabell SV'!$A$6:$A$22,_xlfn.XLOOKUP('Beregninger gj.strømming'!F14,'Veksttabell SV'!$B$5:$AU$5,'Veksttabell SV'!$B$6:$AU$22,,-1),,-1)*G14,""))} | I14: =IF(A14="","",E14*F14/1000) | J14: =IF(A14="","",I14/(L14/1000)/K14) | K14: =IF(A14="","",'Priseestimat gj.strømming'!$C$10) | L14: =IF(A14="","",'Priseestimat gj.strømming'!$C$11) | M14: =IF(A14="","",'Priseestimat gj.strømming'!$C$12) | N14: =IF($A14="","",'Priseestimat gj.strømming'!$C$6) | O14: {=IF(M14=Hjelpeark!$D$7,_xlfn.XLOOKUP(IF(T14="Naturlig",S14,T14),'Vannbehov SV'!$A$5:$A$13,_xlfn.XLOOKUP('Beregninger gj.strømming'!F14,'Vannbehov SV'!$B$4:$O$4,'Vannbehov SV'!$B$5:$O$13,,-1),,-1),IF(M14=Hjelpeark!$E$7,_xlfn.XLOOKUP(IF(T14="Naturlig",S14,T14),'Vannbehov FV'!$A$5:$A$20,_xlfn.XLOOKUP('Beregninger gj.strømming'!F14,'Vannbehov FV'!$B$4:$O$4,'Vannbehov FV'!$B$5:$O$20,,-1),,-1),""))} | P14: =IF(A14="","",15) | Q14: =IFERROR(IF(A14="","",IF(P14>I14/K14*O14,P14,I14/K14*O14)),"") | R14: =IF(A14="","",Q14*K14*1.44) | S14: =IFERROR(IF(M14=Hjelpeark!$D$7,_xlfn.XLOOKUP('Beregninger gj.strømming'!C14,Hjelpeark!$C$8:$C$19,Hjelpeark!$D$8:$D$19),_xlfn.XLOOKUP('Beregninger gj.strømming'!C14,Hjelpeark!$C$8:$C$19,Hjelpeark!$E$8:$E$19)),"") | T14: =IF(A14="","",T13) | U14: =IFERROR(IF(T14=Hjelpeark!$B$4,0,ABS(T14-S14)),"") | V14: =IFERROR(IF(A14="","",_xlfn.XLOOKUP(D14,Prisliste!$C$4:$F$4,Prisliste!$C$20:$F$20)),"") | W14: =IFERROR(U14*_xlfn.XLOOKUP(D14,Prisliste!$C$4:$F$4,Prisliste!$C$21:$F$21),"") | X14: =IFERROR(IF(A14="","",IF(N14="Ja",_xlfn.XLOOKUP('Beregninger gj.strømming'!D14,Prisliste!$C$4:$F$4,Prisliste!$C$24:$F$24),0)),"") | Y14: =IF(SUM(V14:X14)=0,"",SUM(V14:X14)) | Z14: =IF(A14="","",V14*R14) | AA14: =IFERROR(IF($A$4="","",W14*$R14),"") | AB14: =IFERROR(IF($A$4="","",X14*$R14),"") | AC14: =IFERROR(R14*Y14,"") | AD14: =K14 | AF14: =IFERROR(_xlfn.XLOOKUP(D14,Prisliste!$C$4:$F$4,Prisliste!$C$19:$F$19)*AD14,"")
A15: =IF(A14="","",IF(A14+1<=f_slutt,'Beregninger gj.strømming'!A14+1,"")) | B15: =IFERROR(_xlfn.ISOWEEKNUM(A15),"") | C15: =IFERROR(MONTH(A15),"") | D15: =IFERROR(YEAR(A15),"") | E15: =IFERROR(IF(A15="","",E14),"") | F15: =IF(A15="","",F14+(F14*H14/100)) | G15: =IF($A15="","",'Priseestimat gj.strømming'!$C$15) | H15: {=IF(M15=Hjelpeark!$E$7,_xlfn.XLOOKUP(IF(T15="Naturlig",S15,T15),Temp_VT_FV,_xlfn.XLOOKUP('Beregninger gj.strømming'!F15,Fiskevekt_VT_FV,'Veksttabell FV'!$B$5:$T$21,,-1),,-1)*G15,IF('Beregninger gj.strømming'!M15=Hjelpeark!$D$7,_xlfn.XLOOKUP(IF(T15="Naturlig",S15,T15),'Veksttabell SV'!$A$6:$A$22,_xlfn.XLOOKUP('Beregninger gj.strømming'!F15,'Veksttabell SV'!$B$5:$AU$5,'Veksttabell SV'!$B$6:$AU$22,,-1),,-1)*G15,""))} | I15: =IF(A15="","",E15*F15/1000) | J15: =IF(A15="","",I15/(L15/1000)/K15) | K15: =IF(A15="","",'Priseestimat gj.strømming'!$C$10) | L15: =IF(A15="","",'Priseestimat gj.strømming'!$C$11) | M15: =IF(A15="","",'Priseestimat gj.strømming'!$C$12) | N15: =IF($A15="","",'Priseestimat gj.strømming'!$C$6) | O15: {=IF(M15=Hjelpeark!$D$7,_xlfn.XLOOKUP(IF(T15="Naturlig",S15,T15),'Vannbehov SV'!$A$5:$A$13,_xlfn.XLOOKUP('Beregninger gj.strømming'!F15,'Vannbehov SV'!$B$4:$O$4,'Vannbehov SV'!$B$5:$O$13,,-1),,-1),IF(M15=Hjelpeark!$E$7,_xlfn.XLOOKUP(IF(T15="Naturlig",S15,T15),'Vannbehov FV'!$A$5:$A$20,_xlfn.XLOOKUP('Beregninger gj.strømming'!F15,'Vannbehov FV'!$B$4:$O$4,'Vannbehov FV'!$B$5:$O$20,,-1),,-1),""))} | P15: =IF(A15="","",15) | Q15: =IFERROR(IF(A15="","",IF(P15>I15/K15*O15,P15,I15/K15*O15)),"") | R15: =IF(A15="","",Q15*K15*1.44) | S15: =IFERROR(IF(M15=Hjelpeark!$D$7,_xlfn.XLOOKUP('Beregninger gj.strømming'!C15,Hjelpeark!$C$8:$C$19,Hjelpeark!$D$8:$D$19),_xlfn.XLOOKUP('Beregninger gj.strømming'!C15,Hjelpeark!$C$8:$C$19,Hjelpeark!$E$8:$E$19)),"") | T15: =IF(A15="","",T14) | U15: =IFERROR(IF(T15=Hjelpeark!$B$4,0,ABS(T15-S15)),"") | V15: =IFERROR(IF(A15="","",_xlfn.XLOOKUP(D15,Prisliste!$C$4:$F$4,Prisliste!$C$20:$F$20)),"") | W15: =IFERROR(U15*_xlfn.XLOOKUP(D15,Prisliste!$C$4:$F$4,Prisliste!$C$21:$F$21),"") | X15: =IFERROR(IF(A15="","",IF(N15="Ja",_xlfn.XLOOKUP('Beregninger gj.strømming'!D15,Prisliste!$C$4:$F$4,Prisliste!$C$24:$F$24),0)),"") | Y15: =IF(SUM(V15:X15)=0,"",SUM(V15:X15)) | Z15: =IF(A15="","",V15*R15) | AA15: =IFERROR(IF($A$4="","",W15*$R15),"") | AB15: =IFERROR(IF($A$4="","",X15*$R15),"") | AC15: =IFERROR(R15*Y15,"") | AD15: =K15 | AF15: =IFERROR(_xlfn.XLOOKUP(D15,Prisliste!$C$4:$F$4,Prisliste!$C$19:$F$19)*AD15,"")
A16: =IF(A15="","",IF(A15+1<=f_slutt,'Beregninger gj.strømming'!A15+1,"")) | B16: =IFERROR(_xlfn.ISOWEEKNUM(A16),"") | C16: =IFERROR(MONTH(A16),"") | D16: =IFERROR(YEAR(A16),"") | E16: =IFERROR(IF(A16="","",E15),"") | F16: =IF(A16="","",F15+(F15*H15/100)) | G16: =IF($A16="","",'Priseestimat gj.strømming'!$C$15) | H16: {=IF(M16=Hjelpeark!$E$7,_xlfn.XLOOKUP(IF(T16="Naturlig",S16,T16),Temp_VT_FV,_xlfn.XLOOKUP('Beregninger gj.strømming'!F16,Fiskevekt_VT_FV,'Veksttabell FV'!$B$5:$T$21,,-1),,-1)*G16,IF('Beregninger gj.strømming'!M16=Hjelpeark!$D$7,_xlfn.XLOOKUP(IF(T16="Naturlig",S16,T16),'Veksttabell SV'!$A$6:$A$22,_xlfn.XLOOKUP('Beregninger gj.strømming'!F16,'Veksttabell SV'!$B$5:$AU$5,'Veksttabell SV'!$B$6:$AU$22,,-1),,-1)*G16,""))} | I16: =IF(A16="","",E16*F16/1000) | J16: =IF(A16="","",I16/(L16/1000)/K16) | K16: =IF(A16="","",'Priseestimat gj.strømming'!$C$10) | L16: =IF(A16="","",'Priseestimat gj.strømming'!$C$11) | M16: =IF(A16="","",'Priseestimat gj.strømming'!$C$12) | N16: =IF($A16="","",'Priseestimat gj.strømming'!$C$6) | O16: {=IF(M16=Hjelpeark!$D$7,_xlfn.XLOOKUP(IF(T16="Naturlig",S16,T16),'Vannbehov SV'!$A$5:$A$13,_xlfn.XLOOKUP('Beregninger gj.strømming'!F16,'Vannbehov SV'!$B$4:$O$4,'Vannbehov SV'!$B$5:$O$13,,-1),,-1),IF(M16=Hjelpeark!$E$7,_xlfn.XLOOKUP(IF(T16="Naturlig",S16,T16),'Vannbehov FV'!$A$5:$A$20,_xlfn.XLOOKUP('Beregninger gj.strømming'!F16,'Vannbehov FV'!$B$4:$O$4,'Vannbehov FV'!$B$5:$O$20,,-1),,-1),""))} | P16: =IF(A16="","",15) | Q16: =IFERROR(IF(A16="","",IF(P16>I16/K16*O16,P16,I16/K16*O16)),"") | R16: =IF(A16="","",Q16*K16*1.44) | S16: =IFERROR(IF(M16=Hjelpeark!$D$7,_xlfn.XLOOKUP('Beregninger gj.strømming'!C16,Hjelpeark!$C$8:$C$19,Hjelpeark!$D$8:$D$19),_xlfn.XLOOKUP('Beregninger gj.strømming'!C16,Hjelpeark!$C$8:$C$19,Hjelpeark!$E$8:$E$19)),"") | T16: =IF(A16="","",T15) | U16: =IFERROR(IF(T16=Hjelpeark!$B$4,0,ABS(T16-S16)),"") | V16: =IFERROR(IF(A16="","",_xlfn.XLOOKUP(D16,Prisliste!$C$4:$F$4,Prisliste!$C$20:$F$20)),"") | W16: =IFERROR(U16*_xlfn.XLOOKUP(D16,Prisliste!$C$4:$F$4,Prisliste!$C$21:$F$21),"") | X16: =IFERROR(IF(A16="","",IF(N16="Ja",_xlfn.XLOOKUP('Beregninger gj.strømming'!D16,Prisliste!$C$4:$F$4,Prisliste!$C$24:$F$24),0)),"") | Y16: =IF(SUM(V16:X16)=0,"",SUM(V16:X16)) | Z16: =IF(A16="","",V16*R16) | AA16: =IFERROR(IF($A$4="","",W16*$R16),"") | AB16: =IFERROR(IF($A$4="","",X16*$R16),"") | AC16: =IFERROR(R16*Y16,"") | AD16: =K16 | AF16: =IFERROR(_xlfn.XLOOKUP(D16,Prisliste!$C$4:$F$4,Prisliste!$C$19:$F$19)*AD16,"")
... A1100: =IF(A1099="","",IF(A1099+1<=f_slutt,'Beregninger gj.strømming'!A1099+1,"")) | B1100: =IFERROR(_xlfn.ISOWEEKNUM(A1100),"") | C1100: =IFERROR(MONTH(A1100),"") | D1100: =IFERROR(YEAR(A1100),"") | E1100: =IFERROR(IF(A1100="","",E1099),"") | F1100: =IF(A1100="","",F1099+(F1099*H1099/100)) | G1100: =IF($A1100="","",'Priseestimat gj.strømming'!$C$15) | H1100: {=IF(M1100=Hjelpeark!$E$7,_xlfn.XLOOKUP(IF(T1100="Naturlig",S1100,T1100),Temp_VT_FV,_xlfn.XLOOKUP('Beregninger gj.strømming'!F1100,Fiskevekt_VT_FV,'Veksttabell FV'!$B$5:$T$21,,-1),,-1)*G1100,IF('Beregninger gj.strømming'!M1100=Hjelpeark!$D$7,_xlfn.XLOOKUP(IF(T1100="Naturlig",S1100,T1100),'Veksttabell SV'!$A$6:$A$22,_xlfn.XLOOKUP('Beregninger gj.strømming'!F1100,'Veksttabell SV'!$B$5:$AU$5,'Veksttabell SV'!$B$6:$AU$22,,-1),,-1)*G1100,""))} | I1100: =IF(A1100="","",E1100*F1100/1000) | J1100: =IF(A1100="","",I1100/(L1100/1000)/K1100) | K1100: =IF(A1100="","",'Priseestimat gj.strømming'!$C$10) | L1100: =IF(A1100="","",'Priseestimat gj.strømming'!$C$11) | M1100: =IF(A1100="","",'Priseestimat gj.strømming'!$C$12) | N1100: =IF($A1100="","",'Priseestimat gj.strømming'!$C$6) | O1100: {=IF(M1100=Hjelpeark!$D$7,_xlfn.XLOOKUP(IF(T1100="Naturlig",S1100,T1100),'Vannbehov SV'!$A$5:$A$13,_xlfn.XLOOKUP('Beregninger gj.strømming'!F1100,'Vannbehov SV'!$B$4:$O$4,'Vannbehov SV'!$B$5:$O$13,,-1),,-1),IF(M1100=Hjelpeark!$E$7,_xlfn.XLOOKUP(IF(T1100="Naturlig",S1100,T1100),'Vannbehov FV'!$A$5:$A$20,_xlfn.XLOOKUP('Beregninger gj.strømming'!F1100,'Vannbehov FV'!$B$4:$O$4,'Vannbehov FV'!$B$5:$O$20,,-1),,-1),""))} | P1100: =IF(A1100="","",15) | Q1100: =IFERROR(IF(A1100="","",IF(P1100>I1100/K1100*O1100,P1100,I1100/K1100*O1100)),"") | R1100: =IF(A1100="","",Q1100*K1100*1.44) | S1100: =IFERROR(IF(M1100=Hjelpeark!$D$7,_xlfn.XLOOKUP('Beregninger gj.strømming'!C1100,Hjelpeark!$C$8:$C$19,Hjelpeark!$D$8:$D$19),_xlfn.XLOOKUP('Beregninger gj.strømming'!C1100,Hjelpeark!$C$8:$C$19,Hjelpeark!$E$8:$E$19)),"") | T1100: =IF(A1100="","",T1099) | U1100: =IFERROR(IF(T1100=Hjelpeark!$B$4,0,ABS(T1100-S1100)),"") | V1100: =IFERROR(IF(A1100="","",_xlfn.XLOOKUP(D1100,Prisliste!$C$4:$F$4,Prisliste!$C$20:$F$20)),"") | W1100: =IFERROR(U1100*_xlfn.XLOOKUP(D1100,Prisliste!$C$4:$F$4,Prisliste!$C$21:$F$21),"") | X1100: =IFERROR(IF(A1100="","",IF(N1100="Ja",_xlfn.XLOOKUP('Beregninger gj.strømming'!D1100,Prisliste!$C$4:$F$4,Prisliste!$C$24:$F$24),0)),"") | Y1100: =IF(SUM(V1100:X1100)=0,"",SUM(V1100:X1100)) | Z1100: =IF(A1100="","",V1100*R1100) | AA1100: =IFERROR(IF($A$4="","",W1100*$R1100),"") | AB1100: =IFERROR(IF($A$4="","",X1100*$R1100),"") | AC1100: =IFERROR(R1100*Y1100,"") | AD1100: =K1100 | AF1100: =IFERROR(_xlfn.XLOOKUP(D1100,Prisliste!$C$4:$F$4,Prisliste!$C$19:$F$19)*AD1100,"")

Sheet Prisestimat RAS
C1: Prisestimat for forsøk i resirkuleringssystem (RAS)
B3: Forsøksoppsett | C3: Verdi | D3: Grenseverdier | G3: Bruk av regnearket
D4: Min | E4: Maks
B5: Kunde | G5: - Prisestimat for rigging, karleie og energi til resirkulering
B6: Startdato (dd.mm.åå) | G6: - Det kan kun legges inn data i hvite celler og alle hvite celler må fylles ut for at regnearket skal fungere.
B7: Sluttdato (dd.mm.åå) | G7: - Det benyttes to RAS-moduler i estimatet for RASforsk 9000 l
B8: Ant. døgn | C8: =IF(C6="","",C7-C6+1) | G8: - Veksttabellen Laks HiT representerer den tilveksten Havbruksstasjonen har erfart
B9: Antall kar | G9: - Ved smitteforsøk på Fiskehelselaboratoriet benyttes 70 % av veksttabelen
B10: RAS-system | G10: - Se fanen Beregninger RAS for detaljert oversikt
B11: Vannkvalitet
B12: Veksttabell | G12: Rigging | H12: ='Beregninger RAS'!S4
B13: Forsøkstemperatur | D13: =_xlfn.XLOOKUP($C$10,Hjelpeark!$G$35:$G$37,Hjelpeark!J35:J37,"") | E13: =_xlfn.XLOOKUP($C$10,Hjelpeark!$G$35:$G$37,Hjelpeark!K35:K37,"") | G13: Karleie | H13: =SUM('Beregninger RAS'!T:T) -> 0
B14: Justering av veksttabell | C14: =IF(C10="","",IF(C10=Hjelpeark!P14,0.7,1)) | G14: Energi til resirkulering | H14: =SUM('Beregninger RAS'!U:U) -> 0
B15: Antall fisk ved start
B16: Snittvekt start (g) | D16: =IF($C$11="","",IF($C$11=Hjelpeark!$H$15,'Veksttabell FV'!J23,'Veksttabell SV'!$N$24)) | E16: =IF($C$11="","",IF($C$11=Hjelpeark!$H$15,'Veksttabell FV'!K23,'Veksttabell SV'!$K$24)) | G16: Påslag | H16: 0.2
B17: Snittvekt slutt (g) | C17: =IFERROR(IF(C7="","",_xlfn.XLOOKUP(C7,'Beregninger RAS'!A:A,'Beregninger RAS'!F:F)),"")
B18: Tetthet start (kg/m3) | C18: =IFERROR(IF(C6="","",_xlfn.XLOOKUP(C6,'Beregninger RAS'!A:A,'Beregninger RAS'!J:J)),"") | D18: =_xlfn.XLOOKUP($C$10,Hjelpeark!$G$35:$G$37,Hjelpeark!$H$35:$H$37,"") | E18: =_xlfn.XLOOKUP($C$10,Hjelpeark!$G$35:$G$37,Hjelpeark!$I$35:$I$37,"") | G18: Prisestimat | H18: =IFERROR(IF(C5=Hjelpeark!G9,('Beregninger RAS'!S4+SUM('Beregninger RAS'!T:U)*1.25),'Beregninger RAS'!S4+SUM('Beregninger RAS'!T:U))+IF(C5=Hjelpeark!G9,('Beregninger RAS'!S4+SUM('Beregninger RAS'!T:U)*1.25),'Beregninger RAS'!S4+SUM('Beregninger RAS'!T:U))*H16,"")
B19: Tetthet slutt (kg/m3) | C19: =IFERROR(IF(C7="","",_xlfn.XLOOKUP(C7,'Beregninger RAS'!A:A,'Beregninger RAS'!J:J)),"") | D19: =_xlfn.XLOOKUP($C$10,Hjelpeark!$G$35:$G$37,Hjelpeark!$H$35:$H$37,"") | E19: =_xlfn.XLOOKUP($C$10,Hjelpeark!$G$35:$G$37,Hjelpeark!$I$35:$I$37,"")

Sheet Beregninger RAS
B1: Beregninger RAS
A2: Tid | E2: Tilvekst og biomasse | K2: Kar og vann | R2: Andre kostnader
A3: Dato | B3: Ukenr. | C3: Måned | D3: År | E3: Antall fisk | F3: Snittvekt (g) | G3: Justering av tilvekst (SGR) | H3: SGR (%) | I3: Biomasse (kg) | J3: Tetthet (kg/m3) | K3: Antall kar | L3: RAS-system | M3: Karvolum (liter) | N3: Vannkvalitet | O3: Råvanns-temperatur | P3: Forsøks-temperatur | Q3: ΔT | R3: Kardøgn | S3: Riggkostnad | T3: Karleie | U3: Resirkulering
A4: =IF('Prisestimat RAS'!C6="","",'Prisestimat RAS'!C6) | B4: =IFERROR(_xlfn.ISOWEEKNUM(A4),"") | C4: =IFERROR(MONTH(A4),"") | D4: =IFERROR(YEAR(A4),"") | E4: =IFERROR(IF(A4="","",'Prisestimat RAS'!C15),"") | F4: =IF(A4="","",'Prisestimat RAS'!$C$16) | G4: =IF($A4="","",'Prisestimat RAS'!$C$14) | H4: {=IF(N4=Hjelpeark!$E$7,_xlfn.XLOOKUP(IF(P4="Naturlig",O4,P4),'Veksttabell FV'!$A$26:$A$42,_xlfn.XLOOKUP('Beregninger RAS'!F4,'Veksttabell FV'!$B$25:$T$25,'Veksttabell FV'!$B$26:$T$42,,-1),,-1)*G4,IF('Beregninger RAS'!N4=Hjelpeark!$D$7,_xlfn.XLOOKUP(IF(P4="Naturlig",O4,P4),'Veksttabell SV'!$A$27:$A$43,_xlfn.XLOOKUP('Beregninger RAS'!F4,'Veksttabell SV'!$B$26:$AU$26,'Veksttabell SV'!$B$27:$AU$43,,-1),,-1)*G4,""))} | I4: =IF(A4="","",E4*F4/1000) | J4: =IF(A4="","",I4/(M4/1000)/K4) | K4: =IF(A4="","",'Prisestimat RAS'!$C$9) | L4: =IF(B4="","",'Prisestimat RAS'!$C$10) | M4: =IF(A4="","",_xlfn.XLOOKUP('Prisestimat RAS'!$C$10,Hjelpeark!$P$14:$P$16,Hjelpeark!$Q$14:$Q$16)) | N4: =IF(A4="","",'Prisestimat RAS'!C11) | O4: =IFERROR(IF(N4=Hjelpeark!$D$7,_xlfn.XLOOKUP('Beregninger RAS'!C4,Hjelpeark!$C$8:$C$19,Hjelpeark!$D$8:$D$19),_xlfn.XLOOKUP('Beregninger RAS'!C4,Hjelpeark!$C$8:$C$19,Hjelpeark!$E$8:$E$19)),"") | P4: =IF(A4="","",'Prisestimat RAS'!C13) | Q4: =IFERROR(IF(P4=Hjelpeark!$B$4,0,ABS(P4-O4)),"") | R4: =K4 | S4: =IFERROR(IF(L4=Hjelpeark!$P$14,_xlfn.XLOOKUP(D4,Prisliste!$C$4:$F$4,Prisliste!$C$25:$F$25)*R4,IF(L4=Hjelpeark!$P$15,_xlfn.XLOOKUP(D4,Prisliste!$C$4:$F$4,Prisliste!$C$26:$F$26)*R4,_xlfn.XLOOKUP(D4,Prisliste!$C$4:$F$4,Prisliste!$C$26:$F$26)*R4+_xlfn.XLOOKUP(D4,Prisliste!$C$4:$F$4,Prisliste!$C$27:$F$27)*R4)),"") | T4: =IFERROR(_xlfn.XLOOKUP(D4,Prisliste!$C$4:$F$4,Prisliste!$C$28:$F$28)*R4,"") | U4: =IFERROR(IF(L4=Hjelpeark!$P$14,_xlfn.XLOOKUP(D4,Prisliste!$C$4:$F$4,Prisliste!$C$29:$F$29)*R4,IF(L4=Hjelpeark!$P$15,_xlfn.XLOOKUP(D4,Prisliste!$C$4:$F$4,Prisliste!$C$30:$F$30)*R4,_xlfn.XLOOKUP(D4,Prisliste!$C$4:$F$4,Prisliste!$C$31:$F$31)*R4)),"")
A5: =IF(A4="","",IF(A4+1<='Prisestimat RAS'!$C$7,'Beregninger RAS'!A4+1,"")) | B5: =IFERROR(_xlfn.ISOWEEKNUM(A5),"") | C5: =IFERROR(MONTH(A5),"") | D5: =IFERROR(YEAR(A5),"") | E5: =IFERROR(IF(A5="","",E4),"") | F5: =IF(A5="","",F4+(F4*H4/100)) | G5: =IF($A5="","",'Prisestimat RAS'!$C$14) | H5: {=IF(N5=Hjelpeark!$E$7,_xlfn.XLOOKUP(IF(P5="Naturlig",O5,P5),'Veksttabell FV'!$A$26:$A$42,_xlfn.XLOOKUP('Beregninger RAS'!F5,'Veksttabell FV'!$B$25:$T$25,'Veksttabell FV'!$B$26:$T$42,,-1),,-1)*G5,IF('Beregninger RAS'!N5=Hjelpeark!$D$7,_xlfn.XLOOKUP(IF(P5="Naturlig",O5,P5),'Veksttabell SV'!$A$27:$A$43,_xlfn.XLOOKUP('Beregninger RAS'!F5,'Veksttabell SV'!$B$26:$AU$26,'Veksttabell SV'!$B$27:$AU$43,,-1),,-1)*G5,""))} | I5: =IF(A5="","",E5*F5/1000) | J5: =IF(A5="","",I5/(M5/1000)/K5) | K5: =IF(A5="","",'Prisestimat RAS'!$C$9) | L5: =IF(B5="","",'Prisestimat RAS'!$C$10) | M5: =IF(A5="","",_xlfn.XLOOKUP('Prisestimat RAS'!$C$10,Hjelpeark!$P$14:$P$16,Hjelpeark!$Q$14:$Q$16)) | N5: =IF(A5="","",N4) | O5: =IFERROR(IF(N5=Hjelpeark!$D$7,_xlfn.XLOOKUP('Beregninger RAS'!C5,Hjelpeark!$C$8:$C$19,Hjelpeark!$D$8:$D$19),_xlfn.XLOOKUP('Beregninger RAS'!C5,Hjelpeark!$C$8:$C$19,Hjelpeark!$E$8:$E$19)),"") | P5: =IF(A5="","",P4) | Q5: =IFERROR(IF(P5=Hjelpeark!$B$4,0,ABS(P5-O5)),"") | R5: =K5 | T5: =IFERROR(_xlfn.XLOOKUP(D5,Prisliste!$C$4:$F$4,Prisliste!$C$28:$F$28)*R5,"") | U5: =IFERROR(IF(L5=Hjelpeark!$P$14,_xlfn.XLOOKUP(D5,Prisliste!$C$4:$F$4,Prisliste!$C$29:$F$29)*R5,IF(L5=Hjelpeark!$P$15,_xlfn.XLOOKUP(D5,Prisliste!$C$4:$F$4,Prisliste!$C$30:$F$30)*R5,_xlfn.XLOOKUP(D5,Prisliste!$C$4:$F$4,Prisliste!$C$31:$F$31)*R5)),"")
A6: =IF(A5="","",IF(A5+1<='Prisestimat RAS'!$C$7,'Beregninger RAS'!A5+1,"")) | B6: =IFERROR(_xlfn.ISOWEEKNUM(A6),"") | C6: =IFERROR(MONTH(A6),"") | D6: =IFERROR(YEAR(A6),"") | E6: =IFERROR(IF(A6="","",E5),"") | F6: =IF(A6="","",F5+(F5*H5/100)) | G6: =IF($A6="","",'Prisestimat RAS'!$C$14) | H6: {=IF(N6=Hjelpeark!$E$7,_xlfn.XLOOKUP(IF(P6="Naturlig",O6,P6),'Veksttabell FV'!$A$26:$A$42,_xlfn.XLOOKUP('Beregninger RAS'!F6,'Veksttabell FV'!$B$25:$T$25,'Veksttabell FV'!$B$26:$T$42,,-1),,-1)*G6,IF('Beregninger RAS'!N6=Hjelpeark!$D$7,_xlfn.XLOOKUP(IF(P6="Naturlig",O6,P6),'Veksttabell SV'!$A$27:$A$43,_xlfn.XLOOKUP('Beregninger RAS'!F6,'Veksttabell SV'!$B$26:$AU$26,'Veksttabell SV'!$B$27:$AU$43,,-1),,-1)*G6,""))} | I6: =IF(A6="","",E6*F6/1000) | J6: =IF(A6="","",I6/(M6/1000)/K6) | K6: =IF(A6="","",'Prisestimat RAS'!$C$9) | L6: =IF(B6="","",'Prisestimat RAS'!$C$10) | M6: =IF(A6="","",_xlfn.XLOOKUP('Prisestimat RAS'!$C$10,Hjelpeark!$P$14:$P$16,Hjelpeark!$Q$14:$Q$16)) | N6: =IF(A6="","",N5) | O6: =IFERROR(IF(N6=Hjelpeark!$D$7,_xlfn.XLOOKUP('Beregninger RAS'!C6,Hjelpeark!$C$8:$C$19,Hjelpeark!$D$8:$D$19),_xlfn.XLOOKUP('Beregninger RAS'!C6,Hjelpeark!$C$8:$C$19,Hjelpeark!$E$8:$E$19)),"") | P6: =IF(A6="","",P5) | Q6: =IFERROR(IF(P6=Hjelpeark!$B$4,0,ABS(P6-O6)),"") | R6: =K6 | T6: =IFERROR(_xlfn.XLOOKUP(D6,Prisliste!$C$4:$F$4,Prisliste!$C$28:$F$28)*R6,"") | U6: =IFERROR(IF(L6=Hjelpeark!$P$14,_xlfn.XLOOKUP(D6,Prisliste!$C$4:$F$4,Prisliste!$C$29:$F$29)*R6,IF(L6=Hjelpeark!$P$15,_xlfn.XLOOKUP(D6,Prisliste!$C$4:$F$4,Prisliste!$C$30:$F$30)*R6,_xlfn.XLOOKUP(D6,Prisliste!$C$4:$F$4,Prisliste!$C$31:$F$31)*R6)),"")
A7: =IF(A6="","",IF(A6+1<='Prisestimat RAS'!$C$7,'Beregninger RAS'!A6+1,"")) | B7: =IFERROR(_xlfn.ISOWEEKNUM(A7),"") | C7: =IFERROR(MONTH(A7),"") | D7: =IFERROR(YEAR(A7),"") | E7: =IFERROR(IF(A7="","",E6),"") | F7: =IF(A7="","",F6+(F6*H6/100)) | G7: =IF($A7="","",'Prisestimat RAS'!$C$14) | H7: {=IF(N7=Hjelpeark!$E$7,_xlfn.XLOOKUP(IF(P7="Naturlig",O7,P7),'Veksttabell FV'!$A$26:$A$42,_xlfn.XLOOKUP('Beregninger RAS'!F7,'Veksttabell FV'!$B$25:$T$25,'Veksttabell FV'!$B$26:$T$42,,-1),,-1)*G7,IF('Beregninger RAS'!N7=Hjelpeark!$D$7,_xlfn.XLOOKUP(IF(P7="Naturlig",O7,P7),'Veksttabell SV'!$A$27:$A$43,_xlfn.XLOOKUP('Beregninger RAS'!F7,'Veksttabell SV'!$B$26:$AU$26,'Veksttabell SV'!$B$27:$AU$43,,-1),,-1)*G7,""))} | I7: =IF(A7="","",E7*F7/1000) | J7: =IF(A7="","",I7/(M7/1000)/K7) | K7: =IF(A7="","",'Prisestimat RAS'!$C$9) | L7: =IF(B7="","",'Prisestimat RAS'!$C$10) | M7: =IF(A7="","",_xlfn.XLOOKUP('Prisestimat RAS'!$C$10,Hjelpeark!$P$14:$P$16,Hjelpeark!$Q$14:$Q$16)) | N7: =IF(A7="","",N6) | O7: =IFERROR(IF(N7=Hjelpeark!$D$7,_xlfn.XLOOKUP('Beregninger RAS'!C7,Hjelpeark!$C$8:$C$19,Hjelpeark!$D$8:$D$19),_xlfn.XLOOKUP('Beregninger RAS'!C7,Hjelpeark!$C$8:$C$19,Hjelpeark!$E$8:$E$19)),"") | P7: =IF(A7="","",P6) | Q7: =IFERROR(IF(P7=Hjelpeark!$B$4,0,ABS(P7-O7)),"") | R7: =K7 | T7: =IFERROR(_xlfn.XLOOKUP(D7,Prisliste!$C$4:$F$4,Prisliste!$C$28:$F$28)*R7,"") | U7: =IFERROR(IF(L7=Hjelpeark!$P$14,_xlfn.XLOOKUP(D7,Prisliste!$C$4:$F$4,Prisliste!$C$29:$F$29)*R7,IF(L7=Hjelpeark!$P$15,_xlfn.XLOOKUP(D7,Prisliste!$C$4:$F$4,Prisliste!$C$30:$F$30)*R7,_xlfn.XLOOKUP(D7,Prisliste!$C$4:$F$4,Prisliste!$C$31:$F$31)*R7)),"")
A8: =IF(A7="","",IF(A7+1<='Prisestimat RAS'!$C$7,'Beregninger RAS'!A7+1,"")) | B8: =IFERROR(_xlfn.ISOWEEKNUM(A8),"") | C8: =IFERROR(MONTH(A8),"") | D8: =IFERROR(YEAR(A8),"") | E8: =IFERROR(IF(A8="","",E7),"") | F8: =IF(A8="","",F7+(F7*H7/100)) | G8: =IF($A8="","",'Prisestimat RAS'!$C$14) | H8: {=IF(N8=Hjelpeark!$E$7,_xlfn.XLOOKUP(IF(P8="Naturlig",O8,P8),'Veksttabell FV'!$A$26:$A$42,_xlfn.XLOOKUP('Beregninger RAS'!F8,'Veksttabell FV'!$B$25:$T$25,'Veksttabell FV'!$B$26:$T$42,,-1),,-1)*G8,IF('Beregninger RAS'!N8=Hjelpeark!$D$7,_xlfn.XLOOKUP(IF(P8="Naturlig",O8,P8),'Veksttabell SV'!$A$27:$A$43,_xlfn.XLOOKUP('Beregninger RAS'!F8,'Veksttabell SV'!$B$26:$AU$26,'Veksttabell SV'!$B$27:$AU$43,,-1),,-1)*G8,""))} | I8: =IF(A8="","",E8*F8/1000) | J8: =IF(A8="","",I8/(M8/1000)/K8) | K8: =IF(A8="","",'Prisestimat RAS'!$C$9) | L8: =IF(B8="","",'Prisestimat RAS'!$C$10) | M8: =IF(A8="","",_xlfn.XLOOKUP('Prisestimat RAS'!$C$10,Hjelpeark!$P$14:$P$16,Hjelpeark!$Q$14:$Q$16)) | N8: =IF(A8="","",N7) | O8: =IFERROR(IF(N8=Hjelpeark!$D$7,_xlfn.XLOOKUP('Beregninger RAS'!C8,Hjelpeark!$C$8:$C$19,Hjelpeark!$D$8:$D$19),_xlfn.XLOOKUP('Beregninger RAS'!C8,Hjelpeark!$C$8:$C$19,Hjelpeark!$E$8:$E$19)),"") | P8: =IF(A8="","",P7) | Q8: =IFERROR(IF(P8=Hjelpeark!$B$4,0,ABS(P8-O8)),"") | R8: =K8 | T8: =IFERROR(_xlfn.XLOOKUP(D8,Prisliste!$C$4:$F$4,Prisliste!$C$28:$F$28)*R8,"") | U8: =IFERROR(IF(L8=Hjelpeark!$P$14,_xlfn.XLOOKUP(D8,Prisliste!$C$4:$F$4,Prisliste!$C$29:$F$29)*R8,IF(L8=Hjelpeark!$P$15,_xlfn.XLOOKUP(D8,Prisliste!$C$4:$F$4,Prisliste!$C$30:$F$30)*R8,_xlfn.XLOOKUP(D8,Prisliste!$C$4:$F$4,Prisliste!$C$31:$F$31)*R8)),"")
A9: =IF(A8="","",IF(A8+1<='Prisestimat RAS'!$C$7,'Beregninger RAS'!A8+1,"")) | B9: =IFERROR(_xlfn.ISOWEEKNUM(A9),"") | C9: =IFERROR(MONTH(A9),"") | D9: =IFERROR(YEAR(A9),"") | E9: =IFERROR(IF(A9="","",E8),"") | F9: =IF(A9="","",F8+(F8*H8/100)) | G9: =IF($A9="","",'Prisestimat RAS'!$C$14) | H9: {=IF(N9=Hjelpeark!$E$7,_xlfn.XLOOKUP(IF(P9="Naturlig",O9,P9),'Veksttabell FV'!$A$26:$A$42,_xlfn.XLOOKUP('Beregninger RAS'!F9,'Veksttabell FV'!$B$25:$T$25,'Veksttabell FV'!$B$26:$T$42,,-1),,-1)*G9,IF('Beregninger RAS'!N9=Hjelpeark!$D$7,_xlfn.XLOOKUP(IF(P9="Naturlig",O9,P9),'Veksttabell SV'!$A$27:$A$43,_xlfn.XLOOKUP('Beregninger RAS'!F9,'Veksttabell SV'!$B$26:$AU$26,'Veksttabell SV'!$B$27:$AU$43,,-1),,-1)*G9,""))} | I9: =IF(A9="","",E9*F9/1000) | J9: =IF(A9="","",I9/(M9/1000)/K9) | K9: =IF(A9="","",'Prisestimat RAS'!$C$9) | L9: =IF(B9="","",'Prisestimat RAS'!$C$10) | M9: =IF(A9="","",_xlfn.XLOOKUP('Prisestimat RAS'!$C$10,Hjelpeark!$P$14:$P$16,Hjelpeark!$Q$14:$Q$16)) | N9: =IF(A9="","",N8) | O9: =IFERROR(IF(N9=Hjelpeark!$D$7,_xlfn.XLOOKUP('Beregninger RAS'!C9,Hjelpeark!$C$8:$C$19,Hjelpeark!$D$8:$D$19),_xlfn.XLOOKUP('Beregninger RAS'!C9,Hjelpeark!$C$8:$C$19,Hjelpeark!$E$8:$E$19)),"") | P9: =IF(A9="","",P8) | Q9: =IFERROR(IF(P9=Hjelpeark!$B$4,0,ABS(P9-O9)),"") | R9: =K9 | T9: =IFERROR(_xlfn.XLOOKUP(D9,Prisliste!$C$4:$F$4,Prisliste!$C$28:$F$28)*R9,"") | U9: =IFERROR(IF(L9=Hjelpeark!$P$14,_xlfn.XLOOKUP(D9,Prisliste!$C$4:$F$4,Prisliste!$C$29:$F$29)*R9,IF(L9=Hjelpeark!$P$15,_xlfn.XLOOKUP(D9,Prisliste!$C$4:$F$4,Prisliste!$C$30:$F$30)*R9,_xlfn.XLOOKUP(D9,Prisliste!$C$4:$F$4,Prisliste!$C$31:$F$31)*R9)),"")
A10: =IF(A9="","",IF(A9+1<='Prisestimat RAS'!$C$7,'Beregninger RAS'!A9+1,"")) | B10: =IFERROR(_xlfn.ISOWEEKNUM(A10),"") | C10: =IFERROR(MONTH(A10),"") | D10: =IFERROR(YEAR(A10),"") | E10: =IFERROR(IF(A10="","",E9),"") | F10: =IF(A10="","",F9+(F9*H9/100)) | G10: =IF($A10="","",'Prisestimat RAS'!$C$14) | H10: {=IF(N10=Hjelpeark!$E$7,_xlfn.XLOOKUP(IF(P10="Naturlig",O10,P10),'Veksttabell FV'!$A$26:$A$42,_xlfn.XLOOKUP('Beregninger RAS'!F10,'Veksttabell FV'!$B$25:$T$25,'Veksttabell FV'!$B$26:$T$42,,-1),,-1)*G10,IF('Beregninger RAS'!N10=Hjelpeark!$D$7,_xlfn.XLOOKUP(IF(P10="Naturlig",O10,P10),'Veksttabell SV'!$A$27:$A$43,_xlfn.XLOOKUP('Beregninger RAS'!F10,'Veksttabell SV'!$B$26:$AU$26,'Veksttabell SV'!$B$27:$AU$43,,-1),,-1)*G10,""))} | I10: =IF(A10="","",E10*F10/1000) | J10: =IF(A10="","",I10/(M10/1000)/K10) | K10: =IF(A10="","",'Prisestimat RAS'!$C$9) | L10: =IF(B10="","",'Prisestimat RAS'!$C$10) | M10: =IF(A10="","",_xlfn.XLOOKUP('Prisestimat RAS'!$C$10,Hjelpeark!$P$14:$P$16,Hjelpeark!$Q$14:$Q$16)) | N10: =IF(A10="","",N9) | O10: =IFERROR(IF(N10=Hjelpeark!$D$7,_xlfn.XLOOKUP('Beregninger RAS'!C10,Hjelpeark!$C$8:$C$19,Hjelpeark!$D$8:$D$19),_xlfn.XLOOKUP('Beregninger RAS'!C10,Hjelpeark!$C$8:$C$19,Hjelpeark!$E$8:$E$19)),"") | P10: =IF(A10="","",P9) | Q10: =IFERROR(IF(P10=Hjelpeark!$B$4,0,ABS(P10-O10)),"") | R10: =K10 | T10: =IFERROR(_xlfn.XLOOKUP(D10,Prisliste!$C$4:$F$4,Prisliste!$C$28:$F$28)*R10,"") | U10: =IFERROR(IF(L10=Hjelpeark!$P$14,_xlfn.XLOOKUP(D10,Prisliste!$C$4:$F$4,Prisliste!$C$29:$F$29)*R10,IF(L10=Hjelpeark!$P$15,_xlfn.XLOOKUP(D10,Prisliste!$C$4:$F$4,Prisliste!$C$30:$F$30)*R10,_xlfn.XLOOKUP(D10,Prisliste!$C$4:$F$4,Prisliste!$C$31:$F$31)*R10)),"")
A11: =IF(A10="","",IF(A10+1<='Prisestimat RAS'!$C$7,'Beregninger RAS'!A10+1,"")) | B11: =IFERROR(_xlfn.ISOWEEKNUM(A11),"") | C11: =IFERROR(MONTH(A11),"") | D11: =IFERROR(YEAR(A11),"") | E11: =IFERROR(IF(A11="","",E10),"") | F11: =IF(A11="","",F10+(F10*H10/100)) | G11: =IF($A11="","",'Prisestimat RAS'!$C$14) | H11: {=IF(N11=Hjelpeark!$E$7,_xlfn.XLOOKUP(IF(P11="Naturlig",O11,P11),'Veksttabell FV'!$A$26:$A$42,_xlfn.XLOOKUP('Beregninger RAS'!F11,'Veksttabell FV'!$B$25:$T$25,'Veksttabell FV'!$B$26:$T$42,,-1),,-1)*G11,IF('Beregninger RAS'!N11=Hjelpeark!$D$7,_xlfn.XLOOKUP(IF(P11="Naturlig",O11,P11),'Veksttabell SV'!$A$27:$A$43,_xlfn.XLOOKUP('Beregninger RAS'!F11,'Veksttabell SV'!$B$26:$AU$26,'Veksttabell SV'!$B$27:$AU$43,,-1),,-1)*G11,""))} | I11: =IF(A11="","",E11*F11/1000) | J11: =IF(A11="","",I11/(M11/1000)/K11) | K11: =IF(A11="","",'Prisestimat RAS'!$C$9) | L11: =IF(B11="","",'Prisestimat RAS'!$C$10) | M11: =IF(A11="","",_xlfn.XLOOKUP('Prisestimat RAS'!$C$10,Hjelpeark!$P$14:$P$16,Hjelpeark!$Q$14:$Q$16)) | N11: =IF(A11="","",N10) | O11: =IFERROR(IF(N11=Hjelpeark!$D$7,_xlfn.XLOOKUP('Beregninger RAS'!C11,Hjelpeark!$C$8:$C$19,Hjelpeark!$D$8:$D$19),_xlfn.XLOOKUP('Beregninger RAS'!C11,Hjelpeark!$C$8:$C$19,Hjelpeark!$E$8:$E$19)),"") | P11: =IF(A11="","",P10) | Q11: =IFERROR(IF(P11=Hjelpeark!$B$4,0,ABS(P11-O11)),"") | R11: =K11 | T11: =IFERROR(_xlfn.XLOOKUP(D11,Prisliste!$C$4:$F$4,Prisliste!$C$28:$F$28)*R11,"") | U11: =IFERROR(IF(L11=Hjelpeark!$P$14,_xlfn.XLOOKUP(D11,Prisliste!$C$4:$F$4,Prisliste!$C$29:$F$29)*R11,IF(L11=Hjelpeark!$P$15,_xlfn.XLOOKUP(D11,Prisliste!$C$4:$F$4,Prisliste!$C$30:$F$30)*R11,_xlfn.XLOOKUP(D11,Prisliste!$C$4:$F$4,Prisliste!$C$31:$F$31)*R11)),"")
A12: =IF(A11="","",IF(A11+1<='Prisestimat RAS'!$C$7,'Beregninger RAS'!A11+1,"")) | B12: =IFERROR(_xlfn.ISOWEEKNUM(A12),"") | C12: =IFERROR(MONTH(A12),"") | D12: =IFERROR(YEAR(A12),"") | E12: =IFERROR(IF(A12="","",E11),"") | F12: =IF(A12="","",F11+(F11*H11/100)) | G12: =IF($A12="","",'Prisestimat RAS'!$C$14) | H12: {=IF(N12=Hjelpeark!$E$7,_xlfn.XLOOKUP(IF(P12="Naturlig",O12,P12),'Veksttabell FV'!$A$26:$A$42,_xlfn.XLOOKUP('Beregninger RAS'!F12,'Veksttabell FV'!$B$25:$T$25,'Veksttabell FV'!$B$26:$T$42,,-1),,-1)*G12,IF('Beregninger RAS'!N12=Hjelpeark!$D$7,_xlfn.XLOOKUP(IF(P12="Naturlig",O12,P12),'Veksttabell SV'!$A$27:$A$43,_xlfn.XLOOKUP('Beregninger RAS'!F12,'Veksttabell SV'!$B$26:$AU$26,'Veksttabell SV'!$B$27:$AU$43,,-1),,-1)*G12,""))} | I12: =IF(A12="","",E12*F12/1000) | J12: =IF(A12="","",I12/(M12/1000)/K12) | K12: =IF(A12="","",'Prisestimat RAS'!$C$9) | L12: =IF(B12="","",'Prisestimat RAS'!$C$10) | M12: =IF(A12="","",_xlfn.XLOOKUP('Prisestimat RAS'!$C$10,Hjelpeark!$P$14:$P$16,Hjelpeark!$Q$14:$Q$16)) | N12: =IF(A12="","",N11) | O12: =IFERROR(IF(N12=Hjelpeark!$D$7,_xlfn.XLOOKUP('Beregninger RAS'!C12,Hjelpeark!$C$8:$C$19,Hjelpeark!$D$8:$D$19),_xlfn.XLOOKUP('Beregninger RAS'!C12,Hjelpeark!$C$8:$C$19,Hjelpeark!$E$8:$E$19)),"") | P12: =IF(A12="","",P11) | Q12: =IFERROR(IF(P12=Hjelpeark!$B$4,0,ABS(P12-O12)),"") | R12: =K12 | T12: =IFERROR(_xlfn.XLOOKUP(D12,Prisliste!$C$4:$F$4,Prisliste!$C$28:$F$28)*R12,"") | U12: =IFERROR(IF(L12=Hjelpeark!$P$14,_xlfn.XLOOKUP(D12,Prisliste!$C$4:$F$4,Prisliste!$C$29:$F$29)*R12,IF(L12=Hjelpeark!$P$15,_xlfn.XLOOKUP(D12,Prisliste!$C$4:$F$4,Prisliste!$C$30:$F$30)*R12,_xlfn.XLOOKUP(D12,Prisliste!$C$4:$F$4,Prisliste!$C$31:$F$31)*R12)),"")
A13: =IF(A12="","",IF(A12+1<='Prisestimat RAS'!$C$7,'Beregninger RAS'!A12+1,"")) | B13: =IFERROR(_xlfn.ISOWEEKNUM(A13),"") | C13: =IFERROR(MONTH(A13),"") | D13: =IFERROR(YEAR(A13),"") | E13: =IFERROR(IF(A13="","",E12),"") | F13: =IF(A13="","",F12+(F12*H12/100)) | G13: =IF($A13="","",'Prisestimat RAS'!$C$14) | H13: {=IF(N13=Hjelpeark!$E$7,_xlfn.XLOOKUP(IF(P13="Naturlig",O13,P13),'Veksttabell FV'!$A$26:$A$42,_xlfn.XLOOKUP('Beregninger RAS'!F13,'Veksttabell FV'!$B$25:$T$25,'Veksttabell FV'!$B$26:$T$42,,-1),,-1)*G13,IF('Beregninger RAS'!N13=Hjelpeark!$D$7,_xlfn.XLOOKUP(IF(P13="Naturlig",O13,P13),'Veksttabell SV'!$A$27:$A$43,_xlfn.XLOOKUP('Beregninger RAS'!F13,'Veksttabell SV'!$B$26:$AU$26,'Veksttabell SV'!$B$27:$AU$43,,-1),,-1)*G13,""))} | I13: =IF(A13="","",E13*F13/1000) | J13: =IF(A13="","",I13/(M13/1000)/K13) | K13: =IF(A13="","",'Prisestimat RAS'!$C$9) | L13: =IF(B13="","",'Prisestimat RAS'!$C$10) | M13: =IF(A13="","",_xlfn.XLOOKUP('Prisestimat RAS'!$C$10,Hjelpeark!$P$14:$P$16,Hjelpeark!$Q$14:$Q$16)) | N13: =IF(A13="","",N12) | O13: =IFERROR(IF(N13=Hjelpeark!$D$7,_xlfn.XLOOKUP('Beregninger RAS'!C13,Hjelpeark!$C$8:$C$19,Hjelpeark!$D$8:$D$19),_xlfn.XLOOKUP('Beregninger RAS'!C13,Hjelpeark!$C$8:$C$19,Hjelpeark!$E$8:$E$19)),"") | P13: =IF(A13="","",P12) | Q13: =IFERROR(IF(P13=Hjelpeark!$B$4,0,ABS(P13-O13)),"") | R13: =K13 | T13: =IFERROR(_xlfn.XLOOKUP(D13,Prisliste!$C$4:$F$4,Prisliste!$C$28:$F$28)*R13,"") | U13: =IFERROR(IF(L13=Hjelpeark!$P$14,_xlfn.XLOOKUP(D13,Prisliste!$C$4:$F$4,Prisliste!$C$29:$F$29)*R13,IF(L13=Hjelpeark!$P$15,_xlfn.XLOOKUP(D13,Prisliste!$C$4:$F$4,Prisliste!$C$30:$F$30)*R13,_xlfn.XLOOKUP(D13,Prisliste!$C$4:$F$4,Prisliste!$C$31:$F$31)*R13)),"")
A14: =IF(A13="","",IF(A13+1<='Prisestimat RAS'!$C$7,'Beregninger RAS'!A13+1,"")) | B14: =IFERROR(_xlfn.ISOWEEKNUM(A14),"") | C14: =IFERROR(MONTH(A14),"") | D14: =IFERROR(YEAR(A14),"") | E14: =IFERROR(IF(A14="","",E13),"") | F14: =IF(A14="","",F13+(F13*H13/100)) | G14: =IF($A14="","",'Prisestimat RAS'!$C$14) | H14: {=IF(N14=Hjelpeark!$E$7,_xlfn.XLOOKUP(IF(P14="Naturlig",O14,P14),'Veksttabell FV'!$A$26:$A$42,_xlfn.XLOOKUP('Beregninger RAS'!F14,'Veksttabell FV'!$B$25:$T$25,'Veksttabell FV'!$B$26:$T$42,,-1),,-1)*G14,IF('Beregninger RAS'!N14=Hjelpeark!$D$7,_xlfn.XLOOKUP(IF(P14="Naturlig",O14,P14),'Veksttabell SV'!$A$27:$A$43,_xlfn.XLOOKUP('Beregninger RAS'!F14,'Veksttabell SV'!$B$26:$AU$26,'Veksttabell SV'!$B$27:$AU$43,,-1),,-1)*G14,""))} | I14: =IF(A14="","",E14*F14/1000) | J14: =IF(A14="","",I14/(M14/1000)/K14) | K14: =IF(A14="","",'Prisestimat RAS'!$C$9) | L14: =IF(B14="","",'Prisestimat RAS'!$C$10) | M14: =IF(A14="","",_xlfn.XLOOKUP('Prisestimat RAS'!$C$10,Hjelpeark!$P$14:$P$16,Hjelpeark!$Q$14:$Q$16)) | N14: =IF(A14="","",N13) | O14: =IFERROR(IF(N14=Hjelpeark!$D$7,_xlfn.XLOOKUP('Beregninger RAS'!C14,Hjelpeark!$C$8:$C$19,Hjelpeark!$D$8:$D$19),_xlfn.XLOOKUP('Beregninger RAS'!C14,Hjelpeark!$C$8:$C$19,Hjelpeark!$E$8:$E$19)),"") | P14: =IF(A14="","",P13) | Q14: =IFERROR(IF(P14=Hjelpeark!$B$4,0,ABS(P14-O14)),"") | R14: =K14 | T14: =IFERROR(_xlfn.XLOOKUP(D14,Prisliste!$C$4:$F$4,Prisliste!$C$28:$F$28)*R14,"") | U14: =IFERROR(IF(L14=Hjelpeark!$P$14,_xlfn.XLOOKUP(D14,Prisliste!$C$4:$F$4,Prisliste!$C$29:$F$29)*R14,IF(L14=Hjelpeark!$P$15,_xlfn.XLOOKUP(D14,Prisliste!$C$4:$F$4,Prisliste!$C$30:$F$30)*R14,_xlfn.XLOOKUP(D14,Prisliste!$C$4:$F$4,Prisliste!$C$31:$F$31)*R14)),"")
A15: =IF(A14="","",IF(A14+1<='Prisestimat RAS'!$C$7,'Beregninger RAS'!A14+1,"")) | B15: =IFERROR(_xlfn.ISOWEEKNUM(A15),"") | C15: =IFERROR(MONTH(A15),"") | D15: =IFERROR(YEAR(A15),"") | E15: =IFERROR(IF(A15="","",E14),"") | F15: =IF(A15="","",F14+(F14*H14/100)) | G15: =IF($A15="","",'Prisestimat RAS'!$C$14) | H15: {=IF(N15=Hjelpeark!$E$7,_xlfn.XLOOKUP(IF(P15="Naturlig",O15,P15),'Veksttabell FV'!$A$26:$A$42,_xlfn.XLOOKUP('Beregninger RAS'!F15,'Veksttabell FV'!$B$25:$T$25,'Veksttabell FV'!$B$26:$T$42,,-1),,-1)*G15,IF('Beregninger RAS'!N15=Hjelpeark!$D$7,_xlfn.XLOOKUP(IF(P15="Naturlig",O15,P15),'Veksttabell SV'!$A$27:$A$43,_xlfn.XLOOKUP('Beregninger RAS'!F15,'Veksttabell SV'!$B$26:$AU$26,'Veksttabell SV'!$B$27:$AU$43,,-1),,-1)*G15,""))} | I15: =IF(A15="","",E15*F15/1000) | J15: =IF(A15="","",I15/(M15/1000)/K15) | K15: =IF(A15="","",'Prisestimat RAS'!$C$9) | L15: =IF(B15="","",'Prisestimat RAS'!$C$10) | M15: =IF(A15="","",_xlfn.XLOOKUP('Prisestimat RAS'!$C$10,Hjelpeark!$P$14:$P$16,Hjelpeark!$Q$14:$Q$16)) | N15: =IF(A15="","",N14) | O15: =IFERROR(IF(N15=Hjelpeark!$D$7,_xlfn.XLOOKUP('Beregninger RAS'!C15,Hjelpeark!$C$8:$C$19,Hjelpeark!$D$8:$D$19),_xlfn.XLOOKUP('Beregninger RAS'!C15,Hjelpeark!$C$8:$C$19,Hjelpeark!$E$8:$E$19)),"") | P15: =IF(A15="","",P14) | Q15: =IFERROR(IF(P15=Hjelpeark!$B$4,0,ABS(P15-O15)),"") | R15: =K15 | T15: =IFERROR(_xlfn.XLOOKUP(D15,Prisliste!$C$4:$F$4,Prisliste!$C$28:$F$28)*R15,"") | U15: =IFERROR(IF(L15=Hjelpeark!$P$14,_xlfn.XLOOKUP(D15,Prisliste!$C$4:$F$4,Prisliste!$C$29:$F$29)*R15,IF(L15=Hjelpeark!$P$15,_xlfn.XLOOKUP(D15,Prisliste!$C$4:$F$4,Prisliste!$C$30:$F$30)*R15,_xlfn.XLOOKUP(D15,Prisliste!$C$4:$F$4,Prisliste!$C$31:$F$31)*R15)),"")
A16: =IF(A15="","",IF(A15+1<='Prisestimat RAS'!$C$7,'Beregninger RAS'!A15+1,"")) | B16: =IFERROR(_xlfn.ISOWEEKNUM(A16),"") | C16: =IFERROR(MONTH(A16),"") | D16: =IFERROR(YEAR(A16),"") | E16: =IFERROR(IF(A16="","",E15),"") | F16: =IF(A16="","",F15+(F15*H15/100)) | G16: =IF($A16="","",'Prisestimat RAS'!$C$14) | H16: {=IF(N16=Hjelpeark!$E$7,_xlfn.XLOOKUP(IF(P16="Naturlig",O16,P16),'Veksttabell FV'!$A$26:$A$42,_xlfn.XLOOKUP('Beregninger RAS'!F16,'Veksttabell FV'!$B$25:$T$25,'Veksttabell FV'!$B$26:$T$42,,-1),,-1)*G16,IF('Beregninger RAS'!N16=Hjelpeark!$D$7,_xlfn.XLOOKUP(IF(P16="Naturlig",O16,P16),'Veksttabell SV'!$A$27:$A$43,_xlfn.XLOOKUP('Beregninger RAS'!F16,'Veksttabell SV'!$B$26:$AU$26,'Veksttabell SV'!$B$27:$AU$43,,-1),,-1)*G16,""))} | I16: =IF(A16="","",E16*F16/1000) | J16: =IF(A16="","",I16/(M16/1000)/K16) | K16: =IF(A16="","",'Prisestimat RAS'!$C$9) | L16: =IF(B16="","",'Prisestimat RAS'!$C$10) | M16: =IF(A16="","",_xlfn.XLOOKUP('Prisestimat RAS'!$C$10,Hjelpeark!$P$14:$P$16,Hjelpeark!$Q$14:$Q$16)) | N16: =IF(A16="","",N15) | O16: =IFERROR(IF(N16=Hjelpeark!$D$7,_xlfn.XLOOKUP('Beregninger RAS'!C16,Hjelpeark!$C$8:$C$19,Hjelpeark!$D$8:$D$19),_xlfn.XLOOKUP('Beregninger RAS'!C16,Hjelpeark!$C$8:$C$19,Hjelpeark!$E$8:$E$19)),"") | P16: =IF(A16="","",P15) | Q16: =IFERROR(IF(P16=Hjelpeark!$B$4,0,ABS(P16-O16)),"") | R16: =K16 | T16: =IFERROR(_xlfn.XLOOKUP(D16,Prisliste!$C$4:$F$4,Prisliste!$C$28:$F$28)*R16,"") | U16: =IFERROR(IF(L16=Hjelpeark!$P$14,_xlfn.XLOOKUP(D16,Prisliste!$C$4:$F$4,Prisliste!$C$29:$F$29)*R16,IF(L16=Hjelpeark!$P$15,_xlfn.XLOOKUP(D16,Prisliste!$C$4:$F$4,Prisliste!$C$30:$F$30)*R16,_xlfn.XLOOKUP(D16,Prisliste!$C$4:$F$4,Prisliste!$C$31:$F$31)*R16)),"")
... A1100: =IF(A1099="","",IF(A1099+1<='Prisestimat RAS'!$C$7,'Beregninger RAS'!A1099+1,"")) | B1100: =IFERROR(_xlfn.ISOWEEKNUM(A1100),"") | C1100: =IFERROR(MONTH(A1100),"") | D1100: =IFERROR(YEAR(A1100),"") | E1100: =IFERROR(IF(A1100="","",E1099),"") | F1100: =IF(A1100="","",F1099+(F1099*H1099/100)) | G1100: =IF($A1100="","",'Prisestimat RAS'!$C$14) | H1100: {=IF(N1100=Hjelpeark!$E$7,_xlfn.XLOOKUP(IF(P1100="Naturlig",O1100,P1100),'Veksttabell FV'!$A$26:$A$42,_xlfn.XLOOKUP('Beregninger RAS'!F1100,'Veksttabell FV'!$B$25:$T$25,'Veksttabell FV'!$B$26:$T$42,,-1),,-1)*G1100,IF('Beregninger RAS'!N1100=Hjelpeark!$D$7,_xlfn.XLOOKUP(IF(P1100="Naturlig",O1100,P1100),'Veksttabell SV'!$A$27:$A$43,_xlfn.XLOOKUP('Beregninger RAS'!F1100,'Veksttabell SV'!$B$26:$AU$26,'Veksttabell SV'!$B$27:$AU$43,,-1),,-1)*G1100,""))} | I1100: =IF(A1100="","",E1100*F1100/1000) | J1100: =IF(A1100="","",I1100/(M1100/1000)/K1100) | K1100: =IF(A1100="","",'Prisestimat RAS'!$C$9) | L1100: =IF(B1100="","",'Prisestimat RAS'!$C$10) | M1100: =IF(A1100="","",_xlfn.XLOOKUP('Prisestimat RAS'!$C$10,Hjelpeark!$P$14:$P$16,Hjelpeark!$Q$14:$Q$16)) | N1100: =IF(A1100="","",N1099) | O1100: =IFERROR(IF(N1100=Hjelpeark!$D$7,_xlfn.XLOOKUP('Beregninger RAS'!C1100,Hjelpeark!$C$8:$C$19,Hjelpeark!$D$8:$D$19),_xlfn.XLOOKUP('Beregninger RAS'!C1100,Hjelpeark!$C$8:$C$19,Hjelpeark!$E$8:$E$19)),"") | P1100: =IF(A1100="","",P1099) | Q1100: =IFERROR(IF(P1100=Hjelpeark!$B$4,0,ABS(P1100-O1100)),"") | R1100: =K1100 | T1100: =IFERROR(_xlfn.XLOOKUP(D1100,Prisliste!$C$4:$F$4,Prisliste!$C$28:$F$28)*R1100,"") | U1100: =IFERROR(IF(L1100=Hjelpeark!$P$14,_xlfn.XLOOKUP(D1100,Prisliste!$C$4:$F$4,Prisliste!$C$29:$F$29)*R1100,IF(L1100=Hjelpeark!$P$15,_xlfn.XLOOKUP(D1100,Prisliste!$C$4:$F$4,Prisliste!$C$30:$F$30)*R1100,_xlfn.XLOOKUP(D1100,Prisliste!$C$4:$F$4,Prisliste!$C$31:$F$31)*R1100)),"")

Sheet Hjelpeark
B1: Hjelpeark | Q1: Ressursjer
Q2: Formler for dynamisk dropdown kar og vann | U2: (159) Problem Solved: Dependent Drop Down Lists in Excel - YouTube
B3: Forsøkstemperatur | C3: Forsøk start | D3: =IF('Priseestimat gj.strømming'!$C$7<>"",'Priseestimat gj.strømming'!$C$7,'Prisestimat RAS'!$C$6) -> 0
B4: Naturlig | C4: Forsøk slutt | D4: =IF('Priseestimat gj.strømming'!$C$8<>"",'Priseestimat gj.strømming'!$C$8,'Prisestimat RAS'!$C$7) -> 0
B5: 1
B6: 2 | C6: Råvannstemperatur
B7: 3 | C7: Måned | D7: Sjøvann | E7: Ferskvann | G7: Kunde | H7: Oksygenering | I7: Avløpsvann | K7: Arter | R7: Tilbud
B8: 4 | C8: 1 | D8: 4 | E8: 0 | G8: UiT el. Nofima | H8: Ja | I8: Ingen | K8: Laks HiT
B9: 5 | C9: 2 | D9: 4 | E9: 0 | G9: Andre | H9: Nei | I9: Smittecelle FHL | K9: Laks Skretting | R9: Referanser | S9: Astrid-Elisabeth C. Hansen | T9: Atle Skutvik | U9: Kjersti N. Fredheim | V9: Tove K. Hansen
B10: 6 | C10: 3 | D10: 4 | E10: 0 | I10: Luselab LA | K10: Rognkjeks | S10: Fiskehelselaboratoriet
B11: 7 | C11: 4 | D11: 4 | E11: 0 | K11: Torsk | S11: 98 20 25 19
B12: 8 | C12: 5 | D12: 5 | E12: 2 | G12: Avhengig dropdownlist Vannkalitet | S12: astrid.chr.hanssen@havbruksstasjonen.no
B13: 9 | C13: 6 | D13: 6 | E13: 5 | G13: Kartyper | H13: =G14 -> Kar LA og FHL | I13: =G15 -> Kar SMAK | J13: =G16 -> RAS FHL | K13: =G17 -> nanoRAS 1 modul | L13: =G18 -> nanoRAS 2 moduler | M13: =G19 -> nanoRAS 3 moduler | N13: =G20 -> Merd SA
B14: 10 | C14: 7 | D14: 8 | E14: 10 | G14: Kar LA og FHL | H14: =Sjøvann_navn -> Sjøvann | I14: =Sjøvann_navn -> Sjøvann | J14: =Sjøvann_navn -> Sjøvann | K14: =Sjøvann_navn -> Sjøvann | L14: =Sjøvann_navn -> Sjøvann | M14: =Sjøvann_navn -> Sjøvann | N14: =Sjøvann_navn -> Sjøvann | P14: SmiteRAS - 500 l | Q14: 500
B15: 11 | C15: 8 | D15: 9 | E15: 11 | G15: Kar SMAK | H15: =Ferskvann_navn -> Ferskvann | J15: =Ferskvann_navn -> Ferskvann | K15: =Ferskvann_navn -> Ferskvann | L15: =Ferskvann_navn -> Ferskvann | M15: =Ferskvann_navn -> Ferskvann | P15: RASforsk - 1 000 l | Q15: 1000
B16: 12 | C16: 9 | D16: 9 | E16: 8 | G16: RAS FHL | P16: RASforsk - 9 000 l | Q16: 9000
B17: 13 | C17: 10 | D17: 9 | E17: 4 | G17: nanoRAS 1 modul
B18: 14 | C18: 11 | D18: 7 | E18: 1 | G18: nanoRAS 2 moduler
B19: 15 | C19: 12 | D19: 6 | E19: 0 | G19: nanoRAS 3 moduler
B20: 16 | G20: Merd SA
B21: 17
B22: 18 | C22: Justering av tilvekst | E22: Påslag
B23: 19 | C23: 1.5 | E23: 0
B24: 20 | C24: 1.4 | E24: 0.1 | G24: Avhengig dropdownlist resirkulering
C25: 1.3 | E25: 0.2 | G25: RAS-system | H25: =G26 -> RAS FHL | I25: =G27 -> RAS LA | K25: Vannkalitet | L25: =Ferskvann_navn -> Ferskvann | M25: =Sjøvann_navn -> Sjøvann
C26: 1.2 | E26: 0.3 | G26: RAS FHL | H26: FHL 500 l | I26: LA 1000 l | K26: =L25 -> Ferskvann | L26: Laks HiT | M26: Laks HiT
C27: 1.1 | E27: 0.4 | G27: RAS LA | I27: LA 9000 l | K27: =M25 -> Sjøvann | L27: Laks Skretting | M27: Laks Skretting
C28: 1 | E28: 0.5 | M28: Rognkjeks
C29: 0.9 | E29: 0.6 | M29: Torsk
C30: 0.8 | E30: 0.7
C31: 0.7 | E31: 0.8
C32: 0.6 | E32: 0.9
C33: 0.5 | E33: 1 | G33: Tetthet i RAS | J33: Temp
C34: 0.4 | H34: min | I34: maks | J34: Min | K34: Maks
C35: 0.3 | G35: SmiteRAS - 500 l | H35: N/A | I35: N/A | J35: N/A | K35: N/A
C36: 0.2 | G36: RASforsk - 1 000 l | H36: 20 | I36: 120 | J36: 4 | K36: 14
C37: 0.1 | G37: RASforsk - 9 000 l | H37: 20 | I37: 200 | J37: 4 | K37: 14
C38: -9.9920072e-16

Sheet Prisliste
A1: Oppdater prislisten ved å kopiere inn prisen for nesste år som tall i kollonne G. Husk å ta med årstall.
C2: Priser i beregning | G2: UiT og Nofima | N2: Andre
B3: Årlig regulering | C3: =_xlfn.XLOOKUP(C4,$G$4:$M$4,$G$3:$M$3) -> #N/A | D3: =_xlfn.XLOOKUP(D4,$G$4:$M$4,$G$3:$M$3) -> #N/A | E3: =_xlfn.XLOOKUP(E4,$G$4:$M$4,$G$3:$M$3) -> #N/A | F3: =_xlfn.XLOOKUP(F4,$G$4:$M$4,$G$3:$M$3) -> #N/A | G3: 0.05 | H3: 0.05 | I3: =H3 -> 0.05 | J3: =I3 -> 0.05 | K3: =J3 -> 0.05 | L3: =K3 -> 0.05 | M3: =L3 -> 0.05 | N3: =G3 -> 0.05 | O3: =H3 -> 0.05 | P3: =I3 -> 0.05 | Q3: =J3 -> 0.05 | R3: =K3 -> 0.05 | S3: =L3 -> 0.05 | T3: =M3 -> 0.05 | U3: =N3 -> 0.05
A4: Varenavn | B4: Enhet | C4: =YEAR(Hjelpeark!D3) -> 1900 | D4: =IFERROR(C4+1,"") -> 1901 | E4: =IFERROR(D4+1,"") -> 1902 | F4: =IFERROR(E4+1,"") -> 1903 | G4: 2025 | H4: =G4+1 -> 2026 | I4: =H4+1 -> 2027 | J4: =I4+1 -> 2028 | K4: =J4+1 -> 2029 | L4: =K4+1 -> 2030 | M4: =L4+1 -> 2031 | N4: =G4 -> 2025 | O4: =H4 -> 2026 | P4: =I4 -> 2027 | Q4: =J4 -> 2028 | R4: =K4 -> 2029 | S4: =L4 -> 2030 | T4: =M4 -> 2031 | U4: =N4 -> 2025 | V4: Kommentar
A5: Laks/røye, øyerogn | B5: stk | C5: =G5 -> 2.184 | D5: =H5 -> 2.2932 | E5: =I5 -> 2.40786 | F5: =J5 -> 2.528253 | G5: 2.184 | H5: =G5*(1+H$3) -> 2.2932 | I5: =H5*(1+I$3) -> 2.40786 | J5: =I5*(1+J$3) -> 2.528253 | K5: =J5*(1+K$3) -> 2.6546657 | L5: =K5*(1+L$3) -> 2.7873989 | M5: =L5*(1+M$3) -> 2.9267689 | N5: =ROUND(G5*1.25,2) -> 2.73 | O5: =ROUND(H5*1.25,2) -> 2.87 | P5: =ROUND(I5*1.25,2) -> 3.01 | Q5: =ROUND(J5*1.25,2) -> 3.16 | R5: =ROUND(K5*1.25,2) -> 3.32 | S5: =ROUND(L5*1.25,2) -> 3.48 | T5: =ROUND(M5*1.25,2) -> 3.66 | V5: Andre +25 %
A6: Laks/røye, parr 0- 14 g | B6: stk | C6: =G6 -> 9.135 | D6: =H6 -> 9.59175 | E6: =I6 -> 10.071338 | F6: =J6 -> 10.574904 | G6: 9.135 | H6: =G6*(1+H$3) -> 9.59175 | I6: =H6*(1+I$3) -> 10.071338 | J6: =I6*(1+J$3) -> 10.574904 | K6: =J6*(1+K$3) -> 11.10365 | L6: =K6*(1+L$3) -> 11.658832 | M6: =L6*(1+M$3) -> 12.241774 | N6: =ROUND(G6*1.25,1) -> 11.4 | O6: =ROUND(N6*(1+O$3),1) -> 12 | P6: =ROUND(O6*(1+P$3),1) -> 12.6 | Q6: =ROUND(P6*(1+Q$3),1) -> 13.2 | R6: =ROUND(Q6*(1+R$3),1) -> 13.9 | S6: =ROUND(R6*(1+S$3),1) -> 14.6 | T6: =ROUND(S6*(1+T$3),1) -> 15.3 | V6: Andre +25 %
A7: Laks/røye, parr 15 g - opp til smolt | B7: stk | C7: =G7 -> 17.115 | D7: =H7 -> 17.97075 | E7: =I7 -> 18.869288 | F7: =J7 -> 19.812752 | G7: 17.115 | H7: =G7*(1+H$3) -> 17.97075 | I7: =H7*(1+I$3) -> 18.869288 | J7: =I7*(1+J$3) -> 19.812752 | K7: =J7*(1+K$3) -> 20.803389 | L7: =K7*(1+L$3) -> 21.843559 | M7: =L7*(1+M$3) -> 22.935737 | N7: =ROUND(G7*1.25,1) -> 21.4 | O7: =ROUND(N7*(1+O$3),1) -> 22.5 | P7: =ROUND(O7*(1+P$3),1) -> 23.6 | Q7: =ROUND(P7*(1+Q$3),1) -> 24.8 | R7: =ROUND(Q7*(1+R$3),1) -> 26 | S7: =ROUND(R7*(1+S$3),1) -> 27.3 | T7: =ROUND(S7*(1+T$3),1) -> 28.7 | V7: Andre +25 %
A8: Laks/røye, smolt - 499 g | B8: stk | C8: =G8 -> 42.84 | D8: =H8 -> 44.982 | E8: =I8 -> 47.2311 | F8: =J8 -> 49.592655 | G8: 42.84 | H8: =G8*(1+H$3) -> 44.982 | I8: =H8*(1+I$3) -> 47.2311 | J8: =I8*(1+J$3) -> 49.592655 | K8: =J8*(1+K$3) -> 52.072288 | L8: =K8*(1+L$3) -> 54.675902 | M8: =L8*(1+M$3) -> 57.409697 | N8: =ROUND(G8*1.25,1) -> 53.6 | O8: =ROUND(N8*(1+O$3),1) -> 56.3 | P8: =ROUND(O8*(1+P$3),1) -> 59.1 | Q8: =ROUND(P8*(1+Q$3),1) -> 62.1 | R8: =ROUND(Q8*(1+R$3),1) -> 65.2 | S8: =ROUND(R8*(1+S$3),1) -> 68.5 | T8: =ROUND(S8*(1+T$3),1) -> 71.9 | V8: Andre +25 %
A9: Laks/røye, 500 g --> | B9: kg | C9: =G9 -> 85.68 | D9: =H9 -> 89.964 | E9: =I9 -> 94.4622 | F9: =J9 -> 99.18531 | G9: 85.68 | H9: =G9*(1+H$3) -> 89.964 | I9: =H9*(1+I$3) -> 94.4622 | J9: =I9*(1+J$3) -> 99.18531 | K9: =J9*(1+K$3) -> 104.14458 | L9: =K9*(1+L$3) -> 109.3518 | M9: =L9*(1+M$3) -> 114.81939 | N9: =ROUND(G9*1.25,1) -> 107.1 | O9: =ROUND(N9*(1+O$3),1) -> 112.5 | P9: =ROUND(O9*(1+P$3),1) -> 118.1 | Q9: =ROUND(P9*(1+Q$3),1) -> 124 | R9: =ROUND(Q9*(1+R$3),1) -> 130.2 | S9: =ROUND(R9*(1+S$3),1) -> 136.7 | T9: =ROUND(S9*(1+T$3),1) -> 143.5 | V9: Andre +25 %
A10: Torsk, øyerogn | B10: stk | C10: =G10 -> 0 | D10: =H10 -> 0 | E10: =I10 -> 0 | F10: =J10 -> 0 | G10: 0 | H10: =G10*(1+H$3) -> 0 | I10: =H10*(1+I$3) -> 0 | J10: =I10*(1+J$3) -> 0 | K10: =J10*(1+K$3) -> 0 | L10: =K10*(1+L$3) -> 0 | M10: =L10*(1+M$3) -> 0 | N10: =ROUND(G10*1.25,1) -> 0 | O10: =ROUND(N10*(1+O$3),1) -> 0 | P10: =ROUND(O10*(1+P$3),1) -> 0 | Q10: =ROUND(P10*(1+Q$3),1) -> 0 | R10: =ROUND(Q10*(1+R$3),1) -> 0 | S10: =ROUND(R10*(1+S$3),1) -> 0 | T10: =ROUND(S10*(1+T$3),1) -> 0 | V10: Andre +25 %
A11: Rognkjeks, øyerogn | B11: stk | C11: =G11 -> 0 | D11: =H11 -> 0 | E11: =I11 -> 0 | F11: =J11 -> 0 | G11: 0 | H11: =G11*(1+H$3) -> 0 | I11: =H11*(1+I$3) -> 0 | J11: =I11*(1+J$3) -> 0 | K11: =J11*(1+K$3) -> 0 | L11: =K11*(1+L$3) -> 0 | M11: =L11*(1+M$3) -> 0 | N11: =ROUND(G11*1.25,1) -> 0 | O11: =ROUND(N11*(1+O$3),1) -> 0 | P11: =ROUND(O11*(1+P$3),1) -> 0 | Q11: =ROUND(P11*(1+Q$3),1) -> 0 | R11: =ROUND(Q11*(1+R$3),1) -> 0 | S11: =ROUND(R11*(1+S$3),1) -> 0 | T11: =ROUND(S11*(1+T$3),1) -> 0 | V11: Andre +25 %
A12: Torsk/rognkjeks 0 - 14 g | B12: stk | C12: =G12 -> 21.105 | D12: =H12 -> 22.16025 | E12: =I12 -> 23.268263 | F12: =J12 -> 24.431676 | G12: 21.105 | H12: =G12*(1+H$3) -> 22.16025 | I12: =H12*(1+I$3) -> 23.268263 | J12: =I12*(1+J$3) -> 24.431676 | K12: =J12*(1+K$3) -> 25.653259 | L12: =K12*(1+L$3) -> 26.935922 | M12: =L12*(1+M$3) -> 28.282718 | N12: =ROUND(G12*1.25,1) -> 26.4 | O12: =ROUND(N12*(1+O$3),1) -> 27.7 | P12: =ROUND(O12*(1+P$3),1) -> 29.1 | Q12: =ROUND(P12*(1+Q$3),1) -> 30.6 | R12: =ROUND(Q12*(1+R$3),1) -> 32.1 | S12: =ROUND(R12*(1+S$3),1) -> 33.7 | T12: =ROUND(S12*(1+T$3),1) -> 35.4 | V12: Andre +25 %
A13: Torsk/rognkjeks 15 - 100 g | B13: stk | C13: =G13 -> 37.695 | D13: =H13 -> 39.57975 | E13: =I13 -> 41.558738 | F13: =J13 -> 43.636674 | G13: 37.695 | H13: =G13*(1+H$3) -> 39.57975 | I13: =H13*(1+I$3) -> 41.558738 | J13: =I13*(1+J$3) -> 43.636674 | K13: =J13*(1+K$3) -> 45.818508 | L13: =K13*(1+L$3) -> 48.109433 | M13: =L13*(1+M$3) -> 50.514905 | N13: =ROUND(G13*1.25,1) -> 47.1 | O13: =ROUND(N13*(1+O$3),1) -> 49.5 | P13: =ROUND(O13*(1+P$3),1) -> 52 | Q13: =ROUND(P13*(1+Q$3),1) -> 54.6 | R13: =ROUND(Q13*(1+R$3),1) -> 57.3 | S13: =ROUND(R13*(1+S$3),1) -> 60.2 | T13: =ROUND(S13*(1+T$3),1) -> 63.2 | V13: Andre +25 %
A14: Torsk/rognkjeks 100 - 499 g | B14: stk | C14: =G14 -> 58.485 | D14: =H14 -> 61.40925 | E14: =I14 -> 64.479713 | F14: =J14 -> 67.703698 | G14: 58.485 | H14: =G14*(1+H$3) -> 61.40925 | I14: =H14*(1+I$3) -> 64.479713 | J14: =I14*(1+J$3) -> 67.703698 | K14: =J14*(1+K$3) -> 71.088883 | L14: =K14*(1+L$3) -> 74.643327 | M14: =L14*(1+M$3) -> 78.375494 | N14: =ROUND(G14*1.25,1) -> 73.1 | O14: =ROUND(N14*(1+O$3),1) -> 76.8 | P14: =ROUND(O14*(1+P$3),1) -> 80.6 | Q14: =ROUND(P14*(1+Q$3),1) -> 84.6 | R14: =ROUND(Q14*(1+R$3),1) -> 88.8 | S14: =ROUND(R14*(1+S$3),1) -> 93.2 | T14: =ROUND(S14*(1+T$3),1) -> 97.9 | V14: Andre +25 %
A15: Torsk/rognkjeks 500 g --> | B15: kg | C15: =G15 -> 116.865 | D15: =H15 -> 122.70825 | E15: =I15 -> 128.84366 | F15: =J15 -> 135.28585 | G15: 116.865 | H15: =G15*(1+H$3) -> 122.70825 | I15: =H15*(1+I$3) -> 128.84366 | J15: =I15*(1+J$3) -> 135.28585 | K15: =J15*(1+K$3) -> 142.05014 | L15: =K15*(1+L$3) -> 149.15264 | M15: =L15*(1+M$3) -> 156.61028 | N15: =ROUND(G15*1.25,1) -> 146.1 | O15: =ROUND(N15*(1+O$3),1) -> 153.4 | P15: =ROUND(O15*(1+P$3),1) -> 161.1 | Q15: =ROUND(P15*(1+Q$3),1) -> 169.2 | R15: =ROUND(Q15*(1+R$3),1) -> 177.7 | S15: =ROUND(R15*(1+S$3),1) -> 186.6 | T15: =ROUND(S15*(1+T$3),1) -> 195.9 | V15: Andre +25 %
A16: Lakselus, copepoditt | B16: stk | C16: =G16 -> 1.764 | D16: =H16 -> 1.8522 | E16: =I16 -> 1.94481 | F16: =J16 -> 2.0420505 | G16: 1.764 | H16: =G16*(1+H$3) -> 1.8522 | I16: =H16*(1+I$3) -> 1.94481 | J16: =I16*(1+J$3) -> 2.0420505 | K16: =J16*(1+K$3) -> 2.144153 | L16: =K16*(1+L$3) -> 2.2513607 | M16: =L16*(1+M$3) -> 2.3639287 | N16: =ROUND(G16*1.25,2) -> 2.21 | O16: =ROUND(H16*1.25,2) -> 2.32 | P16: =ROUND(I16*1.25,2) -> 2.43 | Q16: =ROUND(J16*1.25,2) -> 2.55 | R16: =ROUND(K16*1.25,2) -> 2.68 | S16: =ROUND(L16*1.25,2) -> 2.81 | T16: =ROUND(M16*1.25,2) -> 2.95 | V16: Andre +25 %
A17: Lakselus, pre-adult/adult | B17: stk | C17: =G17 -> 11.55 | D17: =H17 -> 12.1275 | E17: =I17 -> 12.733875 | F17: =J17 -> 13.370569 | G17: 11.55 | H17: =G17*(1+H$3) -> 12.1275 | I17: =H17*(1+I$3) -> 12.733875 | J17: =I17*(1+J$3) -> 13.370569 | K17: =J17*(1+K$3) -> 14.039097 | L17: =K17*(1+L$3) -> 14.741052 | M17: =L17*(1+M$3) -> 15.478105 | N17: =ROUND(G17*1.25,1) -> 14.4 | O17: =ROUND(N17*(1+O$3),1) -> 15.1 | P17: =ROUND(O17*(1+P$3),1) -> 15.9 | Q17: =ROUND(P17*(1+Q$3),1) -> 16.7 | R17: =ROUND(Q17*(1+R$3),1) -> 17.5 | S17: =ROUND(R17*(1+S$3),1) -> 18.4 | T17: =ROUND(S17*(1+T$3),1) -> 19.3 | V17: Andre +25 %
A18: Riggkostnad gjennomstrømmingskar | B18: kar | C18: =G18 -> 2468.55 | D18: =H18 -> 2591.9775 | E18: =I18 -> 2721.5764 | F18: =J18 -> 2857.6552 | G18: 2468.55 | H18: =G18*(1+H$3) -> 2591.9775 | I18: =H18*(1+I$3) -> 2721.5764 | J18: =I18*(1+J$3) -> 2857.6552 | K18: =J18*(1+K$3) -> 3000.538 | L18: =K18*(1+L$3) -> 3150.5649 | M18: =L18*(1+M$3) -> 3308.0931 | N18: =ROUND(G18*1.25,0) -> 3086 | O18: =ROUND(N18*(1+O$3),0) -> 3240 | P18: =ROUND(O18*(1+P$3),0) -> 3402 | Q18: =ROUND(P18*(1+Q$3),0) -> 3572 | R18: =ROUND(Q18*(1+R$3),0) -> 3751 | S18: =ROUND(R18*(1+S$3),0) -> 3939 | T18: =ROUND(S18*(1+T$3),0) -> 4136 | V18: Andre +25 %
A19: Karleie gjennomstrømming | B19: kardøgn | C19: =G19 -> 234.15 | D19: =H19 -> 245.8575 | E19: =I19 -> 258.15038 | F19: =J19 -> 271.05789 | G19: 234.15 | H19: =G19*(1+H$3) -> 245.8575 | I19: =H19*(1+I$3) -> 258.15038 | J19: =I19*(1+J$3) -> 271.05789 | K19: =J19*(1+K$3) -> 284.61079 | L19: =K19*(1+L$3) -> 298.84133 | M19: =L19*(1+M$3) -> 313.78339 | N19: =ROUND(G19*1.25,0) -> 293 | O19: =ROUND(N19*(1+O$3),0) -> 308 | P19: =ROUND(O19*(1+P$3),0) -> 323 | Q19: =ROUND(P19*(1+Q$3),0) -> 339 | R19: =ROUND(Q19*(1+R$3),0) -> 356 | S19: =ROUND(R19*(1+S$3),0) -> 374 | T19: =ROUND(S19*(1+T$3),0) -> 393 | V19: Andre +25 %
A20: Pumpekostnad | B20: m3 | C20: =G20 -> 3.465 | D20: =H20 -> 3.63825 | E20: =I20 -> 3.8201625 | F20: =J20 -> 4.0111706 | G20: 3.465 | H20: =G20*(1+H$3) -> 3.63825 | I20: =H20*(1+I$3) -> 3.8201625 | J20: =I20*(1+J$3) -> 4.0111706 | K20: =J20*(1+K$3) -> 4.2117292 | L20: =K20*(1+L$3) -> 4.4223156 | M20: =L20*(1+M$3) -> 4.6434314 | N20: =ROUND(G20*1.25,2) -> 4.33 | O20: =ROUND(N20*(1+O$3),2) -> 4.55 | P20: =ROUND(O20*(1+P$3),2) -> 4.78 | Q20: =ROUND(P20*(1+Q$3),2) -> 5.02 | R20: =ROUND(Q20*(1+R$3),2) -> 5.27 | S20: =ROUND(R20*(1+S$3),2) -> 5.53 | T20: =ROUND(S20*(1+T$3),2) -> 5.81 | V20: Andre +25 %
A21: Energikostnad vann pr. grad (Δt) | B21: m3 | C21: =G21 -> 0.9555 | D21: =H21 -> 1.003275 | E21: =I21 -> 1.0534388 | F21: =J21 -> 1.1061107 | G21: 0.9555 | H21: =G21*(1+H$3) -> 1.003275 | I21: =H21*(1+I$3) -> 1.0534388 | J21: =I21*(1+J$3) -> 1.1061107 | K21: =J21*(1+K$3) -> 1.1614162 | L21: =K21*(1+L$3) -> 1.219487 | M21: =L21*(1+M$3) -> 1.2804614 | N21: =ROUND(G21*1.25,2) -> 1.19 | O21: =ROUND(N21*(1+O$3),2) -> 1.25 | P21: =ROUND(O21*(1+P$3),2) -> 1.31 | Q21: =ROUND(P21*(1+Q$3),2) -> 1.38 | R21: =ROUND(Q21*(1+R$3),2) -> 1.45 | S21: =ROUND(R21*(1+S$3),2) -> 1.52 | T21: =ROUND(S21*(1+T$3),2) -> 1.6 | V21: Andre +25 %
A22: Oksygenering | B22: m3 | C22: =G22 -> 2.3205 | D22: =H22 -> 2.436525 | E22: =I22 -> 2.5583513 | F22: =J22 -> 2.6862688 | G22: 2.3205 | H22: =G22*(1+H$3) -> 2.436525 | I22: =H22*(1+I$3) -> 2.5583513 | J22: =I22*(1+J$3) -> 2.6862688 | K22: =J22*(1+K$3) -> 2.8205823 | L22: =K22*(1+L$3) -> 2.9616114 | M22: =L22*(1+M$3) -> 3.1096919 | N22: =ROUND(G22*1.25,2) -> 2.9 | O22: =ROUND(N22*(1+O$3),2) -> 3.05 | P22: =ROUND(O22*(1+P$3),2) -> 3.2 | Q22: =ROUND(P22*(1+Q$3),2) -> 3.36 | R22: =ROUND(Q22*(1+R$3),2) -> 3.53 | S22: =ROUND(R22*(1+S$3),2) -> 3.71 | T22: =ROUND(S22*(1+T$3),2) -> 3.9 | V22: Andre +25 %
A23: Avløpsvann luselab | B23: m3 | C23: =G23 -> 20.265 | D23: =H23 -> 21.27825 | E23: =I23 -> 22.342163 | F23: =J23 -> 23.459271 | G23: 20.265 | H23: =G23*(1+H$3) -> 21.27825 | I23: =H23*(1+I$3) -> 22.342163 | J23: =I23*(1+J$3) -> 23.459271 | K23: =J23*(1+K$3) -> 24.632234 | L23: =K23*(1+L$3) -> 25.863846 | M23: =L23*(1+M$3) -> 27.157038 | N23: =ROUND(G23*1.25,1) -> 25.3 | O23: =ROUND(N23*(1+O$3),1) -> 26.6 | P23: =ROUND(O23*(1+P$3),1) -> 27.9 | Q23: =ROUND(P23*(1+Q$3),1) -> 29.3 | R23: =ROUND(Q23*(1+R$3),1) -> 30.8 | S23: =ROUND(R23*(1+S$3),1) -> 32.3 | T23: =ROUND(S23*(1+T$3),1) -> 33.9 | V23: Andre +25 %
A24: Avløpsvann smittecelle Fiskehelselaboratoriet | B24: m3 | C24: =G24 -> 46.725 | D24: =H24 -> 49.06125 | E24: =I24 -> 51.514313 | F24: =J24 -> 54.090028 | G24: 46.725 | H24: =G24*(1+H$3) -> 49.06125 | I24: =H24*(1+I$3) -> 51.514313 | J24: =I24*(1+J$3) -> 54.090028 | K24: =J24*(1+K$3) -> 56.79453 | L24: =K24*(1+L$3) -> 59.634256 | M24: =L24*(1+M$3) -> 62.615969 | N24: =ROUND(G24*1.25,1) -> 58.4 | O24: =ROUND(N24*(1+O$3),1) -> 61.3 | P24: =ROUND(O24*(1+P$3),1) -> 64.4 | Q24: =ROUND(P24*(1+Q$3),1) -> 67.6 | R24: =ROUND(Q24*(1+R$3),1) -> 71 | S24: =ROUND(R24*(1+S$3),1) -> 74.6 | T24: =ROUND(S24*(1+T$3),1) -> 78.3 | V24: Andre +25 %
A25: Riggkostnad RAS Fiskehelselaboratoriet | B25: RAS-system | C25: =G25 -> 15634.5 | D25: =H25 -> 16416.225 | E25: =I25 -> 17237.036 | F25: =J25 -> 18098.888 | G25: 15634.5 | H25: =G25*(1+H$3) -> 16416.225 | I25: =H25*(1+I$3) -> 17237.036 | J25: =I25*(1+J$3) -> 18098.888 | K25: =J25*(1+K$3) -> 19003.832 | L25: =K25*(1+L$3) -> 19954.024 | M25: =L25*(1+M$3) -> 20951.725 | N25: =ROUND(G25*1.25,0) -> 19543 | O25: =ROUND(N25*(1+O$3),0) -> 20520 | P25: =ROUND(O25*(1+P$3),0) -> 21546 | Q25: =ROUND(P25*(1+Q$3),0) -> 22623 | R25: =ROUND(Q25*(1+R$3),0) -> 23754 | S25: =ROUND(R25*(1+S$3),0) -> 24942 | T25: =ROUND(S25*(1+T$3),0) -> 26189 | V25: Andre +25 % | W25: Egen pris på levendefôr til startfôring torsk 8000 kr/kar
A26: Riggkostnad 1. RAS-modul inkl. kar med tilbehør | B26: RAS-modul | C26: =G26 -> 9465.75 | D26: =H26 -> 9939.0375 | E26: =I26 -> 10435.989 | F26: =J26 -> 10957.789 | G26: 9465.75 | H26: =G26*(1+H$3) -> 9939.0375 | I26: =H26*(1+I$3) -> 10435.989 | J26: =I26*(1+J$3) -> 10957.789 | K26: =J26*(1+K$3) -> 11505.678 | L26: =K26*(1+L$3) -> 12080.962 | M26: =L26*(1+M$3) -> 12685.01 | N26: =G26*1.25 -> 11832.188 | O26: =ROUND(N26*(1+O$3),0) -> 12424 | P26: =ROUND(O26*(1+P$3),0) -> 13045 | Q26: =ROUND(P26*(1+Q$3),0) -> 13697 | R26: =ROUND(Q26*(1+R$3),0) -> 14382 | S26: =ROUND(R26*(1+S$3),0) -> 15101 | T26: =ROUND(S26*(1+T$3),0) -> 15856 | V26: Andre +25 % | W26: Tørrfor fra weaning til 20 g 1770 kr/kar
A27: Riggkostnad 2. og 3. RAS-modul | B27: RAS-modul | C27: =G27 -> 6626.55 | D27: =H27 -> 6957.8775 | E27: =I27 -> 7305.7714 | F27: =J27 -> 7671.0599 | G27: 6626.55 | H27: =G27*(1+H$3) -> 6957.8775 | I27: =H27*(1+I$3) -> 7305.7714 | J27: =I27*(1+J$3) -> 7671.0599 | K27: =J27*(1+K$3) -> 8054.6129 | L27: =K27*(1+L$3) -> 8457.3436 | M27: =L27*(1+M$3) -> 8880.2108 | N27: =G27*1.25 -> 8283.1875 | O27: =ROUND(N27*(1+O$3),0) -> 8697 | P27: =ROUND(O27*(1+P$3),0) -> 9132 | Q27: =ROUND(P27*(1+Q$3),0) -> 9589 | R27: =ROUND(Q27*(1+R$3),0) -> 10068 | S27: =ROUND(R27*(1+S$3),0) -> 10571 | T27: =ROUND(S27*(1+T$3),0) -> 11100 | V27: Andre +25 % | W27: Tørrfor fra 20-120 g 312,5 kr pr kar
A28: Karleie RAS | B28: kardøgn | C28: =G28 -> 1402.8 | D28: =H28 -> 1472.94 | E28: =I28 -> 1546.587 | F28: =J28 -> 1623.9164 | G28: 1402.8 | H28: =G28*(1+H$3) -> 1472.94 | I28: =H28*(1+I$3) -> 1546.587 | J28: =I28*(1+J$3) -> 1623.9164 | K28: =J28*(1+K$3) -> 1705.1122 | L28: =K28*(1+L$3) -> 1790.3678 | M28: =L28*(1+M$3) -> 1879.8862 | N28: =G28*1.25 -> 1753.5 | O28: =ROUND(N28*(1+O$3),0) -> 1841 | P28: =ROUND(O28*(1+P$3),0) -> 1933 | Q28: =ROUND(P28*(1+Q$3),0) -> 2030 | R28: =ROUND(Q28*(1+R$3),0) -> 2132 | S28: =ROUND(R28*(1+S$3),0) -> 2239 | T28: =ROUND(S28*(1+T$3),0) -> 2351 | V28: Andre +25 %
A29: Resirkulering Fiskehelselaboratoriet | B29: RAS-døgn | C29: =G29 -> 58.485 | D29: =H29 -> 61.40925 | E29: =I29 -> 64.479713 | F29: =J29 -> 67.703698 | G29: 58.485 | H29: =G29*(1+H$3) -> 61.40925 | I29: =H29*(1+I$3) -> 64.479713 | J29: =I29*(1+J$3) -> 67.703698 | K29: =J29*(1+K$3) -> 71.088883 | L29: =K29*(1+L$3) -> 74.643327 | M29: =L29*(1+M$3) -> 78.375494 | N29: =ROUND(G29*1.25,1) -> 73.1 | O29: =ROUND(N29*(1+O$3),1) -> 76.8 | P29: =ROUND(O29*(1+P$3),1) -> 80.6 | Q29: =ROUND(P29*(1+Q$3),1) -> 84.6 | R29: =ROUND(Q29*(1+R$3),1) -> 88.8 | S29: =ROUND(R29*(1+S$3),1) -> 93.2 | T29: =ROUND(S29*(1+T$3),1) -> 97.9 | V29: Andre +25 %
A30: Resirkulering 1 RAS-modul | B30: RAS-døgn | C30: =G30 -> 233.73 | D30: =H30 -> 245.4165 | E30: =I30 -> 257.68733 | F30: =J30 -> 270.57169 | G30: 233.73 | H30: =G30*(1+H$3) -> 245.4165 | I30: =H30*(1+I$3) -> 257.68733 | J30: =I30*(1+J$3) -> 270.57169 | K30: =J30*(1+K$3) -> 284.10028 | L30: =K30*(1+L$3) -> 298.30529 | M30: =L30*(1+M$3) -> 313.22055 | N30: =ROUND(G30*1.25,1) -> 292.2 | O30: =ROUND(N30*(1+O$3),1) -> 306.8 | P30: =ROUND(O30*(1+P$3),1) -> 322.1 | Q30: =ROUND(P30*(1+Q$3),1) -> 338.2 | R30: =ROUND(Q30*(1+R$3),1) -> 355.1 | S30: =ROUND(R30*(1+S$3),1) -> 372.9 | T30: =ROUND(S30*(1+T$3),1) -> 391.5 | V30: Andre +25 %
A31: Resirkulering 2 RAS-moduler | B31: RAS-døgn | C31: =G31 -> 467.46 | D31: =H31 -> 490.833 | E31: =I31 -> 515.37465 | F31: =J31 -> 541.14338 | G31: 467.46 | H31: =G31*(1+H$3) -> 490.833 | I31: =H31*(1+I$3) -> 515.37465 | J31: =I31*(1+J$3) -> 541.14338 | K31: =J31*(1+K$3) -> 568.20055 | L31: =K31*(1+L$3) -> 596.61058 | M31: =L31*(1+M$3) -> 626.44111 | N31: =ROUND(G31*1.25,1) -> 584.3 | O31: =ROUND(N31*(1+O$3),1) -> 613.5 | P31: =ROUND(O31*(1+P$3),1) -> 644.2 | Q31: =ROUND(P31*(1+Q$3),1) -> 676.4 | R31: =ROUND(Q31*(1+R$3),1) -> 710.2 | S31: =ROUND(R31*(1+S$3),1) -> 745.7 | T31: =ROUND(S31*(1+T$3),1) -> 783 | V31: Andre +25 %
A32: Resirkulering 3 RAS-moduler | B32: RAS-døgn | C32: =G32 -> 701.19 | D32: =H32 -> 736.2495 | E32: =I32 -> 773.06198 | F32: =J32 -> 811.71507 | G32: 701.19 | H32: =G32*(1+H$3) -> 736.2495 | I32: =H32*(1+I$3) -> 773.06198 | J32: =I32*(1+J$3) -> 811.71507 | K32: =J32*(1+K$3) -> 852.30083 | L32: =K32*(1+L$3) -> 894.91587 | M32: =L32*(1+M$3) -> 939.66166 | N32: =ROUND(G32*1.25,1) -> 876.5 | O32: =ROUND(N32*(1+O$3),1) -> 920.3 | P32: =ROUND(O32*(1+P$3),1) -> 966.3 | Q32: =ROUND(P32*(1+Q$3),1) -> 1014.6 | R32: =ROUND(Q32*(1+R$3),1) -> 1065.3 | S32: =ROUND(R32*(1+S$3),1) -> 1118.6 | T32: =ROUND(S32*(1+T$3),1) -> 1174.5 | V32: Andre +25 %
A33: Prosjekttimer administrasjon | B33: time | C33: =G33 -> 1517.25 | D33: =H33 -> 1593.1125 | E33: =I33 -> 1672.7681 | F33: =J33 -> 1756.4065 | G33: 1517.25 | H33: =G33*(1+H$3) -> 1593.1125 | I33: =H33*(1+I$3) -> 1672.7681 | J33: =I33*(1+J$3) -> 1756.4065 | K33: =J33*(1+K$3) -> 1844.2269 | L33: =K33*(1+L$3) -> 1936.4382 | M33: =L33*(1+M$3) -> 2033.2601 | N33: =ROUND(G33*1.5,0) -> 2276 | O33: =ROUND(N33*(1+O$3),0) -> 2390 | P33: =ROUND(O33*(1+P$3),0) -> 2510 | Q33: =ROUND(P33*(1+Q$3),0) -> 2636 | R33: =ROUND(Q33*(1+R$3),0) -> 2768 | S33: =ROUND(R33*(1+S$3),0) -> 2906 | T33: =ROUND(S33*(1+T$3),0) -> 3051 | V33: Andre +25 %
A34: Prosjekttimer tekniker/forsøkstekniker | B34: time | C34: =G34 -> 822.15 | D34: =H34 -> 863.2575 | E34: =I34 -> 906.42038 | F34: =J34 -> 951.74139 | G34: 822.15 | H34: =G34*(1+H$3) -> 863.2575 | I34: =H34*(1+I$3) -> 906.42038 | J34: =I34*(1+J$3) -> 951.74139 | K34: =J34*(1+K$3) -> 999.32846 | L34: =K34*(1+L$3) -> 1049.2949 | M34: =L34*(1+M$3) -> 1101.7596 | N34: =ROUND(G34*1.5,0) -> 1233 | O34: =ROUND(N34*(1+O$3),0) -> 1295 | P34: =ROUND(O34*(1+P$3),0) -> 1360 | Q34: =ROUND(P34*(1+Q$3),0) -> 1428 | R34: =ROUND(Q34*(1+R$3),0) -> 1499 | S34: =ROUND(R34*(1+S$3),0) -> 1574 | T34: =ROUND(S34*(1+T$3),0) -> 1653 | V34: Andre +25 %
A35: Standard sjøvannstest | B35: test | C35: =G35 -> 9873.15 | D35: =H35 -> 10366.808 | E35: =I35 -> 10885.148 | F35: =J35 -> 11429.405 | G35: 9873.15 | H35: =G35*(1+H$3) -> 10366.808 | I35: =H35*(1+I$3) -> 10885.148 | J35: =I35*(1+J$3) -> 11429.405 | K35: =J35*(1+K$3) -> 12000.876 | L35: =K35*(1+L$3) -> 12600.919 | M35: =L35*(1+M$3) -> 13230.965 | N35: =ROUND(G35*1.5,0) -> 14810 | O35: =ROUND(N35*(1+O$3),0) -> 15551 | P35: =ROUND(O35*(1+P$3),0) -> 16329 | Q35: =ROUND(P35*(1+Q$3),0) -> 17145 | R35: =ROUND(Q35*(1+R$3),0) -> 18002 | S35: =ROUND(R35*(1+S$3),0) -> 18902 | T35: =ROUND(S35*(1+T$3),0) -> 19847 | V35: Andre +25 %
A36: Fóroppsamling | B36: stk | C36: =G36 -> 205.8 | D36: =H36 -> 216.09 | E36: =I36 -> 226.8945 | F36: =J36 -> 238.23923 | G36: 205.8 | H36: =G36*(1+H$3) -> 216.09 | I36: =H36*(1+I$3) -> 226.8945 | J36: =I36*(1+J$3) -> 238.23923 | K36: =J36*(1+K$3) -> 250.15119 | L36: =K36*(1+L$3) -> 262.65875 | M36: =L36*(1+M$3) -> 275.79168 | N36: =ROUND(G36*1.5,0) -> 309 | O36: =ROUND(N36*(1+O$3),0) -> 324 | P36: =ROUND(O36*(1+P$3),0) -> 340 | Q36: =ROUND(P36*(1+Q$3),0) -> 357 | R36: =ROUND(Q36*(1+R$3),0) -> 375 | S36: =ROUND(R36*(1+S$3),0) -> 394 | T36: =ROUND(S36*(1+T$3),0) -> 414 | V36: Andre +25 %
A37: Bakteriologi | B37: prøve | C37: =G37 -> 136.5 | D37: =H37 -> 143.325 | E37: =I37 -> 150.49125 | F37: =J37 -> 158.01581 | G37: 136.5 | H37: =G37*(1+H$3) -> 143.325 | I37: =H37*(1+I$3) -> 150.49125 | J37: =I37*(1+J$3) -> 158.01581 | K37: =J37*(1+K$3) -> 165.9166 | L37: =K37*(1+L$3) -> 174.21243 | M37: =L37*(1+M$3) -> 182.92305 | N37: =ROUND($N$34/6,0) -> 206 | O37: =ROUND(O34/6,0) -> 216 | P37: =ROUND(P34/6,0) -> 227 | Q37: =ROUND(Q34/6,0) -> 238 | R37: =ROUND(R34/6,0) -> 250 | S37: =ROUND(S34/6,0) -> 262 | T37: =ROUND(T34/6,0) -> 276 | V37: Andre +25 %
A38: RNA-later | B38: prøve | C38: =G38 -> 136.5 | D38: =H38 -> 143.325 | E38: =I38 -> 150.49125 | F38: =J38 -> 158.01581 | G38: 136.5 | H38: =G38*(1+H$3) -> 143.325 | I38: =H38*(1+I$3) -> 150.49125 | J38: =I38*(1+J$3) -> 158.01581 | K38: =J38*(1+K$3) -> 165.9166 | L38: =K38*(1+L$3) -> 174.21243 | M38: =L38*(1+M$3) -> 182.92305 | N38: =ROUND($N$34/6,0) -> 206 | O38: =ROUND(O$34/6,0) -> 216 | P38: =ROUND(P$34/6,0) -> 227 | Q38: =ROUND(Q$34/6,0) -> 238 | R38: =ROUND(R$34/6,0) -> 250 | S38: =ROUND(S$34/6,0) -> 262 | T38: =ROUND(T$34/6,0) -> 276 | V38: Andre +25 %
A39: Ammonium | B39: måling | C39: =G39 -> 173.25 | D39: =H39 -> 181.9125 | E39: =I39 -> 191.00813 | F39: =J39 -> 200.55853 | G39: 173.25 | H39: =G39*(1+H$3) -> 181.9125 | I39: =H39*(1+I$3) -> 191.00813 | J39: =I39*(1+J$3) -> 200.55853 | K39: =J39*(1+K$3) -> 210.58646 | L39: =K39*(1+L$3) -> 221.11578 | M39: =L39*(1+M$3) -> 232.17157 | N39: =ROUND(G39*1.25,0) -> 217 | O39: =ROUND(N39*(1+O$3),0) -> 228 | P39: =ROUND(O39*(1+P$3),0) -> 239 | Q39: =ROUND(P39*(1+Q$3),0) -> 251 | R39: =ROUND(Q39*(1+R$3),0) -> 264 | S39: =ROUND(R39*(1+S$3),0) -> 277 | T39: =ROUND(S39*(1+T$3),0) -> 291 | V39: Andre +25 %
A40: Nitritt | B40: måling | C40: =G40 -> 106.05 | D40: =H40 -> 111.3525 | E40: =I40 -> 116.92013 | F40: =J40 -> 122.76613 | G40: 106.05 | H40: =G40*(1+H$3) -> 111.3525 | I40: =H40*(1+I$3) -> 116.92013 | J40: =I40*(1+J$3) -> 122.76613 | K40: =J40*(1+K$3) -> 128.90444 | L40: =K40*(1+L$3) -> 135.34966 | M40: =L40*(1+M$3) -> 142.11714 | N40: =ROUND(G40*1.25,0) -> 133 | O40: =ROUND(N40*(1+O$3),0) -> 140 | P40: =ROUND(O40*(1+P$3),0) -> 147 | Q40: =ROUND(P40*(1+Q$3),0) -> 154 | R40: =ROUND(Q40*(1+R$3),0) -> 162 | S40: =ROUND(R40*(1+S$3),0) -> 170 | T40: =ROUND(S40*(1+T$3),0) -> 179 | V40: Andre +25 %
A41: Nitrat | B41: måling | C41: =G41 -> 143.85 | D41: =H41 -> 151.0425 | E41: =I41 -> 158.59463 | F41: =J41 -> 166.52436 | G41: 143.85 | H41: =G41*(1+H$3) -> 151.0425 | I41: =H41*(1+I$3) -> 158.59463 | J41: =I41*(1+J$3) -> 166.52436 | K41: =J41*(1+K$3) -> 174.85057 | L41: =K41*(1+L$3) -> 183.5931 | M41: =L41*(1+M$3) -> 192.77276 | N41: =ROUND(G41*1.25,0) -> 180 | O41: =ROUND(N41*(1+O$3),0) -> 189 | P41: =ROUND(O41*(1+P$3),0) -> 198 | Q41: =ROUND(P41*(1+Q$3),0) -> 208 | R41: =ROUND(Q41*(1+R$3),0) -> 218 | S41: =ROUND(R41*(1+S$3),0) -> 229 | T41: =ROUND(S41*(1+T$3),0) -> 240 | V41: Andre +25 %
A42: Alkalinitet | B42: måling | C42: =G42 -> 131.25 | D42: =H42 -> 137.8125 | E42: =I42 -> 144.70312 | F42: =J42 -> 151.93828 | G42: 131.25 | H42: =G42*(1+H$3) -> 137.8125 | I42: =H42*(1+I$3) -> 144.70312 | J42: =I42*(1+J$3) -> 151.93828 | K42: =J42*(1+K$3) -> 159.5352 | L42: =K42*(1+L$3) -> 167.51196 | M42: =L42*(1+M$3) -> 175.88755 | N42: =ROUND(G42*1.25,0) -> 164 | O42: =ROUND(N42*(1+O$3),0) -> 172 | P42: =ROUND(O42*(1+P$3),0) -> 181 | Q42: =ROUND(P42*(1+Q$3),0) -> 190 | R42: =ROUND(Q42*(1+R$3),0) -> 200 | S42: =ROUND(R42*(1+S$3),0) -> 210 | T42: =ROUND(S42*(1+T$3),0) -> 221 | V42: Andre +25 %
A43: Riggkostnader vaksinering/merking/sortering | B43: stk | C43: =G43 -> 3290.7 | D43: =H43 -> 3455.235 | E43: =I43 -> 3627.9968 | F43: =J43 -> 3809.3966 | G43: 3290.7 | H43: =G43*(1+H$3) -> 3455.235 | I43: =H43*(1+I$3) -> 3627.9968 | J43: =I43*(1+J$3) -> 3809.3966 | K43: =J43*(1+K$3) -> 3999.8664 | L43: =K43*(1+L$3) -> 4199.8597 | M43: =L43*(1+M$3) -> 4409.8527 | N43: =ROUND(G43*1.25,0) -> 4113 | O43: =ROUND(N43*(1+O$3),0) -> 4319 | P43: =ROUND(O43*(1+P$3),0) -> 4535 | Q43: =ROUND(P43*(1+Q$3),0) -> 4762 | R43: =ROUND(Q43*(1+R$3),0) -> 5000 | S43: =ROUND(R43*(1+S$3),0) -> 5250 | T43: =ROUND(S43*(1+T$3),0) -> 5513 | V43: Andre +25 %
A44: Vaksinering | B44: stk | C44: =G44 -> 24.675 | D44: =H44 -> 25.90875 | E44: =I44 -> 27.204188 | F44: =J44 -> 28.564397 | G44: 24.675 | H44: =G44*(1+H$3) -> 25.90875 | I44: =H44*(1+I$3) -> 27.204188 | J44: =I44*(1+J$3) -> 28.564397 | K44: =J44*(1+K$3) -> 29.992617 | L44: =K44*(1+L$3) -> 31.492248 | M44: =L44*(1+M$3) -> 33.06686 | N44: =ROUND(G44*1.25,1) -> 30.8 | O44: =ROUND(N44*(1+O$3),1) -> 32.3 | P44: =ROUND(O44*(1+P$3),1) -> 33.9 | Q44: =ROUND(P44*(1+Q$3),1) -> 35.6 | R44: =ROUND(Q44*(1+R$3),1) -> 37.4 | S44: =ROUND(R44*(1+S$3),1) -> 39.3 | T44: =ROUND(S44*(1+T$3),1) -> 41.3 | V44: Andre +25 %
A45: Merking med Alcalian Blue | B45: stk | C45: =G45 -> 24.675 | D45: =H45 -> 25.90875 | E45: =I45 -> 27.204188 | F45: =J45 -> 28.564397 | G45: 24.675 | H45: =G45*(1+H$3) -> 25.90875 | I45: =H45*(1+I$3) -> 27.204188 | J45: =I45*(1+J$3) -> 28.564397 | K45: =J45*(1+K$3) -> 29.992617 | L45: =K45*(1+L$3) -> 31.492248 | M45: =L45*(1+M$3) -> 33.06686 | N45: =ROUND(G45*1.25,1) -> 30.8 | O45: =ROUND(N45*(1+O$3),1) -> 32.3 | P45: =ROUND(O45*(1+P$3),1) -> 33.9 | Q45: =ROUND(P45*(1+Q$3),1) -> 35.6 | R45: =ROUND(Q45*(1+R$3),1) -> 37.4 | S45: =ROUND(R45*(1+S$3),1) -> 39.3 | T45: =ROUND(S45*(1+T$3),1) -> 41.3 | V45: Andre +25 %
A46: Vaksinering og merking med Alcalian Blue | B46: stk | C46: =G46 -> 37.065 | D46: =H46 -> 38.91825 | E46: =I46 -> 40.864162 | F46: =J46 -> 42.907371 | G46: 37.065 | H46: =G46*(1+H$3) -> 38.91825 | I46: =H46*(1+I$3) -> 40.864162 | J46: =I46*(1+J$3) -> 42.907371 | K46: =J46*(1+K$3) -> 45.052739 | L46: =K46*(1+L$3) -> 47.305376 | M46: =L46*(1+M$3) -> 49.670645 | N46: =ROUND(G46*1.25,1) -> 46.3 | O46: =ROUND(N46*(1+O$3),1) -> 48.6 | P46: =ROUND(O46*(1+P$3),1) -> 51 | Q46: =ROUND(P46*(1+Q$3),1) -> 53.6 | R46: =ROUND(Q46*(1+R$3),1) -> 56.3 | S46: =ROUND(R46*(1+S$3),1) -> 59.1 | T46: =ROUND(S46*(1+T$3),1) -> 62.1 | V46: Andre +25 %
A47: Merking med pit-tag | B47: stk | C47: =G47 -> 37.065 | D47: =H47 -> 38.91825 | E47: =I47 -> 40.864162 | F47: =J47 -> 42.907371 | G47: 37.065 | H47: =G47*(1+H$3) -> 38.91825 | I47: =H47*(1+I$3) -> 40.864162 | J47: =I47*(1+J$3) -> 42.907371 | K47: =J47*(1+K$3) -> 45.052739 | L47: =K47*(1+L$3) -> 47.305376 | M47: =L47*(1+M$3) -> 49.670645 | N47: =ROUND(G47*1.25,1) -> 46.3 | O47: =ROUND(N47*(1+O$3),1) -> 48.6 | P47: =ROUND(O47*(1+P$3),1) -> 51 | Q47: =ROUND(P47*(1+Q$3),1) -> 53.6 | R47: =ROUND(Q47*(1+R$3),1) -> 56.3 | S47: =ROUND(R47*(1+S$3),1) -> 59.1 | T47: =ROUND(S47*(1+T$3),1) -> 62.1 | V47: Andre +25 %
A48: Kjøp av Biomark pit-tag | B48: stk | C48: =G48 -> 29.82 | D48: =H48 -> 31.311 | E48: =I48 -> 32.87655 | F48: =J48 -> 34.520378 | G48: 29.82 | H48: =G48*(1+H$3) -> 31.311 | I48: =H48*(1+I$3) -> 32.87655 | J48: =I48*(1+J$3) -> 34.520378 | K48: =J48*(1+K$3) -> 36.246396 | L48: =K48*(1+L$3) -> 38.058716 | M48: =L48*(1+M$3) -> 39.961652 | N48: =ROUND(G48*1.25,1) -> 37.3 | O48: =ROUND(N48*(1+O$3),1) -> 39.2 | P48: =ROUND(O48*(1+P$3),1) -> 41.2 | Q48: =ROUND(P48*(1+Q$3),1) -> 43.3 | R48: =ROUND(Q48*(1+R$3),1) -> 45.5 | S48: =ROUND(R48*(1+S$3),1) -> 47.8 | T48: =ROUND(S48*(1+T$3),1) -> 50.2 | V48: Andre +25 %
A49: Kjølerom avd. B | B49: døgn | C49: =G49 -> 116.55 | D49: =H49 -> 122.3775 | E49: =I49 -> 128.49638 | F49: =J49 -> 134.92119 | G49: 116.55 | H49: =G49*(1+H$3) -> 122.3775 | I49: =H49*(1+I$3) -> 128.49638 | J49: =I49*(1+J$3) -> 134.92119 | K49: =J49*(1+K$3) -> 141.66725 | L49: =K49*(1+L$3) -> 148.75062 | M49: =L49*(1+M$3) -> 156.18815 | N49: =ROUND(G49*1.25,0) -> 146 | O49: =ROUND(N49*(1+O$3),0) -> 153 | P49: =ROUND(O49*(1+P$3),0) -> 161 | Q49: =ROUND(P49*(1+Q$3),0) -> 169 | R49: =ROUND(Q49*(1+R$3),0) -> 177 | S49: =ROUND(R49*(1+S$3),0) -> 186 | T49: =ROUND(S49*(1+T$3),0) -> 195 | V49: Andre +25 %
A50: Transportkasse rogn | B50: stk | C50: =G50 -> 201.6 | D50: =H50 -> 211.68 | E50: =I50 -> 222.264 | F50: =J50 -> 233.3772 | G50: 201.6 | H50: =G50*(1+H$3) -> 211.68 | I50: =H50*(1+I$3) -> 222.264 | J50: =I50*(1+J$3) -> 233.3772 | K50: =J50*(1+K$3) -> 245.04606 | L50: =K50*(1+L$3) -> 257.29836 | M50: =L50*(1+M$3) -> 270.16328 | N50: =ROUND(G50*1.25,0) -> 252 | O50: =ROUND(N50*(1+O$3),0) -> 265 | P50: =ROUND(O50*(1+P$3),0) -> 278 | Q50: =ROUND(P50*(1+Q$3),0) -> 292 | R50: =ROUND(Q50*(1+R$3),0) -> 307 | S50: =ROUND(R50*(1+S$3),0) -> 322 | T50: =ROUND(S50*(1+T$3),0) -> 338 | V50: Andre +25 %
A51: Transport av forsøksdyr | B51: døgn | C51: =G51 -> 17529.75 | D51: =H51 -> 18406.237 | E51: =I51 -> 19326.549 | F51: =J51 -> 20292.877 | G51: 17529.75 | H51: =G51*(1+H$3) -> 18406.237 | I51: =H51*(1+I$3) -> 19326.549 | J51: =I51*(1+J$3) -> 20292.877 | K51: =J51*(1+K$3) -> 21307.521 | L51: =K51*(1+L$3) -> 22372.897 | M51: =L51*(1+M$3) -> 23491.542 | N51: =ROUND(G51*1.25,0) -> 21912 | O51: =ROUND(N51*(1+O$3),0) -> 23008 | P51: =ROUND(O51*(1+P$3),0) -> 24158 | Q51: =ROUND(P51*(1+Q$3),0) -> 25366 | R51: =ROUND(Q51*(1+R$3),0) -> 26634 | S51: =ROUND(R51*(1+S$3),0) -> 27966 | T51: =ROUND(S51*(1+T$3),0) -> 29364 | V51: Andre +25 %
A52: Leie av kontorlokale | B52: m2 | C52: =G52 -> 787.5 | D52: =H52 -> 826.875 | E52: =I52 -> 868.21875 | F52: =J52 -> 911.62969 | G52: 787.5 | H52: =G52*(1+H$3) -> 826.875 | I52: =H52*(1+I$3) -> 868.21875 | J52: =I52*(1+J$3) -> 911.62969 | K52: =J52*(1+K$3) -> 957.21117 | L52: =K52*(1+L$3) -> 1005.0717 | M52: =L52*(1+M$3) -> 1055.3253 | N52: =ROUND(G52*1.25,0) -> 984 | O52: =ROUND(N52*(1+O$3),0) -> 1033 | P52: =ROUND(O52*(1+P$3),0) -> 1085 | Q52: =ROUND(P52*(1+Q$3),0) -> 1139 | R52: =ROUND(Q52*(1+R$3),0) -> 1196 | S52: =ROUND(R52*(1+S$3),0) -> 1256 | T52: =ROUND(S52*(1+T$3),0) -> 1319 | V52: Andre +25 %
A53: Overnatting | B53: døgn | C53: =G53 -> 316.05 | D53: =H53 -> 331.8525 | E53: =I53 -> 348.44513 | F53: =J53 -> 365.86738 | G53: 316.05 | H53: =G53*(1+H$3) -> 331.8525 | I53: =H53*(1+I$3) -> 348.44513 | J53: =I53*(1+J$3) -> 365.86738 | K53: =J53*(1+K$3) -> 384.16075 | L53: =K53*(1+L$3) -> 403.36879 | M53: =L53*(1+M$3) -> 423.53723 | N53: =ROUND(G53*1.25,0) -> 395 | O53: =ROUND(N53*(1+O$3),0) -> 415 | P53: =ROUND(O53*(1+P$3),0) -> 436 | Q53: =ROUND(P53*(1+Q$3),0) -> 458 | R53: =ROUND(Q53*(1+R$3),0) -> 481 | S53: =ROUND(R53*(1+S$3),0) -> 505 | T53: =ROUND(S53*(1+T$3),0) -> 530 | V53: Andre +25 %
A54: Husleie landbase Kårvik | B54: år | C54: =G54 -> 56407.05 | D54: =H54 -> 59227.403 | E54: =I54 -> 62188.773 | F54: =J54 -> 65298.211 | G54: 56407.05 | H54: =G54*(1+H$3) -> 59227.403 | I54: =H54*(1+I$3) -> 62188.773 | J54: =I54*(1+J$3) -> 65298.211 | K54: =J54*(1+K$3) -> 68563.122 | L54: =K54*(1+L$3) -> 71991.278 | M54: =L54*(1+M$3) -> 75590.842 | N54: =ROUND(G54*1.25,0) -> 70509 | O54: =ROUND(N54*(1+O$3),0) -> 74034 | P54: =ROUND(O54*(1+P$3),0) -> 77736 | Q54: =ROUND(P54*(1+Q$3),0) -> 81623 | R54: =ROUND(Q54*(1+R$3),0) -> 85704 | S54: =ROUND(R54*(1+S$3),0) -> 89989 | T54: =ROUND(S54*(1+T$3),0) -> 94488 | V54: Andre +25 %

Sheet Veksttabell SV
A1: Veksttabeller sjøvann
A3: Gjeldende tabell Gj. Strømming | H3: ='Priseestimat gj.strømming'!$C$13 -> 0 | J3: =IF('Priseestimat gj.strømming'!$C$13=$A$46,J46,IF('Priseestimat gj.strømming'!$C$13=$A$67,J67,IF('Priseestimat gj.strømming'!$C$13=$A$88,J88,IF('Priseestimat gj.strømming'!$C$13=$A$108,J108,"")))) | K3: =IF('Priseestimat gj.strømming'!$C$13=$A$46,K46,IF('Priseestimat gj.strømming'!$C$13=$A$67,K67,IF('Priseestimat gj.strømming'!$C$13=$A$88,K88,IF('Priseestimat gj.strømming'!$C$13=$A$108,K108,"")))) | N3: =IF('Priseestimat gj.strømming'!$C$13=$A$46,N46,IF('Priseestimat gj.strømming'!$C$13=$A$67,N67,IF('Priseestimat gj.strømming'!$C$13=$A$88,N88,IF('Priseestimat gj.strømming'!$C$13=$A$108,N108,"")))) | O3: =IF('Priseestimat gj.strømming'!$C$13=$A$46,O46,IF('Priseestimat gj.strømming'!$C$13=$A$67,O67,IF('Priseestimat gj.strømming'!$C$13=$A$88,O88,IF('Priseestimat gj.strømming'!$C$13=$A$108,O108,""))))
B4: Fiskevekt (g)
A5: Temperatur | B5: =IF('Priseestimat gj.strømming'!$C$13=$A$46,B48,IF('Priseestimat gj.strømming'!$C$13=$A$67,B69,IF('Priseestimat gj.strømming'!$C$13=$A$88,B90,IF('Priseestimat gj.strømming'!$C$13=$A$108,B110,"ingen data")))) -> ingen data | C5: =IF('Priseestimat gj.strømming'!$C$13=$A$46,C48,IF('Priseestimat gj.strømming'!$C$13=$A$67,C69,IF('Priseestimat gj.strømming'!$C$13=$A$88,C90,IF('Priseestimat gj.strømming'!$C$13=$A$108,C110,"ingen data")))) -> ingen data | D5: =IF('Priseestimat gj.strømming'!$C$13=$A$46,D48,IF('Priseestimat gj.strømming'!$C$13=$A$67,D69,IF('Priseestimat gj.strømming'!$C$13=$A$88,D90,IF('Priseestimat gj.strømming'!$C$13=$A$108,D110,"ingen data")))) -> ingen data | E5: =IF('Priseestimat gj.strømming'!$C$13=$A$46,E48,IF('Priseestimat gj.strømming'!$C$13=$A$67,E69,IF('Priseestimat gj.strømming'!$C$13=$A$88,E90,IF('Priseestimat gj.strømming'!$C$13=$A$108,E110,"ingen data")))) -> ingen data | F5: =IF('Priseestimat gj.strømming'!$C$13=$A$46,F48,IF('Priseestimat gj.strømming'!$C$13=$A$67,F69,IF('Priseestimat gj.strømming'!$C$13=$A$88,F90,IF('Priseestimat gj.strømming'!$C$13=$A$108,F110,"ingen data")))) -> ingen data | G5: =IF('Priseestimat gj.strømming'!$C$13=$A$46,G48,IF('Priseestimat gj.strømming'!$C$13=$A$67,G69,IF('Priseestimat gj.strømming'!$C$13=$A$88,G90,IF('Priseestimat gj.strømming'!$C$13=$A$108,G110,"ingen data")))) -> ingen data | H5: =IF('Priseestimat gj.strømming'!$C$13=$A$46,H48,IF('Priseestimat gj.strømming'!$C$13=$A$67,H69,IF('Priseestimat gj.strømming'!$C$13=$A$88,H90,IF('Priseestimat gj.strømming'!$C$13=$A$108,H110,"ingen data")))) -> ingen data | I5: =IF('Priseestimat gj.strømming'!$C$13=$A$46,I48,IF('Priseestimat gj.strømming'!$C$13=$A$67,I69,IF('Priseestimat gj.strømming'!$C$13=$A$88,I90,IF('Priseestimat gj.strømming'!$C$13=$A$108,I110,"ingen data")))) -> ingen data | ... AU5: =IF('Priseestimat gj.strømming'!$C$13=$A$46,AU48,IF('Priseestimat gj.strømming'!$C$13=$A$67,AU69,IF('Priseestimat gj.strømming'!$C$13=$A$88,AU90,IF('Priseestimat gj.strømming'!$C$13=$A$108,AU110,"ingen data")))) -> ingen data
A6: =IF('Priseestimat gj.strømming'!$C$13=$A$46,A49,IF('Priseestimat gj.strømming'!$C$13=$A$67,A70,IF('Priseestimat gj.strømming'!$C$13=$A$88,A91,IF('Priseestimat gj.strømming'!$C$13=$A$108,A111,"ingen data")))) -> ingen data | B6: =IF('Priseestimat gj.strømming'!$C$13=$A$46,B49,IF('Priseestimat gj.strømming'!$C$13=$A$67,B70,IF('Priseestimat gj.strømming'!$C$13=$A$88,B91,IF('Priseestimat gj.strømming'!$C$13=$A$108,B111,"ingen data")))) -> ingen data | C6: =IF('Priseestimat gj.strømming'!$C$13=$A$46,C49,IF('Priseestimat gj.strømming'!$C$13=$A$67,C70,IF('Priseestimat gj.strømming'!$C$13=$A$88,C91,IF('Priseestimat gj.strømming'!$C$13=$A$108,C111,"ingen data")))) -> ingen data | D6: =IF('Priseestimat gj.strømming'!$C$13=$A$46,D49,IF('Priseestimat gj.strømming'!$C$13=$A$67,D70,IF('Priseestimat gj.strømming'!$C$13=$A$88,D91,IF('Priseestimat gj.strømming'!$C$13=$A$108,D111,"ingen data")))) -> ingen data | E6: =IF('Priseestimat gj.strømming'!$C$13=$A$46,E49,IF('Priseestimat gj.strømming'!$C$13=$A$67,E70,IF('Priseestimat gj.strømming'!$C$13=$A$88,E91,IF('Priseestimat gj.strømming'!$C$13=$A$108,E111,"ingen data")))) -> ingen data | F6: =IF('Priseestimat gj.strømming'!$C$13=$A$46,F49,IF('Priseestimat gj.strømming'!$C$13=$A$67,F70,IF('Priseestimat gj.strømming'!$C$13=$A$88,F91,IF('Priseestimat gj.strømming'!$C$13=$A$108,F111,"ingen data")))) -> ingen data | G6: =IF('Priseestimat gj.strømming'!$C$13=$A$46,G49,IF('Priseestimat gj.strømming'!$C$13=$A$67,G70,IF('Priseestimat gj.strømming'!$C$13=$A$88,G91,IF('Priseestimat gj.strømming'!$C$13=$A$108,G111,"ingen data")))) -> ingen data | H6: =IF('Priseestimat gj.strømming'!$C$13=$A$46,H49,IF('Priseestimat gj.strømming'!$C$13=$A$67,H70,IF('Priseestimat gj.strømming'!$C$13=$A$88,H91,IF('Priseestimat gj.strømming'!$C$13=$A$108,H111,"ingen data")))) -> ingen data | ... AU6: =IF('Priseestimat gj.strømming'!$C$13=$A$46,AU49,IF('Priseestimat gj.strømming'!$C$13=$A$67,AU70,IF('Priseestimat gj.strømming'!$C$13=$A$88,AU91,IF('Priseestimat gj.strømming'!$C$13=$A$108,AU111,"ingen data")))) -> ingen data
A7: =IF('Priseestimat gj.strømming'!$C$13=$A$46,A50,IF('Priseestimat gj.strømming'!$C$13=$A$67,A71,IF('Priseestimat gj.strømming'!$C$13=$A$88,A92,IF('Priseestimat gj.strømming'!$C$13=$A$108,A112,"ingen data")))) -> ingen data | B7: =IF('Priseestimat gj.strømming'!$C$13=$A$46,B50,IF('Priseestimat gj.strømming'!$C$13=$A$67,B71,IF('Priseestimat gj.strømming'!$C$13=$A$88,B92,IF('Priseestimat gj.strømming'!$C$13=$A$108,B112,"ingen data")))) -> ingen data | C7: =IF('Priseestimat gj.strømming'!$C$13=$A$46,C50,IF('Priseestimat gj.strømming'!$C$13=$A$67,C71,IF('Priseestimat gj.strømming'!$C$13=$A$88,C92,IF('Priseestimat gj.strømming'!$C$13=$A$108,C112,"ingen data")))) -> ingen data | D7: =IF('Priseestimat gj.strømming'!$C$13=$A$46,D50,IF('Priseestimat gj.strømming'!$C$13=$A$67,D71,IF('Priseestimat gj.strømming'!$C$13=$A$88,D92,IF('Priseestimat gj.strømming'!$C$13=$A$108,D112,"ingen data")))) -> ingen data | E7: =IF('Priseestimat gj.strømming'!$C$13=$A$46,E50,IF('Priseestimat gj.strømming'!$C$13=$A$67,E71,IF('Priseestimat gj.strømming'!$C$13=$A$88,E92,IF('Priseestimat gj.strømming'!$C$13=$A$108,E112,"ingen data")))) -> ingen data | F7: =IF('Priseestimat gj.strømming'!$C$13=$A$46,F50,IF('Priseestimat gj.strømming'!$C$13=$A$67,F71,IF('Priseestimat gj.strømming'!$C$13=$A$88,F92,IF('Priseestimat gj.strømming'!$C$13=$A$108,F112,"ingen data")))) -> ingen data | G7: =IF('Priseestimat gj.strømming'!$C$13=$A$46,G50,IF('Priseestimat gj.strømming'!$C$13=$A$67,G71,IF('Priseestimat gj.strømming'!$C$13=$A$88,G92,IF('Priseestimat gj.strømming'!$C$13=$A$108,G112,"ingen data")))) -> ingen data | H7: =IF('Priseestimat gj.strømming'!$C$13=$A$46,H50,IF('Priseestimat gj.strømming'!$C$13=$A$67,H71,IF('Priseestimat gj.strømming'!$C$13=$A$88,H92,IF('Priseestimat gj.strømming'!$C$13=$A$108,H112,"ingen data")))) -> ingen data | ... AU7: =IF('Priseestimat gj.strømming'!$C$13=$A$46,AU50,IF('Priseestimat gj.strømming'!$C$13=$A$67,AU71,IF('Priseestimat gj.strømming'!$C$13=$A$88,AU92,IF('Priseestimat gj.strømming'!$C$13=$A$108,AU112,"ingen data")))) -> ingen data
A8: =IF('Priseestimat gj.strømming'!$C$13=$A$46,A51,IF('Priseestimat gj.strømming'!$C$13=$A$67,A72,IF('Priseestimat gj.strømming'!$C$13=$A$88,A93,IF('Priseestimat gj.strømming'!$C$13=$A$108,A113,"ingen data")))) -> ingen data | B8: =IF('Priseestimat gj.strømming'!$C$13=$A$46,B51,IF('Priseestimat gj.strømming'!$C$13=$A$67,B72,IF('Priseestimat gj.strømming'!$C$13=$A$88,B93,IF('Priseestimat gj.strømming'!$C$13=$A$108,B113,"ingen data")))) -> ingen data | C8: =IF('Priseestimat gj.strømming'!$C$13=$A$46,C51,IF('Priseestimat gj.strømming'!$C$13=$A$67,C72,IF('Priseestimat gj.strømming'!$C$13=$A$88,C93,IF('Priseestimat gj.strømming'!$C$13=$A$108,C113,"ingen data")))) -> ingen data | D8: =IF('Priseestimat gj.strømming'!$C$13=$A$46,D51,IF('Priseestimat gj.strømming'!$C$13=$A$67,D72,IF('Priseestimat gj.strømming'!$C$13=$A$88,D93,IF('Priseestimat gj.strømming'!$C$13=$A$108,D113,"ingen data")))) -> ingen data | E8: =IF('Priseestimat gj.strømming'!$C$13=$A$46,E51,IF('Priseestimat gj.strømming'!$C$13=$A$67,E72,IF('Priseestimat gj.strømming'!$C$13=$A$88,E93,IF('Priseestimat gj.strømming'!$C$13=$A$108,E113,"ingen data")))) -> ingen data | F8: =IF('Priseestimat gj.strømming'!$C$13=$A$46,F51,IF('Priseestimat gj.strømming'!$C$13=$A$67,F72,IF('Priseestimat gj.strømming'!$C$13=$A$88,F93,IF('Priseestimat gj.strømming'!$C$13=$A$108,F113,"ingen data")))) -> ingen data | G8: =IF('Priseestimat gj.strømming'!$C$13=$A$46,G51,IF('Priseestimat gj.strømming'!$C$13=$A$67,G72,IF('Priseestimat gj.strømming'!$C$13=$A$88,G93,IF('Priseestimat gj.strømming'!$C$13=$A$108,G113,"ingen data")))) -> ingen data | H8: =IF('Priseestimat gj.strømming'!$C$13=$A$46,H51,IF('Priseestimat gj.strømming'!$C$13=$A$67,H72,IF('Priseestimat gj.strømming'!$C$13=$A$88,H93,IF('Priseestimat gj.strømming'!$C$13=$A$108,H113,"ingen data")))) -> ingen data | ... AU8: =IF('Priseestimat gj.strømming'!$C$13=$A$46,AU51,IF('Priseestimat gj.strømming'!$C$13=$A$67,AU72,IF('Priseestimat gj.strømming'!$C$13=$A$88,AU93,IF('Priseestimat gj.strømming'!$C$13=$A$108,AU113,"ingen data")))) -> ingen data
A9: =IF('Priseestimat gj.strømming'!$C$13=$A$46,A52,IF('Priseestimat gj.strømming'!$C$13=$A$67,A73,IF('Priseestimat gj.strømming'!$C$13=$A$88,A94,IF('Priseestimat gj.strømming'!$C$13=$A$108,A114,"ingen data")))) -> ingen data | B9: =IF('Priseestimat gj.strømming'!$C$13=$A$46,B52,IF('Priseestimat gj.strømming'!$C$13=$A$67,B73,IF('Priseestimat gj.strømming'!$C$13=$A$88,B94,IF('Priseestimat gj.strømming'!$C$13=$A$108,B114,"ingen data")))) -> ingen data | C9: =IF('Priseestimat gj.strømming'!$C$13=$A$46,C52,IF('Priseestimat gj.strømming'!$C$13=$A$67,C73,IF('Priseestimat gj.strømming'!$C$13=$A$88,C94,IF('Priseestimat gj.strømming'!$C$13=$A$108,C114,"ingen data")))) -> ingen data | D9: =IF('Priseestimat gj.strømming'!$C$13=$A$46,D52,IF('Priseestimat gj.strømming'!$C$13=$A$67,D73,IF('Priseestimat gj.strømming'!$C$13=$A$88,D94,IF('Priseestimat gj.strømming'!$C$13=$A$108,D114,"ingen data")))) -> ingen data | E9: =IF('Priseestimat gj.strømming'!$C$13=$A$46,E52,IF('Priseestimat gj.strømming'!$C$13=$A$67,E73,IF('Priseestimat gj.strømming'!$C$13=$A$88,E94,IF('Priseestimat gj.strømming'!$C$13=$A$108,E114,"ingen data")))) -> ingen data | F9: =IF('Priseestimat gj.strømming'!$C$13=$A$46,F52,IF('Priseestimat gj.strømming'!$C$13=$A$67,F73,IF('Priseestimat gj.strømming'!$C$13=$A$88,F94,IF('Priseestimat gj.strømming'!$C$13=$A$108,F114,"ingen data")))) -> ingen data | G9: =IF('Priseestimat gj.strømming'!$C$13=$A$46,G52,IF('Priseestimat gj.strømming'!$C$13=$A$67,G73,IF('Priseestimat gj.strømming'!$C$13=$A$88,G94,IF('Priseestimat gj.strømming'!$C$13=$A$108,G114,"ingen data")))) -> ingen data | H9: =IF('Priseestimat gj.strømming'!$C$13=$A$46,H52,IF('Priseestimat gj.strømming'!$C$13=$A$67,H73,IF('Priseestimat gj.strømming'!$C$13=$A$88,H94,IF('Priseestimat gj.strømming'!$C$13=$A$108,H114,"ingen data")))) -> ingen data | ... AU9: =IF('Priseestimat gj.strømming'!$C$13=$A$46,AU52,IF('Priseestimat gj.strømming'!$C$13=$A$67,AU73,IF('Priseestimat gj.strømming'!$C$13=$A$88,AU94,IF('Priseestimat gj.strømming'!$C$13=$A$108,AU114,"ingen data")))) -> ingen data
A10: =IF('Priseestimat gj.strømming'!$C$13=$A$46,A53,IF('Priseestimat gj.strømming'!$C$13=$A$67,A74,IF('Priseestimat gj.strømming'!$C$13=$A$88,A95,IF('Priseestimat gj.strømming'!$C$13=$A$108,A115,"ingen data")))) -> ingen data | B10: =IF('Priseestimat gj.strømming'!$C$13=$A$46,B53,IF('Priseestimat gj.strømming'!$C$13=$A$67,B74,IF('Priseestimat gj.strømming'!$C$13=$A$88,B95,IF('Priseestimat gj.strømming'!$C$13=$A$108,B115,"ingen data")))) -> ingen data | C10: =IF('Priseestimat gj.strømming'!$C$13=$A$46,C53,IF('Priseestimat gj.strømming'!$C$13=$A$67,C74,IF('Priseestimat gj.strømming'!$C$13=$A$88,C95,IF('Priseestimat gj.strømming'!$C$13=$A$108,C115,"ingen data")))) -> ingen data | D10: =IF('Priseestimat gj.strømming'!$C$13=$A$46,D53,IF('Priseestimat gj.strømming'!$C$13=$A$67,D74,IF('Priseestimat gj.strømming'!$C$13=$A$88,D95,IF('Priseestimat gj.strømming'!$C$13=$A$108,D115,"ingen data")))) -> ingen data | E10: =IF('Priseestimat gj.strømming'!$C$13=$A$46,E53,IF('Priseestimat gj.strømming'!$C$13=$A$67,E74,IF('Priseestimat gj.strømming'!$C$13=$A$88,E95,IF('Priseestimat gj.strømming'!$C$13=$A$108,E115,"ingen data")))) -> ingen data | F10: =IF('Priseestimat gj.strømming'!$C$13=$A$46,F53,IF('Priseestimat gj.strømming'!$C$13=$A$67,F74,IF('Priseestimat gj.strømming'!$C$13=$A$88,F95,IF('Priseestimat gj.strømming'!$C$13=$A$108,F115,"ingen data")))) -> ingen data | G10: =IF('Priseestimat gj.strømming'!$C$13=$A$46,G53,IF('Priseestimat gj.strømming'!$C$13=$A$67,G74,IF('Priseestimat gj.strømming'!$C$13=$A$88,G95,IF('Priseestimat gj.strømming'!$C$13=$A$108,G115,"ingen data")))) -> ingen data | H10: =IF('Priseestimat gj.strømming'!$C$13=$A$46,H53,IF('Priseestimat gj.strømming'!$C$13=$A$67,H74,IF('Priseestimat gj.strømming'!$C$13=$A$88,H95,IF('Priseestimat gj.strømming'!$C$13=$A$108,H115,"ingen data")))) -> ingen data | ... AU10: =IF('Priseestimat gj.strømming'!$C$13=$A$46,AU53,IF('Priseestimat gj.strømming'!$C$13=$A$67,AU74,IF('Priseestimat gj.strømming'!$C$13=$A$88,AU95,IF('Priseestimat gj.strømming'!$C$13=$A$108,AU115,"ingen data")))) -> ingen data
A11: =IF('Priseestimat gj.strømming'!$C$13=$A$46,A54,IF('Priseestimat gj.strømming'!$C$13=$A$67,A75,IF('Priseestimat gj.strømming'!$C$13=$A$88,A96,IF('Priseestimat gj.strømming'!$C$13=$A$108,A116,"ingen data")))) -> ingen data | B11: =IF('Priseestimat gj.strømming'!$C$13=$A$46,B54,IF('Priseestimat gj.strømming'!$C$13=$A$67,B75,IF('Priseestimat gj.strømming'!$C$13=$A$88,B96,IF('Priseestimat gj.strømming'!$C$13=$A$108,B116,"ingen data")))) -> ingen data | C11: =IF('Priseestimat gj.strømming'!$C$13=$A$46,C54,IF('Priseestimat gj.strømming'!$C$13=$A$67,C75,IF('Priseestimat gj.strømming'!$C$13=$A$88,C96,IF('Priseestimat gj.strømming'!$C$13=$A$108,C116,"ingen data")))) -> ingen data | D11: =IF('Priseestimat gj.strømming'!$C$13=$A$46,D54,IF('Priseestimat gj.strømming'!$C$13=$A$67,D75,IF('Priseestimat gj.strømming'!$C$13=$A$88,D96,IF('Priseestimat gj.strømming'!$C$13=$A$108,D116,"ingen data")))) -> ingen data | E11: =IF('Priseestimat gj.strømming'!$C$13=$A$46,E54,IF('Priseestimat gj.strømming'!$C$13=$A$67,E75,IF('Priseestimat gj.strømming'!$C$13=$A$88,E96,IF('Priseestimat gj.strømming'!$C$13=$A$108,E116,"ingen data")))) -> ingen data | F11: =IF('Priseestimat gj.strømming'!$C$13=$A$46,F54,IF('Priseestimat gj.strømming'!$C$13=$A$67,F75,IF('Priseestimat gj.strømming'!$C$13=$A$88,F96,IF('Priseestimat gj.strømming'!$C$13=$A$108,F116,"ingen data")))) -> ingen data | G11: =IF('Priseestimat gj.strømming'!$C$13=$A$46,G54,IF('Priseestimat gj.strømming'!$C$13=$A$67,G75,IF('Priseestimat gj.strømming'!$C$13=$A$88,G96,IF('Priseestimat gj.strømming'!$C$13=$A$108,G116,"ingen data")))) -> ingen data | H11: =IF('Priseestimat gj.strømming'!$C$13=$A$46,H54,IF('Priseestimat gj.strømming'!$C$13=$A$67,H75,IF('Priseestimat gj.strømming'!$C$13=$A$88,H96,IF('Priseestimat gj.strømming'!$C$13=$A$108,H116,"ingen data")))) -> ingen data | ... AU11: =IF('Priseestimat gj.strømming'!$C$13=$A$46,AU54,IF('Priseestimat gj.strømming'!$C$13=$A$67,AU75,IF('Priseestimat gj.strømming'!$C$13=$A$88,AU96,IF('Priseestimat gj.strømming'!$C$13=$A$108,AU116,"ingen data")))) -> ingen data
A12: =IF('Priseestimat gj.strømming'!$C$13=$A$46,A55,IF('Priseestimat gj.strømming'!$C$13=$A$67,A76,IF('Priseestimat gj.strømming'!$C$13=$A$88,A97,IF('Priseestimat gj.strømming'!$C$13=$A$108,A117,"ingen data")))) -> ingen data | B12: =IF('Priseestimat gj.strømming'!$C$13=$A$46,B55,IF('Priseestimat gj.strømming'!$C$13=$A$67,B76,IF('Priseestimat gj.strømming'!$C$13=$A$88,B97,IF('Priseestimat gj.strømming'!$C$13=$A$108,B117,"ingen data")))) -> ingen data | C12: =IF('Priseestimat gj.strømming'!$C$13=$A$46,C55,IF('Priseestimat gj.strømming'!$C$13=$A$67,C76,IF('Priseestimat gj.strømming'!$C$13=$A$88,C97,IF('Priseestimat gj.strømming'!$C$13=$A$108,C117,"ingen data")))) -> ingen data | D12: =IF('Priseestimat gj.strømming'!$C$13=$A$46,D55,IF('Priseestimat gj.strømming'!$C$13=$A$67,D76,IF('Priseestimat gj.strømming'!$C$13=$A$88,D97,IF('Priseestimat gj.strømming'!$C$13=$A$108,D117,"ingen data")))) -> ingen data | E12: =IF('Priseestimat gj.strømming'!$C$13=$A$46,E55,IF('Priseestimat gj.strømming'!$C$13=$A$67,E76,IF('Priseestimat gj.strømming'!$C$13=$A$88,E97,IF('Priseestimat gj.strømming'!$C$13=$A$108,E117,"ingen data")))) -> ingen data | F12: =IF('Priseestimat gj.strømming'!$C$13=$A$46,F55,IF('Priseestimat gj.strømming'!$C$13=$A$67,F76,IF('Priseestimat gj.strømming'!$C$13=$A$88,F97,IF('Priseestimat gj.strømming'!$C$13=$A$108,F117,"ingen data")))) -> ingen data | G12: =IF('Priseestimat gj.strømming'!$C$13=$A$46,G55,IF('Priseestimat gj.strømming'!$C$13=$A$67,G76,IF('Priseestimat gj.strømming'!$C$13=$A$88,G97,IF('Priseestimat gj.strømming'!$C$13=$A$108,G117,"ingen data")))) -> ingen data | H12: =IF('Priseestimat gj.strømming'!$C$13=$A$46,H55,IF('Priseestimat gj.strømming'!$C$13=$A$67,H76,IF('Priseestimat gj.strømming'!$C$13=$A$88,H97,IF('Priseestimat gj.strømming'!$C$13=$A$108,H117,"ingen data")))) -> ingen data | ... AU12: =IF('Priseestimat gj.strømming'!$C$13=$A$46,AU55,IF('Priseestimat gj.strømming'!$C$13=$A$67,AU76,IF('Priseestimat gj.strømming'!$C$13=$A$88,AU97,IF('Priseestimat gj.strømming'!$C$13=$A$108,AU117,"ingen data")))) -> ingen data
A13: =IF('Priseestimat gj.strømming'!$C$13=$A$46,A56,IF('Priseestimat gj.strømming'!$C$13=$A$67,A77,IF('Priseestimat gj.strømming'!$C$13=$A$88,A98,IF('Priseestimat gj.strømming'!$C$13=$A$108,A118,"ingen data")))) -> ingen data | B13: =IF('Priseestimat gj.strømming'!$C$13=$A$46,B56,IF('Priseestimat gj.strømming'!$C$13=$A$67,B77,IF('Priseestimat gj.strømming'!$C$13=$A$88,B98,IF('Priseestimat gj.strømming'!$C$13=$A$108,B118,"ingen data")))) -> ingen data | C13: =IF('Priseestimat gj.strømming'!$C$13=$A$46,C56,IF('Priseestimat gj.strømming'!$C$13=$A$67,C77,IF('Priseestimat gj.strømming'!$C$13=$A$88,C98,IF('Priseestimat gj.strømming'!$C$13=$A$108,C118,"ingen data")))) -> ingen data | D13: =IF('Priseestimat gj.strømming'!$C$13=$A$46,D56,IF('Priseestimat gj.strømming'!$C$13=$A$67,D77,IF('Priseestimat gj.strømming'!$C$13=$A$88,D98,IF('Priseestimat gj.strømming'!$C$13=$A$108,D118,"ingen data")))) -> ingen data | E13: =IF('Priseestimat gj.strømming'!$C$13=$A$46,E56,IF('Priseestimat gj.strømming'!$C$13=$A$67,E77,IF('Priseestimat gj.strømming'!$C$13=$A$88,E98,IF('Priseestimat gj.strømming'!$C$13=$A$108,E118,"ingen data")))) -> ingen data | F13: =IF('Priseestimat gj.strømming'!$C$13=$A$46,F56,IF('Priseestimat gj.strømming'!$C$13=$A$67,F77,IF('Priseestimat gj.strømming'!$C$13=$A$88,F98,IF('Priseestimat gj.strømming'!$C$13=$A$108,F118,"ingen data")))) -> ingen data | G13: =IF('Priseestimat gj.strømming'!$C$13=$A$46,G56,IF('Priseestimat gj.strømming'!$C$13=$A$67,G77,IF('Priseestimat gj.strømming'!$C$13=$A$88,G98,IF('Priseestimat gj.strømming'!$C$13=$A$108,G118,"ingen data")))) -> ingen data | H13: =IF('Priseestimat gj.strømming'!$C$13=$A$46,H56,IF('Priseestimat gj.strømming'!$C$13=$A$67,H77,IF('Priseestimat gj.strømming'!$C$13=$A$88,H98,IF('Priseestimat gj.strømming'!$C$13=$A$108,H118,"ingen data")))) -> ingen data | ... AU13: =IF('Priseestimat gj.strømming'!$C$13=$A$46,AU56,IF('Priseestimat gj.strømming'!$C$13=$A$67,AU77,IF('Priseestimat gj.strømming'!$C$13=$A$88,AU98,IF('Priseestimat gj.strømming'!$C$13=$A$108,AU118,"ingen data")))) -> ingen data
A14: =IF('Priseestimat gj.strømming'!$C$13=$A$46,A57,IF('Priseestimat gj.strømming'!$C$13=$A$67,A78,IF('Priseestimat gj.strømming'!$C$13=$A$88,A99,IF('Priseestimat gj.strømming'!$C$13=$A$108,A119,"ingen data")))) -> ingen data | B14: =IF('Priseestimat gj.strømming'!$C$13=$A$46,B57,IF('Priseestimat gj.strømming'!$C$13=$A$67,B78,IF('Priseestimat gj.strømming'!$C$13=$A$88,B99,IF('Priseestimat gj.strømming'!$C$13=$A$108,B119,"ingen data")))) -> ingen data | C14: =IF('Priseestimat gj.strømming'!$C$13=$A$46,C57,IF('Priseestimat gj.strømming'!$C$13=$A$67,C78,IF('Priseestimat gj.strømming'!$C$13=$A$88,C99,IF('Priseestimat gj.strømming'!$C$13=$A$108,C119,"ingen data")))) -> ingen data | D14: =IF('Priseestimat gj.strømming'!$C$13=$A$46,D57,IF('Priseestimat gj.strømming'!$C$13=$A$67,D78,IF('Priseestimat gj.strømming'!$C$13=$A$88,D99,IF('Priseestimat gj.strømming'!$C$13=$A$108,D119,"ingen data")))) -> ingen data | E14: =IF('Priseestimat gj.strømming'!$C$13=$A$46,E57,IF('Priseestimat gj.strømming'!$C$13=$A$67,E78,IF('Priseestimat gj.strømming'!$C$13=$A$88,E99,IF('Priseestimat gj.strømming'!$C$13=$A$108,E119,"ingen data")))) -> ingen data | F14: =IF('Priseestimat gj.strømming'!$C$13=$A$46,F57,IF('Priseestimat gj.strømming'!$C$13=$A$67,F78,IF('Priseestimat gj.strømming'!$C$13=$A$88,F99,IF('Priseestimat gj.strømming'!$C$13=$A$108,F119,"ingen data")))) -> ingen data | G14: =IF('Priseestimat gj.strømming'!$C$13=$A$46,G57,IF('Priseestimat gj.strømming'!$C$13=$A$67,G78,IF('Priseestimat gj.strømming'!$C$13=$A$88,G99,IF('Priseestimat gj.strømming'!$C$13=$A$108,G119,"ingen data")))) -> ingen data | H14: =IF('Priseestimat gj.strømming'!$C$13=$A$46,H57,IF('Priseestimat gj.strømming'!$C$13=$A$67,H78,IF('Priseestimat gj.strømming'!$C$13=$A$88,H99,IF('Priseestimat gj.strømming'!$C$13=$A$108,H119,"ingen data")))) -> ingen data | ... AU14: =IF('Priseestimat gj.strømming'!$C$13=$A$46,AU57,IF('Priseestimat gj.strømming'!$C$13=$A$67,AU78,IF('Priseestimat gj.strømming'!$C$13=$A$88,AU99,IF('Priseestimat gj.strømming'!$C$13=$A$108,AU119,"ingen data")))) -> ingen data
A15: =IF('Priseestimat gj.strømming'!$C$13=$A$46,A58,IF('Priseestimat gj.strømming'!$C$13=$A$67,A79,IF('Priseestimat gj.strømming'!$C$13=$A$88,A100,IF('Priseestimat gj.strømming'!$C$13=$A$108,A120,"ingen data")))) -> ingen data | B15: =IF('Priseestimat gj.strømming'!$C$13=$A$46,B58,IF('Priseestimat gj.strømming'!$C$13=$A$67,B79,IF('Priseestimat gj.strømming'!$C$13=$A$88,B100,IF('Priseestimat gj.strømming'!$C$13=$A$108,B120,"ingen data")))) -> ingen data | C15: =IF('Priseestimat gj.strømming'!$C$13=$A$46,C58,IF('Priseestimat gj.strømming'!$C$13=$A$67,C79,IF('Priseestimat gj.strømming'!$C$13=$A$88,C100,IF('Priseestimat gj.strømming'!$C$13=$A$108,C120,"ingen data")))) -> ingen data | D15: =IF('Priseestimat gj.strømming'!$C$13=$A$46,D58,IF('Priseestimat gj.strømming'!$C$13=$A$67,D79,IF('Priseestimat gj.strømming'!$C$13=$A$88,D100,IF('Priseestimat gj.strømming'!$C$13=$A$108,D120,"ingen data")))) -> ingen data | E15: =IF('Priseestimat gj.strømming'!$C$13=$A$46,E58,IF('Priseestimat gj.strømming'!$C$13=$A$67,E79,IF('Priseestimat gj.strømming'!$C$13=$A$88,E100,IF('Priseestimat gj.strømming'!$C$13=$A$108,E120,"ingen data")))) -> ingen data | F15: =IF('Priseestimat gj.strømming'!$C$13=$A$46,F58,IF('Priseestimat gj.strømming'!$C$13=$A$67,F79,IF('Priseestimat gj.strømming'!$C$13=$A$88,F100,IF('Priseestimat gj.strømming'!$C$13=$A$108,F120,"ingen data")))) -> ingen data | G15: =IF('Priseestimat gj.strømming'!$C$13=$A$46,G58,IF('Priseestimat gj.strømming'!$C$13=$A$67,G79,IF('Priseestimat gj.strømming'!$C$13=$A$88,G100,IF('Priseestimat gj.strømming'!$C$13=$A$108,G120,"ingen data")))) -> ingen data | H15: =IF('Priseestimat gj.strømming'!$C$13=$A$46,H58,IF('Priseestimat gj.strømming'!$C$13=$A$67,H79,IF('Priseestimat gj.strømming'!$C$13=$A$88,H100,IF('Priseestimat gj.strømming'!$C$13=$A$108,H120,"ingen data")))) -> ingen data | ... AU15: =IF('Priseestimat gj.strømming'!$C$13=$A$46,AU58,IF('Priseestimat gj.strømming'!$C$13=$A$67,AU79,IF('Priseestimat gj.strømming'!$C$13=$A$88,AU100,IF('Priseestimat gj.strømming'!$C$13=$A$108,AU120,"ingen data")))) -> ingen data
A16: =IF('Priseestimat gj.strømming'!$C$13=$A$46,A59,IF('Priseestimat gj.strømming'!$C$13=$A$67,A80,IF('Priseestimat gj.strømming'!$C$13=$A$88,A101,IF('Priseestimat gj.strømming'!$C$13=$A$108,A121,"ingen data")))) -> ingen data | B16: =IF('Priseestimat gj.strømming'!$C$13=$A$46,B59,IF('Priseestimat gj.strømming'!$C$13=$A$67,B80,IF('Priseestimat gj.strømming'!$C$13=$A$88,B101,IF('Priseestimat gj.strømming'!$C$13=$A$108,B121,"ingen data")))) -> ingen data | C16: =IF('Priseestimat gj.strømming'!$C$13=$A$46,C59,IF('Priseestimat gj.strømming'!$C$13=$A$67,C80,IF('Priseestimat gj.strømming'!$C$13=$A$88,C101,IF('Priseestimat gj.strømming'!$C$13=$A$108,C121,"ingen data")))) -> ingen data | D16: =IF('Priseestimat gj.strømming'!$C$13=$A$46,D59,IF('Priseestimat gj.strømming'!$C$13=$A$67,D80,IF('Priseestimat gj.strømming'!$C$13=$A$88,D101,IF('Priseestimat gj.strømming'!$C$13=$A$108,D121,"ingen data")))) -> ingen data | E16: =IF('Priseestimat gj.strømming'!$C$13=$A$46,E59,IF('Priseestimat gj.strømming'!$C$13=$A$67,E80,IF('Priseestimat gj.strømming'!$C$13=$A$88,E101,IF('Priseestimat gj.strømming'!$C$13=$A$108,E121,"ingen data")))) -> ingen data | F16: =IF('Priseestimat gj.strømming'!$C$13=$A$46,F59,IF('Priseestimat gj.strømming'!$C$13=$A$67,F80,IF('Priseestimat gj.strømming'!$C$13=$A$88,F101,IF('Priseestimat gj.strømming'!$C$13=$A$108,F121,"ingen data")))) -> ingen data | G16: =IF('Priseestimat gj.strømming'!$C$13=$A$46,G59,IF('Priseestimat gj.strømming'!$C$13=$A$67,G80,IF('Priseestimat gj.strømming'!$C$13=$A$88,G101,IF('Priseestimat gj.strømming'!$C$13=$A$108,G121,"ingen data")))) -> ingen data | H16: =IF('Priseestimat gj.strømming'!$C$13=$A$46,H59,IF('Priseestimat gj.strømming'!$C$13=$A$67,H80,IF('Priseestimat gj.strømming'!$C$13=$A$88,H101,IF('Priseestimat gj.strømming'!$C$13=$A$108,H121,"ingen data")))) -> ingen data | ... AU16: =IF('Priseestimat gj.strømming'!$C$13=$A$46,AU59,IF('Priseestimat gj.strømming'!$C$13=$A$67,AU80,IF('Priseestimat gj.strømming'!$C$13=$A$88,AU101,IF('Priseestimat gj.strømming'!$C$13=$A$108,AU121,"ingen data")))) -> ingen data
A17: =IF('Priseestimat gj.strømming'!$C$13=$A$46,A60,IF('Priseestimat gj.strømming'!$C$13=$A$67,A81,IF('Priseestimat gj.strømming'!$C$13=$A$88,A102,IF('Priseestimat gj.strømming'!$C$13=$A$108,A122,"ingen data")))) -> ingen data | B17: =IF('Priseestimat gj.strømming'!$C$13=$A$46,B60,IF('Priseestimat gj.strømming'!$C$13=$A$67,B81,IF('Priseestimat gj.strømming'!$C$13=$A$88,B102,IF('Priseestimat gj.strømming'!$C$13=$A$108,B122,"ingen data")))) -> ingen data | C17: =IF('Priseestimat gj.strømming'!$C$13=$A$46,C60,IF('Priseestimat gj.strømming'!$C$13=$A$67,C81,IF('Priseestimat gj.strømming'!$C$13=$A$88,C102,IF('Priseestimat gj.strømming'!$C$13=$A$108,C122,"ingen data")))) -> ingen data | D17: =IF('Priseestimat gj.strømming'!$C$13=$A$46,D60,IF('Priseestimat gj.strømming'!$C$13=$A$67,D81,IF('Priseestimat gj.strømming'!$C$13=$A$88,D102,IF('Priseestimat gj.strømming'!$C$13=$A$108,D122,"ingen data")))) -> ingen data | E17: =IF('Priseestimat gj.strømming'!$C$13=$A$46,E60,IF('Priseestimat gj.strømming'!$C$13=$A$67,E81,IF('Priseestimat gj.strømming'!$C$13=$A$88,E102,IF('Priseestimat gj.strømming'!$C$13=$A$108,E122,"ingen data")))) -> ingen data | F17: =IF('Priseestimat gj.strømming'!$C$13=$A$46,F60,IF('Priseestimat gj.strømming'!$C$13=$A$67,F81,IF('Priseestimat gj.strømming'!$C$13=$A$88,F102,IF('Priseestimat gj.strømming'!$C$13=$A$108,F122,"ingen data")))) -> ingen data | G17: =IF('Priseestimat gj.strømming'!$C$13=$A$46,G60,IF('Priseestimat gj.strømming'!$C$13=$A$67,G81,IF('Priseestimat gj.strømming'!$C$13=$A$88,G102,IF('Priseestimat gj.strømming'!$C$13=$A$108,G122,"ingen data")))) -> ingen data | H17: =IF('Priseestimat gj.strømming'!$C$13=$A$46,H60,IF('Priseestimat gj.strømming'!$C$13=$A$67,H81,IF('Priseestimat gj.strømming'!$C$13=$A$88,H102,IF('Priseestimat gj.strømming'!$C$13=$A$108,H122,"ingen data")))) -> ingen data | ... AU17: =IF('Priseestimat gj.strømming'!$C$13=$A$46,AU60,IF('Priseestimat gj.strømming'!$C$13=$A$67,AU81,IF('Priseestimat gj.strømming'!$C$13=$A$88,AU102,IF('Priseestimat gj.strømming'!$C$13=$A$108,AU122,"ingen data")))) -> ingen data
... A22: =IF('Priseestimat gj.strømming'!$C$13=$A$46,A65,IF('Priseestimat gj.strømming'!$C$13=$A$67,A86,IF('Priseestimat gj.strømming'!$C$13=$A$88,A107,IF('Priseestimat gj.strømming'!$C$13=$A$108,A127,"ingen data")))) -> ingen data | B22: =IF('Priseestimat gj.strømming'!$C$13=$A$46,B65,IF('Priseestimat gj.strømming'!$C$13=$A$67,B86,IF('Priseestimat gj.strømming'!$C$13=$A$88,B107,IF('Priseestimat gj.strømming'!$C$13=$A$108,B127,"ingen data")))) -> ingen data | C22: =IF('Priseestimat gj.strømming'!$C$13=$A$46,C65,IF('Priseestimat gj.strømming'!$C$13=$A$67,C86,IF('Priseestimat gj.strømming'!$C$13=$A$88,C107,IF('Priseestimat gj.strømming'!$C$13=$A$108,C127,"ingen data")))) -> ingen data | D22: =IF('Priseestimat gj.strømming'!$C$13=$A$46,D65,IF('Priseestimat gj.strømming'!$C$13=$A$67,D86,IF('Priseestimat gj.strømming'!$C$13=$A$88,D107,IF('Priseestimat gj.strømming'!$C$13=$A$108,D127,"ingen data")))) -> ingen data | E22: =IF('Priseestimat gj.strømming'!$C$13=$A$46,E65,IF('Priseestimat gj.strømming'!$C$13=$A$67,E86,IF('Priseestimat gj.strømming'!$C$13=$A$88,E107,IF('Priseestimat gj.strømming'!$C$13=$A$108,E127,"ingen data")))) -> ingen data | F22: =IF('Priseestimat gj.strømming'!$C$13=$A$46,F65,IF('Priseestimat gj.strømming'!$C$13=$A$67,F86,IF('Priseestimat gj.strømming'!$C$13=$A$88,F107,IF('Priseestimat gj.strømming'!$C$13=$A$108,F127,"ingen data")))) -> ingen data | G22: =IF('Priseestimat gj.strømming'!$C$13=$A$46,G65,IF('Priseestimat gj.strømming'!$C$13=$A$67,G86,IF('Priseestimat gj.strømming'!$C$13=$A$88,G107,IF('Priseestimat gj.strømming'!$C$13=$A$108,G127,"ingen data")))) -> ingen data | H22: =IF('Priseestimat gj.strømming'!$C$13=$A$46,H65,IF('Priseestimat gj.strømming'!$C$13=$A$67,H86,IF('Priseestimat gj.strømming'!$C$13=$A$88,H107,IF('Priseestimat gj.strømming'!$C$13=$A$108,H127,"ingen data")))) -> ingen data | ... AU22: =IF('Priseestimat gj.strømming'!$C$13=$A$46,AU65,IF('Priseestimat gj.strømming'!$C$13=$A$67,AU86,IF('Priseestimat gj.strømming'!$C$13=$A$88,AU107,IF('Priseestimat gj.strømming'!$C$13=$A$108,AU127,"ingen data")))) -> ingen data
A24: Gjeldende tabell RAS | H24: ='Prisestimat RAS'!C12 -> 0 | J24: =IF('Priseestimat gj.strømming'!$C$13=$A$46,J67,IF('Priseestimat gj.strømming'!$C$13=$A$67,J88,IF('Priseestimat gj.strømming'!$C$13=$A$88,J109,IF('Priseestimat gj.strømming'!$C$13=$A$108,J129,"")))) | K24: =IF('Prisestimat RAS'!$C$12=$A$46,K46,IF('Prisestimat RAS'!$C$12=$A$67,K67,IF('Prisestimat RAS'!$C$12=$A$88,K88,IF('Prisestimat RAS'!$C$12=$A$108,K108,"ingen data")))) -> ingen data | N24: =IF('Prisestimat RAS'!$C$12=$A$46,N46,IF('Prisestimat RAS'!$C$12=$A$67,N67,IF('Prisestimat RAS'!$C$12=$A$88,N88,IF('Prisestimat RAS'!$C$12=$A$108,N108,"ingen data")))) -> ingen data | O24: =IF('Priseestimat gj.strømming'!$C$13=$A$46,O67,IF('Priseestimat gj.strømming'!$C$13=$A$67,O88,IF('Priseestimat gj.strømming'!$C$13=$A$88,O109,IF('Priseestimat gj.strømming'!$C$13=$A$108,O129,""))))
B25: Fiskevekt (g)
A26: Temperatur | B26: =IF('Prisestimat RAS'!$C$12=$A$46,B48,IF('Prisestimat RAS'!$C$12=$A$67,B69,IF('Prisestimat RAS'!$C$12=$A$88,B90,IF('Prisestimat RAS'!$C$12=$A$108,B110,"ingen data")))) -> ingen data | C26: =IF('Prisestimat RAS'!$C$12=$A$46,C48,IF('Prisestimat RAS'!$C$12=$A$67,C69,IF('Prisestimat RAS'!$C$12=$A$88,C90,IF('Prisestimat RAS'!$C$12=$A$108,C110,"ingen data")))) -> ingen data | D26: =IF('Prisestimat RAS'!$C$12=$A$46,D48,IF('Prisestimat RAS'!$C$12=$A$67,D69,IF('Prisestimat RAS'!$C$12=$A$88,D90,IF('Prisestimat RAS'!$C$12=$A$108,D110,"ingen data")))) -> ingen data | E26: =IF('Prisestimat RAS'!$C$12=$A$46,E48,IF('Prisestimat RAS'!$C$12=$A$67,E69,IF('Prisestimat RAS'!$C$12=$A$88,E90,IF('Prisestimat RAS'!$C$12=$A$108,E110,"ingen data")))) -> ingen data | F26: =IF('Prisestimat RAS'!$C$12=$A$46,F48,IF('Prisestimat RAS'!$C$12=$A$67,F69,IF('Prisestimat RAS'!$C$12=$A$88,F90,IF('Prisestimat RAS'!$C$12=$A$108,F110,"ingen data")))) -> ingen data | G26: =IF('Prisestimat RAS'!$C$12=$A$46,G48,IF('Prisestimat RAS'!$C$12=$A$67,G69,IF('Prisestimat RAS'!$C$12=$A$88,G90,IF('Prisestimat RAS'!$C$12=$A$108,G110,"ingen data")))) -> ingen data | H26: =IF('Prisestimat RAS'!$C$12=$A$46,H48,IF('Prisestimat RAS'!$C$12=$A$67,H69,IF('Prisestimat RAS'!$C$12=$A$88,H90,IF('Prisestimat RAS'!$C$12=$A$108,H110,"ingen data")))) -> ingen data | I26: =IF('Prisestimat RAS'!$C$12=$A$46,I48,IF('Prisestimat RAS'!$C$12=$A$67,I69,IF('Prisestimat RAS'!$C$12=$A$88,I90,IF('Prisestimat RAS'!$C$12=$A$108,I110,"ingen data")))) -> ingen data | ... AU26: =IF('Prisestimat RAS'!$C$12=$A$46,AU48,IF('Prisestimat RAS'!$C$12=$A$67,AU69,IF('Prisestimat RAS'!$C$12=$A$88,AU90,IF('Prisestimat RAS'!$C$12=$A$108,AU110,"ingen data")))) -> ingen data
A27: =IF('Prisestimat RAS'!$C$12=$A$46,A49,IF('Prisestimat RAS'!$C$12=$A$67,A70,IF('Prisestimat RAS'!$C$12=$A$88,A91,IF('Prisestimat RAS'!$C$12=$A$108,A111,"ingen data")))) -> ingen data | B27: =IF('Prisestimat RAS'!$C$12=$A$46,B49,IF('Prisestimat RAS'!$C$12=$A$67,B70,IF('Prisestimat RAS'!$C$12=$A$88,B91,IF('Prisestimat RAS'!$C$12=$A$108,B111,"ingen data")))) -> ingen data | C27: =IF('Prisestimat RAS'!$C$12=$A$46,C49,IF('Prisestimat RAS'!$C$12=$A$67,C70,IF('Prisestimat RAS'!$C$12=$A$88,C91,IF('Prisestimat RAS'!$C$12=$A$108,C111,"ingen data")))) -> ingen data | D27: =IF('Prisestimat RAS'!$C$12=$A$46,D49,IF('Prisestimat RAS'!$C$12=$A$67,D70,IF('Prisestimat RAS'!$C$12=$A$88,D91,IF('Prisestimat RAS'!$C$12=$A$108,D111,"ingen data")))) -> ingen data | E27: =IF('Prisestimat RAS'!$C$12=$A$46,E49,IF('Prisestimat RAS'!$C$12=$A$67,E70,IF('Prisestimat RAS'!$C$12=$A$88,E91,IF('Prisestimat RAS'!$C$12=$A$108,E111,"ingen data")))) -> ingen data | F27: =IF('Prisestimat RAS'!$C$12=$A$46,F49,IF('Prisestimat RAS'!$C$12=$A$67,F70,IF('Prisestimat RAS'!$C$12=$A$88,F91,IF('Prisestimat RAS'!$C$12=$A$108,F111,"ingen data")))) -> ingen data | G27: =IF('Prisestimat RAS'!$C$12=$A$46,G49,IF('Prisestimat RAS'!$C$12=$A$67,G70,IF('Prisestimat RAS'!$C$12=$A$88,G91,IF('Prisestimat RAS'!$C$12=$A$108,G111,"ingen data")))) -> ingen data | H27: =IF('Prisestimat RAS'!$C$12=$A$46,H49,IF('Prisestimat RAS'!$C$12=$A$67,H70,IF('Prisestimat RAS'!$C$12=$A$88,H91,IF('Prisestimat RAS'!$C$12=$A$108,H111,"ingen data")))) -> ingen data | ... AU27: =IF('Prisestimat RAS'!$C$12=$A$46,AU49,IF('Prisestimat RAS'!$C$12=$A$67,AU70,IF('Prisestimat RAS'!$C$12=$A$88,AU91,IF('Prisestimat RAS'!$C$12=$A$108,AU111,"ingen data")))) -> ingen data
A28: =IF('Prisestimat RAS'!$C$12=$A$46,A50,IF('Prisestimat RAS'!$C$12=$A$67,A71,IF('Prisestimat RAS'!$C$12=$A$88,A92,IF('Prisestimat RAS'!$C$12=$A$108,A112,"ingen data")))) -> ingen data | B28: =IF('Prisestimat RAS'!$C$12=$A$46,B50,IF('Prisestimat RAS'!$C$12=$A$67,B71,IF('Prisestimat RAS'!$C$12=$A$88,B92,IF('Prisestimat RAS'!$C$12=$A$108,B112,"ingen data")))) -> ingen data | C28: =IF('Prisestimat RAS'!$C$12=$A$46,C50,IF('Prisestimat RAS'!$C$12=$A$67,C71,IF('Prisestimat RAS'!$C$12=$A$88,C92,IF('Prisestimat RAS'!$C$12=$A$108,C112,"ingen data")))) -> ingen data | D28: =IF('Prisestimat RAS'!$C$12=$A$46,D50,IF('Prisestimat RAS'!$C$12=$A$67,D71,IF('Prisestimat RAS'!$C$12=$A$88,D92,IF('Prisestimat RAS'!$C$12=$A$108,D112,"ingen data")))) -> ingen data | E28: =IF('Prisestimat RAS'!$C$12=$A$46,E50,IF('Prisestimat RAS'!$C$12=$A$67,E71,IF('Prisestimat RAS'!$C$12=$A$88,E92,IF('Prisestimat RAS'!$C$12=$A$108,E112,"ingen data")))) -> ingen data | F28: =IF('Prisestimat RAS'!$C$12=$A$46,F50,IF('Prisestimat RAS'!$C$12=$A$67,F71,IF('Prisestimat RAS'!$C$12=$A$88,F92,IF('Prisestimat RAS'!$C$12=$A$108,F112,"ingen data")))) -> ingen data | G28: =IF('Prisestimat RAS'!$C$12=$A$46,G50,IF('Prisestimat RAS'!$C$12=$A$67,G71,IF('Prisestimat RAS'!$C$12=$A$88,G92,IF('Prisestimat RAS'!$C$12=$A$108,G112,"ingen data")))) -> ingen data | H28: =IF('Prisestimat RAS'!$C$12=$A$46,H50,IF('Prisestimat RAS'!$C$12=$A$67,H71,IF('Prisestimat RAS'!$C$12=$A$88,H92,IF('Prisestimat RAS'!$C$12=$A$108,H112,"ingen data")))) -> ingen data | ... AU28: =IF('Prisestimat RAS'!$C$12=$A$46,AU50,IF('Prisestimat RAS'!$C$12=$A$67,AU71,IF('Prisestimat RAS'!$C$12=$A$88,AU92,IF('Prisestimat RAS'!$C$12=$A$108,AU112,"ingen data")))) -> ingen data
A29: =IF('Prisestimat RAS'!$C$12=$A$46,A51,IF('Prisestimat RAS'!$C$12=$A$67,A72,IF('Prisestimat RAS'!$C$12=$A$88,A93,IF('Prisestimat RAS'!$C$12=$A$108,A113,"ingen data")))) -> ingen data | B29: =IF('Prisestimat RAS'!$C$12=$A$46,B51,IF('Prisestimat RAS'!$C$12=$A$67,B72,IF('Prisestimat RAS'!$C$12=$A$88,B93,IF('Prisestimat RAS'!$C$12=$A$108,B113,"ingen data")))) -> ingen data | C29: =IF('Prisestimat RAS'!$C$12=$A$46,C51,IF('Prisestimat RAS'!$C$12=$A$67,C72,IF('Prisestimat RAS'!$C$12=$A$88,C93,IF('Prisestimat RAS'!$C$12=$A$108,C113,"ingen data")))) -> ingen data | D29: =IF('Prisestimat RAS'!$C$12=$A$46,D51,IF('Prisestimat RAS'!$C$12=$A$67,D72,IF('Prisestimat RAS'!$C$12=$A$88,D93,IF('Prisestimat RAS'!$C$12=$A$108,D113,"ingen data")))) -> ingen data | E29: =IF('Prisestimat RAS'!$C$12=$A$46,E51,IF('Prisestimat RAS'!$C$12=$A$67,E72,IF('Prisestimat RAS'!$C$12=$A$88,E93,IF('Prisestimat RAS'!$C$12=$A$108,E113,"ingen data")))) -> ingen data | F29: =IF('Prisestimat RAS'!$C$12=$A$46,F51,IF('Prisestimat RAS'!$C$12=$A$67,F72,IF('Prisestimat RAS'!$C$12=$A$88,F93,IF('Prisestimat RAS'!$C$12=$A$108,F113,"ingen data")))) -> ingen data | G29: =IF('Prisestimat RAS'!$C$12=$A$46,G51,IF('Prisestimat RAS'!$C$12=$A$67,G72,IF('Prisestimat RAS'!$C$12=$A$88,G93,IF('Prisestimat RAS'!$C$12=$A$108,G113,"ingen data")))) -> ingen data | H29: =IF('Prisestimat RAS'!$C$12=$A$46,H51,IF('Prisestimat RAS'!$C$12=$A$67,H72,IF('Prisestimat RAS'!$C$12=$A$88,H93,IF('Prisestimat RAS'!$C$12=$A$108,H113,"ingen data")))) -> ingen data | ... AU29: =IF('Prisestimat RAS'!$C$12=$A$46,AU51,IF('Prisestimat RAS'!$C$12=$A$67,AU72,IF('Prisestimat RAS'!$C$12=$A$88,AU93,IF('Prisestimat RAS'!$C$12=$A$108,AU113,"ingen data")))) -> ingen data
A30: =IF('Prisestimat RAS'!$C$12=$A$46,A52,IF('Prisestimat RAS'!$C$12=$A$67,A73,IF('Prisestimat RAS'!$C$12=$A$88,A94,IF('Prisestimat RAS'!$C$12=$A$108,A114,"ingen data")))) -> ingen data | B30: =IF('Prisestimat RAS'!$C$12=$A$46,B52,IF('Prisestimat RAS'!$C$12=$A$67,B73,IF('Prisestimat RAS'!$C$12=$A$88,B94,IF('Prisestimat RAS'!$C$12=$A$108,B114,"ingen data")))) -> ingen data | C30: =IF('Prisestimat RAS'!$C$12=$A$46,C52,IF('Prisestimat RAS'!$C$12=$A$67,C73,IF('Prisestimat RAS'!$C$12=$A$88,C94,IF('Prisestimat RAS'!$C$12=$A$108,C114,"ingen data")))) -> ingen data | D30: =IF('Prisestimat RAS'!$C$12=$A$46,D52,IF('Prisestimat RAS'!$C$12=$A$67,D73,IF('Prisestimat RAS'!$C$12=$A$88,D94,IF('Prisestimat RAS'!$C$12=$A$108,D114,"ingen data")))) -> ingen data | E30: =IF('Prisestimat RAS'!$C$12=$A$46,E52,IF('Prisestimat RAS'!$C$12=$A$67,E73,IF('Prisestimat RAS'!$C$12=$A$88,E94,IF('Prisestimat RAS'!$C$12=$A$108,E114,"ingen data")))) -> ingen data | F30: =IF('Prisestimat RAS'!$C$12=$A$46,F52,IF('Prisestimat RAS'!$C$12=$A$67,F73,IF('Prisestimat RAS'!$C$12=$A$88,F94,IF('Prisestimat RAS'!$C$12=$A$108,F114,"ingen data")))) -> ingen data | G30: =IF('Prisestimat RAS'!$C$12=$A$46,G52,IF('Prisestimat RAS'!$C$12=$A$67,G73,IF('Prisestimat RAS'!$C$12=$A$88,G94,IF('Prisestimat RAS'!$C$12=$A$108,G114,"ingen data")))) -> ingen data | H30: =IF('Prisestimat RAS'!$C$12=$A$46,H52,IF('Prisestimat RAS'!$C$12=$A$67,H73,IF('Prisestimat RAS'!$C$12=$A$88,H94,IF('Prisestimat RAS'!$C$12=$A$108,H114,"ingen data")))) -> ingen data | ... AU30: =IF('Prisestimat RAS'!$C$12=$A$46,AU52,IF('Prisestimat RAS'!$C$12=$A$67,AU73,IF('Prisestimat RAS'!$C$12=$A$88,AU94,IF('Prisestimat RAS'!$C$12=$A$108,AU114,"ingen data")))) -> ingen data
A31: =IF('Prisestimat RAS'!$C$12=$A$46,A53,IF('Prisestimat RAS'!$C$12=$A$67,A74,IF('Prisestimat RAS'!$C$12=$A$88,A95,IF('Prisestimat RAS'!$C$12=$A$108,A115,"ingen data")))) -> ingen data | B31: =IF('Prisestimat RAS'!$C$12=$A$46,B53,IF('Prisestimat RAS'!$C$12=$A$67,B74,IF('Prisestimat RAS'!$C$12=$A$88,B95,IF('Prisestimat RAS'!$C$12=$A$108,B115,"ingen data")))) -> ingen data | C31: =IF('Prisestimat RAS'!$C$12=$A$46,C53,IF('Prisestimat RAS'!$C$12=$A$67,C74,IF('Prisestimat RAS'!$C$12=$A$88,C95,IF('Prisestimat RAS'!$C$12=$A$108,C115,"ingen data")))) -> ingen data | D31: =IF('Prisestimat RAS'!$C$12=$A$46,D53,IF('Prisestimat RAS'!$C$12=$A$67,D74,IF('Prisestimat RAS'!$C$12=$A$88,D95,IF('Prisestimat RAS'!$C$12=$A$108,D115,"ingen data")))) -> ingen data | E31: =IF('Prisestimat RAS'!$C$12=$A$46,E53,IF('Prisestimat RAS'!$C$12=$A$67,E74,IF('Prisestimat RAS'!$C$12=$A$88,E95,IF('Prisestimat RAS'!$C$12=$A$108,E115,"ingen data")))) -> ingen data | F31: =IF('Prisestimat RAS'!$C$12=$A$46,F53,IF('Prisestimat RAS'!$C$12=$A$67,F74,IF('Prisestimat RAS'!$C$12=$A$88,F95,IF('Prisestimat RAS'!$C$12=$A$108,F115,"ingen data")))) -> ingen data | G31: =IF('Prisestimat RAS'!$C$12=$A$46,G53,IF('Prisestimat RAS'!$C$12=$A$67,G74,IF('Prisestimat RAS'!$C$12=$A$88,G95,IF('Prisestimat RAS'!$C$12=$A$108,G115,"ingen data")))) -> ingen data | H31: =IF('Prisestimat RAS'!$C$12=$A$46,H53,IF('Prisestimat RAS'!$C$12=$A$67,H74,IF('Prisestimat RAS'!$C$12=$A$88,H95,IF('Prisestimat RAS'!$C$12=$A$108,H115,"ingen data")))) -> ingen data | ... AU31: =IF('Prisestimat RAS'!$C$12=$A$46,AU53,IF('Prisestimat RAS'!$C$12=$A$67,AU74,IF('Prisestimat RAS'!$C$12=$A$88,AU95,IF('Prisestimat RAS'!$C$12=$A$108,AU115,"ingen data")))) -> ingen data
A32: =IF('Prisestimat RAS'!$C$12=$A$46,A54,IF('Prisestimat RAS'!$C$12=$A$67,A75,IF('Prisestimat RAS'!$C$12=$A$88,A96,IF('Prisestimat RAS'!$C$12=$A$108,A116,"ingen data")))) -> ingen data | B32: =IF('Prisestimat RAS'!$C$12=$A$46,B54,IF('Prisestimat RAS'!$C$12=$A$67,B75,IF('Prisestimat RAS'!$C$12=$A$88,B96,IF('Prisestimat RAS'!$C$12=$A$108,B116,"ingen data")))) -> ingen data | C32: =IF('Prisestimat RAS'!$C$12=$A$46,C54,IF('Prisestimat RAS'!$C$12=$A$67,C75,IF('Prisestimat RAS'!$C$12=$A$88,C96,IF('Prisestimat RAS'!$C$12=$A$108,C116,"ingen data")))) -> ingen data | D32: =IF('Prisestimat RAS'!$C$12=$A$46,D54,IF('Prisestimat RAS'!$C$12=$A$67,D75,IF('Prisestimat RAS'!$C$12=$A$88,D96,IF('Prisestimat RAS'!$C$12=$A$108,D116,"ingen data")))) -> ingen data | E32: =IF('Prisestimat RAS'!$C$12=$A$46,E54,IF('Prisestimat RAS'!$C$12=$A$67,E75,IF('Prisestimat RAS'!$C$12=$A$88,E96,IF('Prisestimat RAS'!$C$12=$A$108,E116,"ingen data")))) -> ingen data | F32: =IF('Prisestimat RAS'!$C$12=$A$46,F54,IF('Prisestimat RAS'!$C$12=$A$67,F75,IF('Prisestimat RAS'!$C$12=$A$88,F96,IF('Prisestimat RAS'!$C$12=$A$108,F116,"ingen data")))) -> ingen data | G32: =IF('Prisestimat RAS'!$C$12=$A$46,G54,IF('Prisestimat RAS'!$C$12=$A$67,G75,IF('Prisestimat RAS'!$C$12=$A$88,G96,IF('Prisestimat RAS'!$C$12=$A$108,G116,"ingen data")))) -> ingen data | H32: =IF('Prisestimat RAS'!$C$12=$A$46,H54,IF('Prisestimat RAS'!$C$12=$A$67,H75,IF('Prisestimat RAS'!$C$12=$A$88,H96,IF('Prisestimat RAS'!$C$12=$A$108,H116,"ingen data")))) -> ingen data | ... AU32: =IF('Prisestimat RAS'!$C$12=$A$46,AU54,IF('Prisestimat RAS'!$C$12=$A$67,AU75,IF('Prisestimat RAS'!$C$12=$A$88,AU96,IF('Prisestimat RAS'!$C$12=$A$108,AU116,"ingen data")))) -> ingen data
A33: =IF('Prisestimat RAS'!$C$12=$A$46,A55,IF('Prisestimat RAS'!$C$12=$A$67,A76,IF('Prisestimat RAS'!$C$12=$A$88,A97,IF('Prisestimat RAS'!$C$12=$A$108,A117,"ingen data")))) -> ingen data | B33: =IF('Prisestimat RAS'!$C$12=$A$46,B55,IF('Prisestimat RAS'!$C$12=$A$67,B76,IF('Prisestimat RAS'!$C$12=$A$88,B97,IF('Prisestimat RAS'!$C$12=$A$108,B117,"ingen data")))) -> ingen data | C33: =IF('Prisestimat RAS'!$C$12=$A$46,C55,IF('Prisestimat RAS'!$C$12=$A$67,C76,IF('Prisestimat RAS'!$C$12=$A$88,C97,IF('Prisestimat RAS'!$C$12=$A$108,C117,"ingen data")))) -> ingen data | D33: =IF('Prisestimat RAS'!$C$12=$A$46,D55,IF('Prisestimat RAS'!$C$12=$A$67,D76,IF('Prisestimat RAS'!$C$12=$A$88,D97,IF('Prisestimat RAS'!$C$12=$A$108,D117,"ingen data")))) -> ingen data | E33: =IF('Prisestimat RAS'!$C$12=$A$46,E55,IF('Prisestimat RAS'!$C$12=$A$67,E76,IF('Prisestimat RAS'!$C$12=$A$88,E97,IF('Prisestimat RAS'!$C$12=$A$108,E117,"ingen data")))) -> ingen data | F33: =IF('Prisestimat RAS'!$C$12=$A$46,F55,IF('Prisestimat RAS'!$C$12=$A$67,F76,IF('Prisestimat RAS'!$C$12=$A$88,F97,IF('Prisestimat RAS'!$C$12=$A$108,F117,"ingen data")))) -> ingen data | G33: =IF('Prisestimat RAS'!$C$12=$A$46,G55,IF('Prisestimat RAS'!$C$12=$A$67,G76,IF('Prisestimat RAS'!$C$12=$A$88,G97,IF('Prisestimat RAS'!$C$12=$A$108,G117,"ingen data")))) -> ingen data | H33: =IF('Prisestimat RAS'!$C$12=$A$46,H55,IF('Prisestimat RAS'!$C$12=$A$67,H76,IF('Prisestimat RAS'!$C$12=$A$88,H97,IF('Prisestimat RAS'!$C$12=$A$108,H117,"ingen data")))) -> ingen data | ... AU33: =IF('Prisestimat RAS'!$C$12=$A$46,AU55,IF('Prisestimat RAS'!$C$12=$A$67,AU76,IF('Prisestimat RAS'!$C$12=$A$88,AU97,IF('Prisestimat RAS'!$C$12=$A$108,AU117,"ingen data")))) -> ingen data
A34: =IF('Prisestimat RAS'!$C$12=$A$46,A56,IF('Prisestimat RAS'!$C$12=$A$67,A77,IF('Prisestimat RAS'!$C$12=$A$88,A98,IF('Prisestimat RAS'!$C$12=$A$108,A118,"ingen data")))) -> ingen data | B34: =IF('Prisestimat RAS'!$C$12=$A$46,B56,IF('Prisestimat RAS'!$C$12=$A$67,B77,IF('Prisestimat RAS'!$C$12=$A$88,B98,IF('Prisestimat RAS'!$C$12=$A$108,B118,"ingen data")))) -> ingen data | C34: =IF('Prisestimat RAS'!$C$12=$A$46,C56,IF('Prisestimat RAS'!$C$12=$A$67,C77,IF('Prisestimat RAS'!$C$12=$A$88,C98,IF('Prisestimat RAS'!$C$12=$A$108,C118,"ingen data")))) -> ingen data | D34: =IF('Prisestimat RAS'!$C$12=$A$46,D56,IF('Prisestimat RAS'!$C$12=$A$67,D77,IF('Prisestimat RAS'!$C$12=$A$88,D98,IF('Prisestimat RAS'!$C$12=$A$108,D118,"ingen data")))) -> ingen data | E34: =IF('Prisestimat RAS'!$C$12=$A$46,E56,IF('Prisestimat RAS'!$C$12=$A$67,E77,IF('Prisestimat RAS'!$C$12=$A$88,E98,IF('Prisestimat RAS'!$C$12=$A$108,E118,"ingen data")))) -> ingen data | F34: =IF('Prisestimat RAS'!$C$12=$A$46,F56,IF('Prisestimat RAS'!$C$12=$A$67,F77,IF('Prisestimat RAS'!$C$12=$A$88,F98,IF('Prisestimat RAS'!$C$12=$A$108,F118,"ingen data")))) -> ingen data | G34: =IF('Prisestimat RAS'!$C$12=$A$46,G56,IF('Prisestimat RAS'!$C$12=$A$67,G77,IF('Prisestimat RAS'!$C$12=$A$88,G98,IF('Prisestimat RAS'!$C$12=$A$108,G118,"ingen data")))) -> ingen data | H34: =IF('Prisestimat RAS'!$C$12=$A$46,H56,IF('Prisestimat RAS'!$C$12=$A$67,H77,IF('Prisestimat RAS'!$C$12=$A$88,H98,IF('Prisestimat RAS'!$C$12=$A$108,H118,"ingen data")))) -> ingen data | ... AU34: =IF('Prisestimat RAS'!$C$12=$A$46,AU56,IF('Prisestimat RAS'!$C$12=$A$67,AU77,IF('Prisestimat RAS'!$C$12=$A$88,AU98,IF('Prisestimat RAS'!$C$12=$A$108,AU118,"ingen data")))) -> ingen data
A35: =IF('Prisestimat RAS'!$C$12=$A$46,A57,IF('Prisestimat RAS'!$C$12=$A$67,A78,IF('Prisestimat RAS'!$C$12=$A$88,A99,IF('Prisestimat RAS'!$C$12=$A$108,A119,"ingen data")))) -> ingen data | B35: =IF('Prisestimat RAS'!$C$12=$A$46,B57,IF('Prisestimat RAS'!$C$12=$A$67,B78,IF('Prisestimat RAS'!$C$12=$A$88,B99,IF('Prisestimat RAS'!$C$12=$A$108,B119,"ingen data")))) -> ingen data | C35: =IF('Prisestimat RAS'!$C$12=$A$46,C57,IF('Prisestimat RAS'!$C$12=$A$67,C78,IF('Prisestimat RAS'!$C$12=$A$88,C99,IF('Prisestimat RAS'!$C$12=$A$108,C119,"ingen data")))) -> ingen data | D35: =IF('Prisestimat RAS'!$C$12=$A$46,D57,IF('Prisestimat RAS'!$C$12=$A$67,D78,IF('Prisestimat RAS'!$C$12=$A$88,D99,IF('Prisestimat RAS'!$C$12=$A$108,D119,"ingen data")))) -> ingen data | E35: =IF('Prisestimat RAS'!$C$12=$A$46,E57,IF('Prisestimat RAS'!$C$12=$A$67,E78,IF('Prisestimat RAS'!$C$12=$A$88,E99,IF('Prisestimat RAS'!$C$12=$A$108,E119,"ingen data")))) -> ingen data | F35: =IF('Prisestimat RAS'!$C$12=$A$46,F57,IF('Prisestimat RAS'!$C$12=$A$67,F78,IF('Prisestimat RAS'!$C$12=$A$88,F99,IF('Prisestimat RAS'!$C$12=$A$108,F119,"ingen data")))) -> ingen data | G35: =IF('Prisestimat RAS'!$C$12=$A$46,G57,IF('Prisestimat RAS'!$C$12=$A$67,G78,IF('Prisestimat RAS'!$C$12=$A$88,G99,IF('Prisestimat RAS'!$C$12=$A$108,G119,"ingen data")))) -> ingen data | H35: =IF('Prisestimat RAS'!$C$12=$A$46,H57,IF('Prisestimat RAS'!$C$12=$A$67,H78,IF('Prisestimat RAS'!$C$12=$A$88,H99,IF('Prisestimat RAS'!$C$12=$A$108,H119,"ingen data")))) -> ingen data | ... AU35: =IF('Prisestimat RAS'!$C$12=$A$46,AU57,IF('Prisestimat RAS'!$C$12=$A$67,AU78,IF('Prisestimat RAS'!$C$12=$A$88,AU99,IF('Prisestimat RAS'!$C$12=$A$108,AU119,"ingen data")))) -> ingen data
A36: =IF('Prisestimat RAS'!$C$12=$A$46,A58,IF('Prisestimat RAS'!$C$12=$A$67,A79,IF('Prisestimat RAS'!$C$12=$A$88,A100,IF('Prisestimat RAS'!$C$12=$A$108,A120,"ingen data")))) -> ingen data | B36: =IF('Prisestimat RAS'!$C$12=$A$46,B58,IF('Prisestimat RAS'!$C$12=$A$67,B79,IF('Prisestimat RAS'!$C$12=$A$88,B100,IF('Prisestimat RAS'!$C$12=$A$108,B120,"ingen data")))) -> ingen data | C36: =IF('Prisestimat RAS'!$C$12=$A$46,C58,IF('Prisestimat RAS'!$C$12=$A$67,C79,IF('Prisestimat RAS'!$C$12=$A$88,C100,IF('Prisestimat RAS'!$C$12=$A$108,C120,"ingen data")))) -> ingen data | D36: =IF('Prisestimat RAS'!$C$12=$A$46,D58,IF('Prisestimat RAS'!$C$12=$A$67,D79,IF('Prisestimat RAS'!$C$12=$A$88,D100,IF('Prisestimat RAS'!$C$12=$A$108,D120,"ingen data")))) -> ingen data | E36: =IF('Prisestimat RAS'!$C$12=$A$46,E58,IF('Prisestimat RAS'!$C$12=$A$67,E79,IF('Prisestimat RAS'!$C$12=$A$88,E100,IF('Prisestimat RAS'!$C$12=$A$108,E120,"ingen data")))) -> ingen data | F36: =IF('Prisestimat RAS'!$C$12=$A$46,F58,IF('Prisestimat RAS'!$C$12=$A$67,F79,IF('Prisestimat RAS'!$C$12=$A$88,F100,IF('Prisestimat RAS'!$C$12=$A$108,F120,"ingen data")))) -> ingen data | G36: =IF('Prisestimat RAS'!$C$12=$A$46,G58,IF('Prisestimat RAS'!$C$12=$A$67,G79,IF('Prisestimat RAS'!$C$12=$A$88,G100,IF('Prisestimat RAS'!$C$12=$A$108,G120,"ingen data")))) -> ingen data | H36: =IF('Prisestimat RAS'!$C$12=$A$46,H58,IF('Prisestimat RAS'!$C$12=$A$67,H79,IF('Prisestimat RAS'!$C$12=$A$88,H100,IF('Prisestimat RAS'!$C$12=$A$108,H120,"ingen data")))) -> ingen data | ... AU36: =IF('Prisestimat RAS'!$C$12=$A$46,AU58,IF('Prisestimat RAS'!$C$12=$A$67,AU79,IF('Prisestimat RAS'!$C$12=$A$88,AU100,IF('Prisestimat RAS'!$C$12=$A$108,AU120,"ingen data")))) -> ingen data
A37: =IF('Prisestimat RAS'!$C$12=$A$46,A59,IF('Prisestimat RAS'!$C$12=$A$67,A80,IF('Prisestimat RAS'!$C$12=$A$88,A101,IF('Prisestimat RAS'!$C$12=$A$108,A121,"ingen data")))) -> ingen data | B37: =IF('Prisestimat RAS'!$C$12=$A$46,B59,IF('Prisestimat RAS'!$C$12=$A$67,B80,IF('Prisestimat RAS'!$C$12=$A$88,B101,IF('Prisestimat RAS'!$C$12=$A$108,B121,"ingen data")))) -> ingen data | C37: =IF('Prisestimat RAS'!$C$12=$A$46,C59,IF('Prisestimat RAS'!$C$12=$A$67,C80,IF('Prisestimat RAS'!$C$12=$A$88,C101,IF('Prisestimat RAS'!$C$12=$A$108,C121,"ingen data")))) -> ingen data | D37: =IF('Prisestimat RAS'!$C$12=$A$46,D59,IF('Prisestimat RAS'!$C$12=$A$67,D80,IF('Prisestimat RAS'!$C$12=$A$88,D101,IF('Prisestimat RAS'!$C$12=$A$108,D121,"ingen data")))) -> ingen data | E37: =IF('Prisestimat RAS'!$C$12=$A$46,E59,IF('Prisestimat RAS'!$C$12=$A$67,E80,IF('Prisestimat RAS'!$C$12=$A$88,E101,IF('Prisestimat RAS'!$C$12=$A$108,E121,"ingen data")))) -> ingen data | F37: =IF('Prisestimat RAS'!$C$12=$A$46,F59,IF('Prisestimat RAS'!$C$12=$A$67,F80,IF('Prisestimat RAS'!$C$12=$A$88,F101,IF('Prisestimat RAS'!$C$12=$A$108,F121,"ingen data")))) -> ingen data | G37: =IF('Prisestimat RAS'!$C$12=$A$46,G59,IF('Prisestimat RAS'!$C$12=$A$67,G80,IF('Prisestimat RAS'!$C$12=$A$88,G101,IF('Prisestimat RAS'!$C$12=$A$108,G121,"ingen data")))) -> ingen data | H37: =IF('Prisestimat RAS'!$C$12=$A$46,H59,IF('Prisestimat RAS'!$C$12=$A$67,H80,IF('Prisestimat RAS'!$C$12=$A$88,H101,IF('Prisestimat RAS'!$C$12=$A$108,H121,"ingen data")))) -> ingen data | ... AU37: =IF('Prisestimat RAS'!$C$12=$A$46,AU59,IF('Prisestimat RAS'!$C$12=$A$67,AU80,IF('Prisestimat RAS'!$C$12=$A$88,AU101,IF('Prisestimat RAS'!$C$12=$A$108,AU121,"ingen data")))) -> ingen data
A38: =IF('Prisestimat RAS'!$C$12=$A$46,A60,IF('Prisestimat RAS'!$C$12=$A$67,A81,IF('Prisestimat RAS'!$C$12=$A$88,A102,IF('Prisestimat RAS'!$C$12=$A$108,A122,"ingen data")))) -> ingen data | B38: =IF('Prisestimat RAS'!$C$12=$A$46,B60,IF('Prisestimat RAS'!$C$12=$A$67,B81,IF('Prisestimat RAS'!$C$12=$A$88,B102,IF('Prisestimat RAS'!$C$12=$A$108,B122,"ingen data")))) -> ingen data | C38: =IF('Prisestimat RAS'!$C$12=$A$46,C60,IF('Prisestimat RAS'!$C$12=$A$67,C81,IF('Prisestimat RAS'!$C$12=$A$88,C102,IF('Prisestimat RAS'!$C$12=$A$108,C122,"ingen data")))) -> ingen data | D38: =IF('Prisestimat RAS'!$C$12=$A$46,D60,IF('Prisestimat RAS'!$C$12=$A$67,D81,IF('Prisestimat RAS'!$C$12=$A$88,D102,IF('Prisestimat RAS'!$C$12=$A$108,D122,"ingen data")))) -> ingen data | E38: =IF('Prisestimat RAS'!$C$12=$A$46,E60,IF('Prisestimat RAS'!$C$12=$A$67,E81,IF('Prisestimat RAS'!$C$12=$A$88,E102,IF('Prisestimat RAS'!$C$12=$A$108,E122,"ingen data")))) -> ingen data | F38: =IF('Prisestimat RAS'!$C$12=$A$46,F60,IF('Prisestimat RAS'!$C$12=$A$67,F81,IF('Prisestimat RAS'!$C$12=$A$88,F102,IF('Prisestimat RAS'!$C$12=$A$108,F122,"ingen data")))) -> ingen data | G38: =IF('Prisestimat RAS'!$C$12=$A$46,G60,IF('Prisestimat RAS'!$C$12=$A$67,G81,IF('Prisestimat RAS'!$C$12=$A$88,G102,IF('Prisestimat RAS'!$C$12=$A$108,G122,"ingen data")))) -> ingen data | H38: =IF('Prisestimat RAS'!$C$12=$A$46,H60,IF('Prisestimat RAS'!$C$12=$A$67,H81,IF('Prisestimat RAS'!$C$12=$A$88,H102,IF('Prisestimat RAS'!$C$12=$A$108,H122,"ingen data")))) -> ingen data | ... AU38: =IF('Prisestimat RAS'!$C$12=$A$46,AU60,IF('Prisestimat RAS'!$C$12=$A$67,AU81,IF('Prisestimat RAS'!$C$12=$A$88,AU102,IF('Prisestimat RAS'!$C$12=$A$108,AU122,"ingen data")))) -> ingen data
... A43: =IF('Prisestimat RAS'!$C$12=$A$46,A65,IF('Prisestimat RAS'!$C$12=$A$67,A86,IF('Prisestimat RAS'!$C$12=$A$88,A107,IF('Prisestimat RAS'!$C$12=$A$108,A127,"ingen data")))) -> ingen data | B43: =IF('Prisestimat RAS'!$C$12=$A$46,B65,IF('Prisestimat RAS'!$C$12=$A$67,B86,IF('Prisestimat RAS'!$C$12=$A$88,B107,IF('Prisestimat RAS'!$C$12=$A$108,B127,"ingen data")))) -> ingen data | C43: =IF('Prisestimat RAS'!$C$12=$A$46,C65,IF('Prisestimat RAS'!$C$12=$A$67,C86,IF('Prisestimat RAS'!$C$12=$A$88,C107,IF('Prisestimat RAS'!$C$12=$A$108,C127,"ingen data")))) -> ingen data | D43: =IF('Prisestimat RAS'!$C$12=$A$46,D65,IF('Prisestimat RAS'!$C$12=$A$67,D86,IF('Prisestimat RAS'!$C$12=$A$88,D107,IF('Prisestimat RAS'!$C$12=$A$108,D127,"ingen data")))) -> ingen data | E43: =IF('Prisestimat RAS'!$C$12=$A$46,E65,IF('Prisestimat RAS'!$C$12=$A$67,E86,IF('Prisestimat RAS'!$C$12=$A$88,E107,IF('Prisestimat RAS'!$C$12=$A$108,E127,"ingen data")))) -> ingen data | F43: =IF('Prisestimat RAS'!$C$12=$A$46,F65,IF('Prisestimat RAS'!$C$12=$A$67,F86,IF('Prisestimat RAS'!$C$12=$A$88,F107,IF('Prisestimat RAS'!$C$12=$A$108,F127,"ingen data")))) -> ingen data | G43: =IF('Prisestimat RAS'!$C$12=$A$46,G65,IF('Prisestimat RAS'!$C$12=$A$67,G86,IF('Prisestimat RAS'!$C$12=$A$88,G107,IF('Prisestimat RAS'!$C$12=$A$108,G127,"ingen data")))) -> ingen data | H43: =IF('Prisestimat RAS'!$C$12=$A$46,H65,IF('Prisestimat RAS'!$C$12=$A$67,H86,IF('Prisestimat RAS'!$C$12=$A$88,H107,IF('Prisestimat RAS'!$C$12=$A$108,H127,"ingen data")))) -> ingen data | ... AU43: =IF('Prisestimat RAS'!$C$12=$A$46,AU65,IF('Prisestimat RAS'!$C$12=$A$67,AU86,IF('Prisestimat RAS'!$C$12=$A$88,AU107,IF('Prisestimat RAS'!$C$12=$A$108,AU127,"ingen data")))) -> ingen data
A45: Tilgjengelig tabeller
A46: =Hjelpeark!$K$9 -> Laks Skretting | I46: Grenseverdier | J46: 50 | K46: 5000 | N46: =A49 -> 2 | O46: =A65 -> 18
B47: Fiskevekt (g)
A48: Temperatur | B48: 50 | C48: 60 | D48: 70 | E48: 80 | F48: 90 | G48: 100 | H48: 110 | I48: 120 | J48: 130 | K48: 140 | L48: 150 | M48: 200 | N48: 250 | O48: 300 | P48: 350 | Q48: 400 | R48: 450 | S48: 500 | T48: 550 | U48: 600 | V48: 650 | W48: 700 | X48: 750 | Y48: 800 | Z48: 850 | AA48: 900 | AB48: 950 | AC48: 1000 | AD48: 1250 | AE48: 1500 | AF48: 1750 | AG48: 2000 | AH48: 2250 | AI48: 2500 | AJ48: 2750 | AK48: 3000 | AL48: 3250 | AM48: 3500 | AN48: 3750 | AO48: 4000 | AP48: 4250 | AQ48: 4500 | AR48: 4750 | AS48: 5000 | AT48: 5250 | AU48: 5500
A49: 2 | B49: 0.45729791 | C49: 0.46392036 | D49: 0.46574742 | E49: 0.46469921 | F49: 0.46187074 | G49: 0.45792204 | H49: 0.45326785 | I49: 0.44817722 | J49: 0.44282895 | K49: 0.43734405 | L49: 0.43180545 | M49: 0.40479575 | N49: 0.38035731 | O49: 0.35878208 | P49: 0.33976826 | Q49: 0.32293624 | R49: 0.30794339 | S49: 0.29450362 | T49: 0.28238323 | U49: 0.27139199 | V49: 0.26137444 | W49: 0.2522027 | X49: 0.24377075 | Y49: 0.23599 | Z49: 0.22878586 | AA49: 0.22209503 | AB49: 0.21586348 | AC49: 0.21004473 | AD49: 0.18590296 | AE49: 0.16776735 | AF49: 0.15367963 | AG49: 0.14246747 | AH49: 0.13338108 | AI49: 0.12591607 | AJ49: 0.11971928 | AK49: 0.11453532 | AL49: 0.11017443 | AM49: 0.10649245 | AN49: 0.10337768 | AO49: 0.10074215 | AP49: 0.098515525 | AQ49: 0.096640883 | AR49: 0.095071597 | AS49: 0.093769092 | AT49: 0.092701159 | AU49: 0.091840679
A50: 3 | B50: 0.69185478 | C50: 0.69800622 | D50: 0.69843916 | E50: 0.69548727 | F50: 0.6904723 | G50: 0.68418573 | H50: 0.67712159 | I50: 0.66959806 | J50: 0.66182487 | K50: 0.65394264 | L50: 0.64604663 | M50: 0.60802441 | N50: 0.57391413 | O50: 0.54384663 | P50: 0.5173192 | Q50: 0.49378072 | R50: 0.47275183 | S50: 0.45383868 | T50: 0.43672227 | U50: 0.42114411 | V50: 0.40689352 | W50: 0.39379744 | X50: 0.3817125 | Y50: 0.37051889 | Z50: 0.36011572 | AA50: 0.35041734 | AB50: 0.34135056 | AC50: 0.33285239 | AD50: 0.29720672 | AE50: 0.26990887 | AF50: 0.24827966 | AG50: 0.23070531 | AH50: 0.21614761 | AI50: 0.20390419 | AJ50: 0.19348061 | AK50: 0.18451749 | AL50: 0.17674656 | AM50: 0.16996306 | AN50: 0.16400767 | AO50: 0.15875439 | AP50: 0.15410212 | AQ50: 0.1499687 | AR50: 0.14628662 | AS50: 0.14299985 | AT50: 0.14006145 | AU50: 0.13743179
A51: 4 | B51: 0.91205313 | C51: 0.91747652 | D51: 0.91645879 | E51: 0.91166481 | F51: 0.90459682 | G51: 0.89615027 | H51: 0.88688141 | I51: 0.87714657 | J51: 0.86717922 | K51: 0.85713474 | L51: 0.84711749 | M51: 0.79922205 | N51: 0.75645814 | O51: 0.7187893 | P51: 0.68552754 | Q51: 0.65596784 | R51: 0.6295095 | S51: 0.60566359 | T51: 0.58403602 | U51: 0.56430834 | V51: 0.54622141 | W51: 0.52956253 | X51: 0.51415551 | Y51: 0.49985318 | Z51: 0.48653151 | AA51: 0.47408521 | AB51: 0.46242425 | AC51: 0.45147108 | AD51: 0.405247 | AE51: 0.36947915 | AF51: 0.34084885 | AG51: 0.31734897 | AH51: 0.29768304 | AI51: 0.28097064 | AJ51: 0.26658974 | AK51: 0.25408665 | AL51: 0.2431216 | AM51: 0.23343442 | AN51: 0.2248221 | AO51: 0.21712361 | AP51: 0.2102094 | AQ51: 0.20397393 | AR51: 0.19833024 | AS51: 0.193206 | AT51: 0.18854047 | AU51: 0.18428225
A52: 5 | B52: 1.1131613 | C52: 1.1176009 | D52: 1.1150697 | E52: 1.1084867 | F52: 1.099491 | G52: 1.0890556 | H52: 1.0777822 | I52: 1.0660546 | J52: 1.0541227 | K52: 1.0421517 | L52: 1.0302518 | M52: 0.97365494 | N52: 0.9233119 | O52: 0.8790026 | P52: 0.83986347 | Q52: 0.80504956 | R52: 0.773852 | S52: 0.74569798 | T52: 0.72012768 | U52: 0.6967704 | V52: 0.6753249 | W52: 0.65554411 | X52: 0.63722349 | Y52: 0.62019217 | Z52: 0.60430619 | AA52: 0.58944331 | AB52: 0.57549895 | AC52: 0.56238306 | AD52: 0.50681796 | AE52: 0.46354342 | AF52: 0.42868893 | AG52: 0.39990727 | AH52: 0.37567825 | AI52: 0.35496681 | AJ52: 0.33703988 | AK52: 0.32136146 | AL52: 0.30752926 | AM52: 0.29523452 | AN52: 0.28423585 | AO52: 0.27434137 | AP52: 0.26539641 | AQ52: 0.25727475 | AR52: 0.2498722 | AS52: 0.24310193 | AT52: 0.23689091 | AU52: 0.23117725
A53: 6 | B53: 1.2958661 | C53: 1.2989579 | D53: 1.2947413 | E53: 1.286317 | F53: 1.2754189 | G53: 1.2630717 | H53: 1.2499062 | I53: 1.2363223 | J53: 1.2225788 | K53: 1.2088455 | L53: 1.1952343 | M53: 1.1308298 | N53: 1.0737747 | O53: 1.0236266 | P53: 0.97934213 | Q53: 0.93994129 | R53: 0.90461404 | S53: 0.87271071 | T53: 0.84371193 | U53: 0.81720014 | V53: 0.79283663 | W53: 0.7703439 | X53: 0.74949239 | Y53: 0.73009046 | Z53: 0.71197666 | AA53: 0.69501394 | AB53: 0.67908508 | AC53: 0.66408909 | AD53: 0.60039689 | AE53: 0.55058072 | AF53: 0.51029343 | AG53: 0.47689453 | AH53: 0.44867103 | AI53: 0.42445464 | AJ53: 0.40341653 | AK53: 0.38494974 | AL53: 0.36859796 | AM53: 0.3540105 | AN53: 0.34091272 | AO53: 0.32908606 | AP53: 0.31835407 | AQ53: 0.30857257 | AR53: 0.2996224 | AS53: 0.29140411 | AT53: 0.283834 | AU53: 0.27684101
A54: 7 | B54: 1.4631917 | C54: 1.4644329 | D54: 1.4582207 | E54: 1.4477695 | F54: 1.4348675 | G54: 1.4205657 | H54: 1.4055071 | I54: 1.3900965 | J54: 1.3745936 | K54: 1.3591669 | L54: 1.343926 | M54: 1.2722218 | N54: 1.2090175 | O54: 1.1535854 | P54: 1.1046824 | Q54: 1.0611882 | R54: 1.0221918 | S54: 0.9869684 | T54: 0.95494169 | U54: 0.92564986 | V54: 0.89871916 | W54: 0.87384393 | X54: 0.85077163 | Y54: 0.82929157 | Z54: 0.80922645 | AA54: 0.79042579 | AB54: 0.77276095 | AC54: 0.75612116 | AD54: 0.68533044 | AE54: 0.62980605 | AF54: 0.5847796 | AG54: 0.54735292 | AH54: 0.51564427 | AI54: 0.48836902 | AJ54: 0.46461492 | AK54: 0.44371323 | AL54: 0.42516069 | AM54: 0.40857013 | AN54: 0.39363808 | AO54: 0.38012277 | AP54: 0.36782886 | AQ54: 0.35659654 | AR54: 0.34629367 | AS54: 0.33680985 | AT54: 0.32805207 | AU54: 0.31994132
A55: 8 | B55: 1.6184206 | C55: 1.617187 | D55: 1.6085474 | E55: 1.5957655 | F55: 1.5806448 | G55: 1.5642377 | H55: 1.5471827 | I55: 1.5298778 | J55: 1.5125753 | K55: 1.4954365 | L55: 1.4785638 | M55: 1.3997054 | N55: 1.3306226 | O55: 1.270219 | P55: 1.2170193 | Q55: 1.1697492 | R55: 1.1273903 | S55: 1.0891404 | T55: 1.0543655 | U55: 1.0225596 | V55: 0.99331456 | W55: 0.96629721 | X55: 0.94123277 | Y55: 0.91789236 | Z55: 0.89608353 | AA55: 0.87564311 | AB55: 0.85643167 | AC55: 0.83832926 | AD55: 0.76124126 | AE55: 0.70067191 | AF55: 0.65146739 | AG55: 0.61049601 | AH55: 0.57572408 | AI55: 0.54576276 | AJ55: 0.51962537 | AK55: 0.49658824 | AL55: 0.47610647 | AM55: 0.45776061 | AN55: 0.4412217 | AO55: 0.4262275 | AP55: 0.41256602 | AQ55: 0.40006374 | AR55: 0.38857704 | AS55: 0.37798593 | AT55: 0.36818922 | AU55: 0.35910093
A56: 9 | B56: 1.7636798 | C56: 1.7592755 | D56: 1.747702 | E56: 1.7322109 | F56: 1.7145837 | G56: 1.6958498 | H56: 1.6766269 | I56: 1.6572948 | J56: 1.63809 | K56: 1.6191602 | L56: 1.6005965 | M56: 1.5144753 | N56: 1.4395749 | O56: 1.3743356 | P56: 1.3170096 | Q56: 1.2661488 | R56: 1.2206176 | S56: 1.1795312 | T56: 1.1421947 | U56: 1.1080567 | V56: 1.0766736 | W56: 1.0476845 | X56: 1.0207922 | Y56: 0.99574972 | Z56: 0.97234967 | AA56: 0.95041638 | AB56: 0.9297999 | AC56: 0.91037132 | AD56: 0.82760034 | AE56: 0.76250669 | AF56: 0.70957237 | AG56: 0.66544752 | AH56: 0.62795777 | AI56: 0.5956185 | AJ56: 0.56737497 | AK56: 0.54245354 | AL56: 0.52027156 | AM56: 0.50038044 | AN56: 0.48242826 | AO56: 0.46613442 | AP56: 0.45127197 | AQ56: 0.43765514 | AR56: 0.4251301 | AS56: 0.41356827 | AT56: 0.40286121 | AU56: 0.39291672
A57: 10 | B57: 1.8989505 | C57: 1.8906834 | D57: 1.8756648 | E57: 1.857076 | F57: 1.8366411 | G57: 1.8153436 | H57: 1.7937649 | I57: 1.7722552 | J57: 1.7510276 | K57: 1.7302103 | L57: 1.7098782 | M57: 1.6162994 | N57: 1.5355639 | O57: 1.4655551 | P57: 1.4042107 | Q57: 1.3498886 | R57: 1.3013252 | S57: 1.2575465 | T57: 1.2177938 | U57: 1.1814676 | V57: 1.1480879 | W57: 1.117265 | X57: 1.0886794 | Y57: 1.0620655 | Z57: 1.0372009 | AA57: 1.0138975 | AB57: 0.99199493 | AC57: 0.9713554 | AD57: 0.88342626 | AE57: 0.81426008 | AF57: 0.75798939 | AG57: 0.71105761 | AH57: 0.67115837 | AI57: 0.63671788 | AJ57: 0.60661849 | AK57: 0.5800406 | AL57: 0.55636705 | AM57: 0.5351227 | AN57: 0.51593481 | AO57: 0.49850615 | AP57: 0.48259633 | AQ57: 0.46800854 | AR57: 0.4545798 | AS57: 0.44217386 | AT57: 0.4306758 | AU57: 0.41998788
A58: 11 | B58: 2.0213492 | C58: 2.0086318 | D58: 1.9897436 | E58: 1.9677423 | F58: 1.944262 | G58: 1.9202197 | H58: 1.896146 | I58: 1.8723522 | J58: 1.8490205 | K58: 1.8262544 | L58: 1.804109 | M58: 1.7030045 | N58: 1.6165062 | O58: 1.5418611 | P58: 1.4766595 | Q58: 1.419049 | R58: 1.3676296 | S58: 1.3213341 | T58: 1.2793372 | U58: 1.2409903 | V58: 1.2057763 | W58: 1.1732767 | X58: 1.1431492 | Y58: 1.11511 | Z58: 1.0889219 | AA58: 1.0643843 | AB58: 1.0413268 | AC58: 1.019603 | AD58: 0.92708814 | AE58: 0.85433804 | AF58: 0.79515446 | AG58: 0.74578762 | AH58: 0.70380913 | AI58: 0.66756346 | AJ58: 0.63587574 | AK58: 0.60788485 | AL58: 0.58294259 | AM58: 0.56055011 | AN58: 0.54031612 | AO58: 0.52192867 | AP58: 0.50513551 | AQ58: 0.48973009 | AR58: 0.47554145 | AS58: 0.4624266 | AT58: 0.45026498 | AU58: 0.43895406
A59: 12 | B59: 2.1246227 | C59: 2.1070973 | D59: 2.0841144 | E59: 2.0585611 | F59: 2.0319538 | G59: 2.0051254 | H59: 1.9785446 | I59: 1.9524759 | J59: 1.9270652 | K59: 1.9023876 | L59: 1.8784752 | M59: 1.7701531 | N59: 1.6782494 | O59: 1.599329 | P59: 1.5306189 | Q59: 1.4700518 | R59: 1.4160898 | S59: 1.3675731 | T59: 1.3236107 | U59: 1.2835064 | V59: 1.2467069 | W59: 1.2127664 | X59: 1.1813207 | Y59: 1.152069 | Z59: 1.1247598 | AA59: 1.0991814 | AB59: 1.0751537 | AC59: 1.0525223 | AD59: 0.95620494 | AE59: 0.88052305 | AF59: 0.81898218 | AG59: 0.76766219 | AH59: 0.72402835 | AI59: 0.68635468 | AJ59: 0.65341742 | AK59: 0.62432026 | AL59: 0.59838892 | AM59: 0.5751047 | AN59: 0.55406094 | AO59: 0.53493351 | AP59: 0.5174604 | AQ59: 0.50142713 | AR59: 0.48665619 | AS59: 0.47299917 | AT59: 0.46033093 | AU59: 0.44854506
A60: 13 | B60: 2.1988906 | C60: 2.1765769 | D60: 2.1496034 | E60: 2.1206497 | F60: 2.091094 | G60: 2.0616736 | H60: 2.0327879 | I60: 2.00465 | J60: 1.9773668 | K60: 1.9509828 | L60: 1.9255062 | M60: 1.8109254 | N60: 1.7144722 | O60: 1.6320386 | P60: 1.5605026 | Q60: 1.4975945 | R60: 1.4416498 | S60: 1.3914241 | T60: 1.3459679 | U60: 1.3045426 | V60: 1.2665636 | W60: 1.2315612 | X60: 1.1991526 | Y60: 1.1690224 | Z60: 1.1409073 | AA60: 1.1145861 | AB60: 1.0898706 | AC60: 1.0666001 | AD60: 0.96764951 | AE60: 0.8899874 | AF60: 0.82688666 | AG60: 0.77429634 | AH60: 0.72960167 | AI60: 0.69102454 | AJ60: 0.6573056 | AK60: 0.62752324 | AL60: 0.60098467 | AM60: 0.5771573 | AN60: 0.55562376 | AO60: 0.53605158 | AP60: 0.5181721 | AQ60: 0.5017655 | AR60: 0.48664988 | AS60: 0.47267323 | AT60: 0.45970738 | AU60: 0.44764341
... A65: 18 | B65: 1.6123879 | C65: 1.5884052 | D65: 1.5622117 | E65: 1.5354919 | F65: 1.5090598 | G65: 1.4833131 | H65: 1.4584388 | I65: 1.434512 | J65: 1.4115482 | K65: 1.38953 | L65: 1.3684235 | M65: 1.275007 | N65: 1.1978785 | O65: 1.1328355 | P65: 1.0769636 | Q65: 1.0282344 | R65: 0.98519964 | S65: 0.94679646 | T65: 0.91222497 | U65: 0.88086977 | V65: 0.85224819 | W65: 0.82597527 | X65: 0.80173942 | Y65: 0.7792852 | Z65: 0.75840075 | AA65: 0.73890857 | AB65: 0.72065858 | AC65: 0.70352284 | AD65: 0.63118224 | AE65: 0.57502264 | AF65: 0.5298177 | AG65: 0.49245252 | AH65: 0.46093351 | AI65: 0.43391475 | AJ65: 0.41044901 | AK65: 0.38984705 | AL65: 0.3715934 | AM65: 0.35529364 | AN65: 0.34064004 | AO65: 0.32738846 | AP65: 0.31534237 | AQ65: 0.30434153 | AR65: 0.29425379 | AS65: 0.2849691 | AT65: 0.27639494 | AU65: 0.26845289
A67: Laks HiT | I67: Grenseverdier | J67: 50 | K67: 5000 | N67: =A70 -> 2 | O67: =A86 -> 18
B68: Fiskevekt (g)
A69: Temperatur | B69: 50 | C69: 60 | D69: 70 | E69: 80 | F69: 90 | G69: 100 | H69: 110 | I69: 120 | J69: 130 | K69: 140 | L69: 150 | M69: 200 | N69: 250 | O69: 300 | P69: 350 | Q69: 400 | R69: 450 | S69: 500 | T69: 550 | U69: 600 | V69: 650 | W69: 700 | X69: 750 | Y69: 800 | Z69: 850 | AA69: 900 | AB69: 950 | AC69: 1000 | AD69: 1250 | AE69: 1500 | AF69: 1750 | AG69: 2000 | AH69: 2250 | AI69: 2500 | AJ69: 2750 | AK69: 3000 | AL69: 3250 | AM69: 3500 | AN69: 3750 | AO69: 4000 | AP69: 4250 | AQ69: 4500 | AR69: 4750 | AS69: 5000 | AT69: 5250 | AU69: 5500
A70: 2 | B70: 0.45729791 | C70: 0.46392036 | D70: 0.46574742 | E70: 0.46469921 | F70: 0.46187074 | G70: 0.45792204 | H70: 0.45326785 | I70: 0.44817722 | J70: 0.44282895 | K70: 0.43734405 | L70: 0.43180545 | M70: 0.40479575 | N70: 0.38035731 | O70: 0.35878208 | P70: 0.33976826 | Q70: 0.32293624 | R70: 0.30794339 | S70: 0.29450362 | T70: 0.28238323 | U70: 0.27139199 | V70: 0.26137444 | W70: 0.2522027 | X70: 0.24377075 | Y70: 0.23599 | Z70: 0.22878586 | AA70: 0.22209503 | AB70: 0.21586348 | AC70: 0.21004473 | AD70: 0.18590296 | AE70: 0.16776735 | AF70: 0.15367963 | AG70: 0.14246747 | AH70: 0.13338108 | AI70: 0.12591607 | AJ70: 0.11971928 | AK70: 0.11453532 | AL70: 0.11017443 | AM70: 0.10649245 | AN70: 0.10337768 | AO70: 0.10074215 | AP70: 0.098515525 | AQ70: 0.096640883 | AR70: 0.095071597 | AS70: 0.093769092 | AT70: 0.092701159 | AU70: 0.091840679
A71: 3 | B71: 0.69185478 | C71: 0.69800622 | D71: 0.69843916 | E71: 0.69548727 | F71: 0.6904723 | G71: 0.68418573 | H71: 0.67712159 | I71: 0.66959806 | J71: 0.66182487 | K71: 0.65394264 | L71: 0.64604663 | M71: 0.60802441 | N71: 0.57391413 | O71: 0.54384663 | P71: 0.5173192 | Q71: 0.49378072 | R71: 0.47275183 | S71: 0.45383868 | T71: 0.43672227 | U71: 0.42114411 | V71: 0.40689352 | W71: 0.39379744 | X71: 0.3817125 | Y71: 0.37051889 | Z71: 0.36011572 | AA71: 0.35041734 | AB71: 0.34135056 | AC71: 0.33285239 | AD71: 0.29720672 | AE71: 0.26990887 | AF71: 0.24827966 | AG71: 0.23070531 | AH71: 0.21614761 | AI71: 0.20390419 | AJ71: 0.19348061 | AK71: 0.18451749 | AL71: 0.17674656 | AM71: 0.16996306 | AN71: 0.16400767 | AO71: 0.15875439 | AP71: 0.15410212 | AQ71: 0.1499687 | AR71: 0.14628662 | AS71: 0.14299985 | AT71: 0.14006145 | AU71: 0.13743179
A72: 4 | B72: 0.91205313 | C72: 0.91747652 | D72: 0.91645879 | E72: 0.91166481 | F72: 0.90459682 | G72: 0.89615027 | H72: 0.88688141 | I72: 0.87714657 | J72: 0.86717922 | K72: 0.85713474 | L72: 0.84711749 | M72: 0.79922205 | N72: 0.75645814 | O72: 0.7187893 | P72: 0.68552754 | Q72: 0.65596784 | R72: 0.6295095 | S72: 0.60566359 | T72: 0.58403602 | U72: 0.56430834 | V72: 0.54622141 | W72: 0.52956253 | X72: 0.51415551 | Y72: 0.49985318 | Z72: 0.48653151 | AA72: 0.47408521 | AB72: 0.46242425 | AC72: 0.45147108 | AD72: 0.405247 | AE72: 0.36947915 | AF72: 0.34084885 | AG72: 0.31734897 | AH72: 0.29768304 | AI72: 0.28097064 | AJ72: 0.26658974 | AK72: 0.25408665 | AL72: 0.2431216 | AM72: 0.23343442 | AN72: 0.2248221 | AO72: 0.21712361 | AP72: 0.2102094 | AQ72: 0.20397393 | AR72: 0.19833024 | AS72: 0.193206 | AT72: 0.18854047 | AU72: 0.18428225
A73: 5 | B73: 1.1131613 | C73: 1.1176009 | D73: 1.1150697 | E73: 1.1084867 | F73: 1.099491 | G73: 1.0890556 | H73: 1.0777822 | I73: 1.0660546 | J73: 1.0541227 | K73: 1.0421517 | L73: 1.0302518 | M73: 0.97365494 | N73: 0.9233119 | O73: 0.8790026 | P73: 0.83986347 | Q73: 0.80504956 | R73: 0.773852 | S73: 0.74569798 | T73: 0.72012768 | U73: 0.6967704 | V73: 0.6753249 | W73: 0.65554411 | X73: 0.63722349 | Y73: 0.62019217 | Z73: 0.60430619 | AA73: 0.58944331 | AB73: 0.57549895 | AC73: 0.56238306 | AD73: 0.50681796 | AE73: 0.46354342 | AF73: 0.42868893 | AG73: 0.39990727 | AH73: 0.37567825 | AI73: 0.35496681 | AJ73: 0.33703988 | AK73: 0.32136146 | AL73: 0.30752926 | AM73: 0.29523452 | AN73: 0.28423585 | AO73: 0.27434137 | AP73: 0.26539641 | AQ73: 0.25727475 | AR73: 0.2498722 | AS73: 0.24310193 | AT73: 0.23689091 | AU73: 0.23117725
A74: 6 | B74: 1.2958661 | C74: 1.2989579 | D74: 1.2947413 | E74: 1.286317 | F74: 1.2754189 | G74: 1.2630717 | H74: 1.2499062 | I74: 1.2363223 | J74: 1.2225788 | K74: 1.2088455 | L74: 1.1952343 | M74: 1.1308298 | N74: 1.0737747 | O74: 1.0236266 | P74: 0.97934213 | Q74: 0.93994129 | R74: 0.90461404 | S74: 0.87271071 | T74: 0.84371193 | U74: 0.81720014 | V74: 0.79283663 | W74: 0.7703439 | X74: 0.74949239 | Y74: 0.73009046 | Z74: 0.71197666 | AA74: 0.69501394 | AB74: 0.67908508 | AC74: 0.66408909 | AD74: 0.60039689 | AE74: 0.55058072 | AF74: 0.51029343 | AG74: 0.47689453 | AH74: 0.44867103 | AI74: 0.42445464 | AJ74: 0.40341653 | AK74: 0.38494974 | AL74: 0.36859796 | AM74: 0.3540105 | AN74: 0.34091272 | AO74: 0.32908606 | AP74: 0.31835407 | AQ74: 0.30857257 | AR74: 0.2996224 | AS74: 0.29140411 | AT74: 0.283834 | AU74: 0.27684101
A75: 7 | B75: 1.4631917 | C75: 1.4644329 | D75: 1.4582207 | E75: 1.4477695 | F75: 1.4348675 | G75: 1.4205657 | H75: 1.4055071 | I75: 1.3900965 | J75: 1.3745936 | K75: 1.3591669 | L75: 1.343926 | M75: 1.2722218 | N75: 1.2090175 | O75: 1.1535854 | P75: 1.1046824 | Q75: 1.0611882 | R75: 1.0221918 | S75: 0.9869684 | T75: 0.95494169 | U75: 0.92564986 | V75: 0.89871916 | W75: 0.87384393 | X75: 0.85077163 | Y75: 0.82929157 | Z75: 0.80922645 | AA75: 0.79042579 | AB75: 0.77276095 | AC75: 0.75612116 | AD75: 0.68533044 | AE75: 0.62980605 | AF75: 0.5847796 | AG75: 0.54735292 | AH75: 0.51564427 | AI75: 0.48836902 | AJ75: 0.46461492 | AK75: 0.44371323 | AL75: 0.42516069 | AM75: 0.40857013 | AN75: 0.39363808 | AO75: 0.38012277 | AP75: 0.36782886 | AQ75: 0.35659654 | AR75: 0.34629367 | AS75: 0.33680985 | AT75: 0.32805207 | AU75: 0.31994132
A76: 8 | B76: 1.6184206 | C76: 1.617187 | D76: 1.6085474 | E76: 1.5957655 | F76: 1.5806448 | G76: 1.5642377 | H76: 1.5471827 | I76: 1.5298778 | J76: 1.5125753 | K76: 1.4954365 | L76: 1.4785638 | M76: 1.3997054 | N76: 1.3306226 | O76: 1.270219 | P76: 1.2170193 | Q76: 1.1697492 | R76: 1.1273903 | S76: 1.0891404 | T76: 1.0543655 | U76: 1.0225596 | V76: 0.99331456 | W76: 0.96629721 | X76: 0.94123277 | Y76: 0.91789236 | Z76: 0.89608353 | AA76: 0.87564311 | AB76: 0.85643167 | AC76: 0.83832926 | AD76: 0.76124126 | AE76: 0.70067191 | AF76: 0.65146739 | AG76: 0.61049601 | AH76: 0.57572408 | AI76: 0.54576276 | AJ76: 0.51962537 | AK76: 0.49658824 | AL76: 0.47610647 | AM76: 0.45776061 | AN76: 0.4412217 | AO76: 0.4262275 | AP76: 0.41256602 | AQ76: 0.40006374 | AR76: 0.38857704 | AS76: 0.37798593 | AT76: 0.36818922 | AU76: 0.35910093
A77: 9 | B77: 1.7636798 | C77: 1.7592755 | D77: 1.747702 | E77: 1.7322109 | F77: 1.7145837 | G77: 1.6958498 | H77: 1.6766269 | I77: 1.6572948 | J77: 1.63809 | K77: 1.6191602 | L77: 1.6005965 | M77: 1.5144753 | N77: 1.4395749 | O77: 1.3743356 | P77: 1.3170096 | Q77: 1.2661488 | R77: 1.2206176 | S77: 1.1795312 | T77: 1.1421947 | U77: 1.1080567 | V77: 1.0766736 | W77: 1.0476845 | X77: 1.0207922 | Y77: 0.99574972 | Z77: 0.97234967 | AA77: 0.95041638 | AB77: 0.9297999 | AC77: 0.91037132 | AD77: 0.82760034 | AE77: 0.76250669 | AF77: 0.70957237 | AG77: 0.66544752 | AH77: 0.62795777 | AI77: 0.5956185 | AJ77: 0.56737497 | AK77: 0.54245354 | AL77: 0.52027156 | AM77: 0.50038044 | AN77: 0.48242826 | AO77: 0.46613442 | AP77: 0.45127197 | AQ77: 0.43765514 | AR77: 0.4251301 | AS77: 0.41356827 | AT77: 0.40286121 | AU77: 0.39291672
A78: 10 | B78: 1.8989505 | C78: 1.8906834 | D78: 1.8756648 | E78: 1.857076 | F78: 1.8366411 | G78: 1.8153436 | H78: 1.7937649 | I78: 1.7722552 | J78: 1.7510276 | K78: 1.7302103 | L78: 1.7098782 | M78: 1.6162994 | N78: 1.5355639 | O78: 1.4655551 | P78: 1.4042107 | Q78: 1.3498886 | R78: 1.3013252 | S78: 1.2575465 | T78: 1.2177938 | U78: 1.1814676 | V78: 1.1480879 | W78: 1.117265 | X78: 1.0886794 | Y78: 1.0620655 | Z78: 1.0372009 | AA78: 1.0138975 | AB78: 0.99199493 | AC78: 0.9713554 | AD78: 0.88342626 | AE78: 0.81426008 | AF78: 0.75798939 | AG78: 0.71105761 | AH78: 0.67115837 | AI78: 0.63671788 | AJ78: 0.60661849 | AK78: 0.5800406 | AL78: 0.55636705 | AM78: 0.5351227 | AN78: 0.51593481 | AO78: 0.49850615 | AP78: 0.48259633 | AQ78: 0.46800854 | AR78: 0.4545798 | AS78: 0.44217386 | AT78: 0.4306758 | AU78: 0.41998788
A79: 11 | B79: 2.0213492 | C79: 2.0086318 | D79: 1.9897436 | E79: 1.9677423 | F79: 1.944262 | G79: 1.9202197 | H79: 1.896146 | I79: 1.8723522 | J79: 1.8490205 | K79: 1.8262544 | L79: 1.804109 | M79: 1.7030045 | N79: 1.6165062 | O79: 1.5418611 | P79: 1.4766595 | Q79: 1.419049 | R79: 1.3676296 | S79: 1.3213341 | T79: 1.2793372 | U79: 1.2409903 | V79: 1.2057763 | W79: 1.1732767 | X79: 1.1431492 | Y79: 1.11511 | Z79: 1.0889219 | AA79: 1.0643843 | AB79: 1.0413268 | AC79: 1.019603 | AD79: 0.92708814 | AE79: 0.85433804 | AF79: 0.79515446 | AG79: 0.74578762 | AH79: 0.70380913 | AI79: 0.66756346 | AJ79: 0.63587574 | AK79: 0.60788485 | AL79: 0.58294259 | AM79: 0.56055011 | AN79: 0.54031612 | AO79: 0.52192867 | AP79: 0.50513551 | AQ79: 0.48973009 | AR79: 0.47554145 | AS79: 0.4624266 | AT79: 0.45026498 | AU79: 0.43895406
A80: 12 | B80: 2.1246227 | C80: 2.1070973 | D80: 2.0841144 | E80: 2.0585611 | F80: 2.0319538 | G80: 2.0051254 | H80: 1.9785446 | I80: 1.9524759 | J80: 1.9270652 | K80: 1.9023876 | L80: 1.8784752 | M80: 1.7701531 | N80: 1.6782494 | O80: 1.599329 | P80: 1.5306189 | Q80: 1.4700518 | R80: 1.4160898 | S80: 1.3675731 | T80: 1.3236107 | U80: 1.2835064 | V80: 1.2467069 | W80: 1.2127664 | X80: 1.1813207 | Y80: 1.152069 | Z80: 1.1247598 | AA80: 1.0991814 | AB80: 1.0751537 | AC80: 1.0525223 | AD80: 0.95620494 | AE80: 0.88052305 | AF80: 0.81898218 | AG80: 0.76766219 | AH80: 0.72402835 | AI80: 0.68635468 | AJ80: 0.65341742 | AK80: 0.62432026 | AL80: 0.59838892 | AM80: 0.5751047 | AN80: 0.55406094 | AO80: 0.53493351 | AP80: 0.5174604 | AQ80: 0.50142713 | AR80: 0.48665619 | AS80: 0.47299917 | AT80: 0.46033093 | AU80: 0.44854506
A81: 13 | B81: 2.1988906 | C81: 2.1765769 | D81: 2.1496034 | E81: 2.1206497 | F81: 2.091094 | G81: 2.0616736 | H81: 2.0327879 | I81: 2.00465 | J81: 1.9773668 | K81: 1.9509828 | L81: 1.9255062 | M81: 1.8109254 | N81: 1.7144722 | O81: 1.6320386 | P81: 1.5605026 | Q81: 1.4975945 | R81: 1.4416498 | S81: 1.3914241 | T81: 1.3459679 | U81: 1.3045426 | V81: 1.2665636 | W81: 1.2315612 | X81: 1.1991526 | Y81: 1.1690224 | Z81: 1.1409073 | AA81: 1.1145861 | AB81: 1.0898706 | AC81: 1.0666001 | AD81: 0.96764951 | AE81: 0.8899874 | AF81: 0.82688666 | AG81: 0.77429634 | AH81: 0.72960167 | AI81: 0.69102454 | AJ81: 0.6573056 | AK81: 0.62752324 | AL81: 0.60098467 | AM81: 0.5771573 | AN81: 0.55562376 | AO81: 0.53605158 | AP81: 0.5181721 | AQ81: 0.5017655 | AR81: 0.48664988 | AS81: 0.47267323 | AT81: 0.45970738 | AU81: 0.44764341
... A86: 18 | B86: 1.6123879 | C86: 1.5884052 | D86: 1.5622117 | E86: 1.5354919 | F86: 1.5090598 | G86: 1.4833131 | H86: 1.4584388 | I86: 1.434512 | J86: 1.4115482 | K86: 1.38953 | L86: 1.3684235 | M86: 1.275007 | N86: 1.1978785 | O86: 1.1328355 | P86: 1.0769636 | Q86: 1.0282344 | R86: 0.98519964 | S86: 0.94679646 | T86: 0.91222497 | U86: 0.88086977 | V86: 0.85224819 | W86: 0.82597527 | X86: 0.80173942 | Y86: 0.7792852 | Z86: 0.75840075 | AA86: 0.73890857 | AB86: 0.72065858 | AC86: 0.70352284 | AD86: 0.63118224 | AE86: 0.57502264 | AF86: 0.5298177 | AG86: 0.49245252 | AH86: 0.46093351 | AI86: 0.43391475 | AJ86: 0.41044901 | AK86: 0.38984705 | AL86: 0.3715934 | AM86: 0.35529364 | AN86: 0.34064004 | AO86: 0.32738846 | AP86: 0.31534237 | AQ86: 0.30434153 | AR86: 0.29425379 | AS86: 0.2849691 | AT86: 0.27639494 | AU86: 0.26845289
A88: Rognkjeks | I88: Grenseverdier | J88: 0.005 | K88: 150 | N88: =A91 -> 3 | O88: =A105 -> 17
B89: Fiskevekt (g)
A90: Temperatur | B90: 0.005 | C90: 0.01 | D90: 0.02 | E90: 0.05 | F90: 0.1 | G90: 0.25 | H90: 0.5 | I90: 1 | J90: 1.5 | K90: 3 | L90: 6 | M90: 7 | N90: 10 | O90: 12.5 | P90: 15 | Q90: 17 | R90: 20 | S90: 25 | T90: 30 | U90: 35 | V90: 40 | W90: 50 | X90: 75 | Y90: 100 | Z90: 150
A91: 3 | B91: 5.9 | C91: 5.6 | D91: 5.2 | E91: 4.6 | F91: 4.1 | G91: 3.4 | H91: 2.9 | I91: 2.4 | J91: 2.2 | K91: 1.8 | L91: 1.4 | M91: 1.3 | N91: 1.2 | O91: 1.1 | P91: 1 | Q91: 1 | R91: 1 | S91: 0.9 | T91: 0.9 | U91: 0.8 | V91: 0.8 | W91: 0.8 | X91: 0.8 | Y91: 0.8 | Z91: 0.8
A92: 4 | B92: 6.4 | C92: 6 | D92: 5.6 | E92: 5 | F92: 4.5 | G92: 3.8 | H92: 3.3 | I92: 2.8 | J92: 2.5 | K92: 2.1 | L92: 1.7 | M92: 1.6 | N92: 1.4 | O92: 1.3 | P92: 1.2 | Q92: 1.2 | R92: 1.1 | S92: 1.1 | T92: 1 | U92: 1 | V92: 0.9 | W92: 0.9 | X92: 0.8 | Y92: 0.8 | Z92: 0.8
A93: 5 | B93: 6.9 | C93: 6.5 | D93: 6.1 | E93: 5.5 | F93: 5 | G93: 4.2 | H93: 3.7 | I93: 3.2 | J93: 2.9 | K93: 2.4 | L93: 1.9 | M93: 1.9 | N93: 1.7 | O93: 1.5 | P93: 1.5 | Q93: 1.4 | R93: 1.3 | S93: 1.2 | T93: 1.2 | U93: 1.1 | V93: 1.1 | W93: 1 | X93: 0.9 | Y93: 0.9 | Z93: 0.9
A94: 6 | B94: 7.4 | C94: 7 | D94: 6.6 | E94: 6 | F94: 5.4 | G94: 4.7 | H94: 4.1 | I94: 3.6 | J94: 3.2 | K94: 2.7 | L94: 2.2 | M94: 2.1 | N94: 1.9 | O94: 1.8 | P94: 1.7 | Q94: 1.6 | R94: 1.5 | S94: 1.4 | T94: 1.3 | U94: 1.3 | V94: 1.2 | W94: 1.1 | X94: 1 | Y94: 1 | Z94: 0.9
A95: 7 | B95: 7.9 | C95: 7.6 | D95: 7.1 | E95: 6.5 | F95: 5.9 | G95: 5.2 | H95: 4.6 | I95: 4 | J95: 3.6 | K95: 3.1 | L95: 2.5 | M95: 2.4 | N95: 2.2 | O95: 2 | P95: 1.9 | Q95: 1.8 | R95: 1.8 | S95: 1.6 | T95: 1.5 | U95: 1.4 | V95: 1.4 | W95: 1.3 | X95: 1.1 | Y95: 1 | Z95: 0.9
A96: 8 | B96: 8.5 | C96: 8.1 | D96: 7.7 | E96: 7 | F96: 6.4 | G96: 5.6 | H96: 5 | I96: 4.4 | J96: 4 | K96: 3.4 | L96: 2.9 | M96: 2.7 | N96: 2.5 | O96: 2.3 | P96: 2.2 | Q96: 2.1 | R96: 2 | S96: 1.8 | T96: 1.7 | U96: 1.6 | V96: 1.6 | W96: 1.4 | X96: 1.2 | Y96: 1.1 | Z96: 1
A97: 9 | B97: 9 | C97: 8.7 | D97: 8.2 | E97: 7.5 | F97: 6.9 | G97: 6.1 | H97: 5.5 | I97: 4.8 | J97: 4.4 | K97: 3.8 | L97: 3.2 | M97: 3 | N97: 2.7 | O97: 2.6 | P97: 2.4 | Q97: 2.3 | R97: 2.2 | S97: 2 | T97: 1.9 | U97: 1.8 | V97: 1.7 | W97: 1.6 | X97: 1.3 | Y97: 1.2 | Z97: 1
A98: 10 | B98: 9.6 | C98: 9.2 | D98: 8.8 | E98: 8.1 | F98: 7.5 | G98: 6.6 | H98: 5.9 | I98: 5.2 | J98: 4.8 | K98: 4.2 | L98: 3.5 | M98: 3.3 | N98: 3 | O98: 2.8 | P98: 2.7 | Q98: 2.6 | R98: 2.4 | S98: 2.2 | T98: 2.1 | U98: 2 | V98: 1.9 | W98: 1.7 | X98: 1.5 | Y98: 1.3 | Z98: 1.1
A99: 11 | B99: 10.1 | C99: 9.8 | D99: 9.3 | E99: 8.6 | F99: 8 | G99: 7.1 | H99: 6.4 | I99: 5.7 | J99: 5.2 | K99: 4.5 | L99: 3.8 | M99: 3.6 | N99: 3.3 | O99: 3.1 | P99: 2.9 | Q99: 2.8 | R99: 2.6 | S99: 2.4 | T99: 2.3 | U99: 2.1 | V99: 2 | W99: 1.9 | X99: 1.5 | Y99: 1.3 | Z99: 1.1
A100: 12 | B100: 10.7 | C100: 10.3 | D100: 9.9 | E100: 9.1 | F100: 8.5 | G100: 7.6 | H100: 6.8 | I100: 6.1 | J100: 5.6 | K100: 4.8 | L100: 4.1 | M100: 3.9 | N100: 3.5 | O100: 3.3 | P100: 3.1 | Q100: 3 | R100: 2.8 | S100: 2.6 | T100: 2.4 | U100: 2.3 | V100: 2.2 | W100: 2 | X100: 1.6 | Y100: 1.4 | Z100: 1.1
A101: 13 | B101: 11.3 | C101: 10.9 | D101: 10.4 | E101: 9.6 | F101: 9 | G101: 8 | H101: 7.3 | I101: 6.5 | J101: 6 | K101: 5.2 | L101: 4.4 | M101: 4.2 | N101: 3.8 | O101: 3.5 | P101: 3.3 | Q101: 3.2 | R101: 3 | S101: 2.8 | T101: 2.6 | U101: 2.4 | V101: 2.3 | W101: 2.1 | X101: 1.7 | Y101: 1.4 | Z101: 1.1
A102: 14 | B102: 11.8 | C102: 11.4 | D102: 10.9 | E102: 10.2 | F102: 9.5 | G102: 8.5 | H102: 7.7 | I102: 6.8 | J102: 6.3 | K102: 5.5 | L102: 4.6 | M102: 4.4 | N102: 4 | O102: 3.7 | P102: 3.5 | Q102: 3.4 | R102: 3.2 | S102: 2.9 | T102: 2.7 | U102: 2.5 | V102: 2.4 | W102: 2.2 | X102: 1.7 | Y102: 1.4 | Z102: 1
... A105: 17 | B105: 13.3 | C105: 12.9 | D105: 12.4 | E105: 11.5 | F105: 10.8 | G105: 9.7 | H105: 8.8 | I105: 7.8 | J105: 7.3 | K105: 6.3 | L105: 5.2 | M105: 5 | N105: 4.5 | O105: 4.2 | P105: 3.9 | Q105: 3.7 | R105: 3.5 | S105: 3.2 | T105: 2.9 | U105: 2.7 | V105: 2.5 | W105: 2.2 | X105: 1.7 | Y105: 1.3 | Z105: 0.8
A108: Torsk | I108: Grenseverdier | J108: 0.1 | K108: 1500 | N108: =A111 -> 2 | O108: =A129 -> 20
A109: Fiskevekt (g)
A110: Temperatur | B110: 0.1 | C110: 0.5 | D110: 1 | E110: 2 | F110: 3 | G110: 4 | H110: 5 | I110: 6 | J110: 7 | K110: 8 | L110: 9 | M110: 10 | N110: 20 | O110: 30 | P110: 40 | Q110: 50 | R110: 60 | S110: 70 | T110: 80 | U110: 90 | V110: 100 | W110: 110 | X110: 120 | Y110: 130 | Z110: 140 | AA110: 150 | AB110: 200 | AC110: 250 | AD110: 300 | AE110: 350 | AF110: 400 | AG110: 450 | AH110: 500 | AI110: 550 | AJ110: 600 | AK110: 650 | AL110: 700 | AM110: 750 | AN110: 800 | AO110: 850 | AP110: 900 | AQ110: 950 | AR110: 1000 | AS110: 1250 | AT110: 1500
A111: 2 | B111: 0.85 | C111: 0.8089928 | D111: 0.76352418 | E111: 0.71239755 | F111: 0.67606957 | G111: 0.64925357 | H111: 0.62713051 | I111: 0.6078693 | J111: 0.59365334 | K111: 0.57943614 | L111: 0.56808954 | M111: 0.57 | N111: 0.51 | O111: 0.47 | P111: 0.44 | Q111: 0.42 | R111: 0.4 | S111: 0.38 | T111: 0.37 | U111: 0.36 | V111: 0.35 | W111: 0.34 | X111: 0.33 | Y111: 0.33 | Z111: 0.32 | AA111: 0.31 | AB111: 0.29 | AC111: 0.27 | AD111: 0.25 | AE111: 0.24 | AF111: 0.23 | AG111: 0.22 | AH111: 0.21 | AI111: 0.2 | AJ111: 0.19 | AK111: 0.19 | AL111: 0.18 | AM111: 0.18 | AN111: 0.17 | AO111: 0.17 | AP111: 0.16 | AQ111: 0.16 | AR111: 0.15 | AS111: 0.13 | AT111: 0.12
A112: 3 | B112: 1.28 | C112: 1.22 | D112: 1.16 | E112: 1.08 | F112: 1.03 | G112: 0.99 | H112: 0.96 | I112: 0.93 | J112: 0.91 | K112: 0.89 | L112: 0.87 | M112: 0.85 | N112: 0.75 | O112: 0.69 | P112: 0.65 | Q112: 0.62 | R112: 0.59 | S112: 0.57 | T112: 0.55 | U112: 0.54 | V112: 0.52 | W112: 0.51 | X112: 0.5 | Y112: 0.49 | Z112: 0.48 | AA112: 0.47 | AB112: 0.43 | AC112: 0.4 | AD112: 0.38 | AE112: 0.36 | AF112: 0.35 | AG112: 0.33 | AH112: 0.32 | AI112: 0.31 | AJ112: 0.3 | AK112: 0.29 | AL112: 0.28 | AM112: 0.27 | AN112: 0.27 | AO112: 0.26 | AP112: 0.25 | AQ112: 0.25 | AR112: 0.24 | AS112: 0.22 | AT112: 0.2
A113: 4 | B113: 1.76 | C113: 1.68 | D113: 1.58 | E113: 1.48 | F113: 1.4 | G113: 1.35 | H113: 1.3 | I113: 1.26 | J113: 1.23 | K113: 1.2 | L113: 1.18 | M113: 1.15 | N113: 1.01 | O113: 0.93 | P113: 0.87 | Q113: 0.83 | R113: 0.79 | S113: 0.76 | T113: 0.74 | U113: 0.72 | V113: 0.7 | W113: 0.68 | X113: 0.67 | Y113: 0.65 | Z113: 0.64 | AA113: 0.63 | AB113: 0.58 | AC113: 0.54 | AD113: 0.51 | AE113: 0.49 | AF113: 0.46 | AG113: 0.45 | AH113: 0.43 | AI113: 0.41 | AJ113: 0.4 | AK113: 0.39 | AL113: 0.38 | AM113: 0.37 | AN113: 0.36 | AO113: 0.35 | AP113: 0.34 | AQ113: 0.33 | AR113: 0.33 | AS113: 0.3 | AT113: 0.27
A114: 5 | B114: 2.29 | C114: 2.17 | D114: 2.04 | E114: 1.9 | F114: 1.8 | G114: 1.72 | H114: 1.66 | I114: 1.61 | J114: 1.57 | K114: 1.53 | L114: 1.5 | M114: 1.46 | N114: 1.27 | O114: 1.17 | P114: 1.09 | Q114: 1.04 | R114: 0.99 | S114: 0.95 | T114: 0.92 | U114: 0.9 | V114: 0.87 | W114: 0.85 | X114: 0.83 | Y114: 0.81 | Z114: 0.79 | AA114: 0.78 | AB114: 0.72 | AC114: 0.67 | AD114: 0.63 | AE114: 0.6 | AF114: 0.58 | AG114: 0.55 | AH114: 0.53 | AI114: 0.51 | AJ114: 0.5 | AK114: 0.48 | AL114: 0.47 | AM114: 0.46 | AN114: 0.45 | AO114: 0.44 | AP114: 0.42 | AQ114: 0.42 | AR114: 0.41 | AS114: 0.37 | AT114: 0.34
A115: 6 | B115: 2.84 | C115: 2.69 | D115: 2.52 | E115: 2.34 | F115: 2.2 | G115: 2.11 | H115: 2.03 | I115: 1.96 | J115: 1.91 | K115: 1.86 | L115: 1.82 | M115: 1.78 | N115: 1.54 | O115: 1.4 | P115: 1.31 | Q115: 1.24 | R115: 1.19 | S115: 1.14 | T115: 1.1 | U115: 1.07 | V115: 1.04 | W115: 1.01 | X115: 0.99 | Y115: 0.97 | Z115: 0.94 | AA115: 0.93 | AB115: 0.85 | AC115: 0.79 | AD115: 0.75 | AE115: 0.71 | AF115: 0.68 | AG115: 0.65 | AH115: 0.63 | AI115: 0.61 | AJ115: 0.59 | AK115: 0.57 | AL115: 0.55 | AM115: 0.54 | AN115: 0.52 | AO115: 0.51 | AP115: 0.5 | AQ115: 0.49 | AR115: 0.48 | AS115: 0.43 | AT115: 0.4
A116: 7 | B116: 3.4 | C116: 3.22 | D116: 3 | E116: 2.77 | F116: 2.61 | G116: 2.49 | H116: 2.39 | I116: 2.31 | J116: 2.24 | K116: 2.19 | L116: 2.13 | M116: 2.08 | N116: 1.79 | O116: 1.63 | P116: 1.52 | Q116: 1.44 | R116: 1.37 | S116: 1.32 | T116: 1.27 | U116: 1.23 | V116: 1.19 | W116: 1.16 | X116: 1.13 | Y116: 1.11 | Z116: 1.08 | AA116: 1.06 | AB116: 0.97 | AC116: 0.91 | AD116: 0.85 | AE116: 0.81 | AF116: 0.77 | AG116: 0.74 | AH116: 0.71 | AI116: 0.69 | AJ116: 0.67 | AK116: 0.65 | AL116: 0.63 | AM116: 0.61 | AN116: 0.59 | AO116: 0.58 | AP116: 0.57 | AQ116: 0.55 | AR116: 0.54 | AS116: 0.49 | AT116: 0.45
A117: 8 | B117: 3.96 | C117: 3.74 | D117: 3.47 | E117: 3.2 | F117: 3 | G117: 2.86 | H117: 2.74 | I117: 2.65 | J117: 2.57 | K117: 2.5 | L117: 2.43 | M117: 2.38 | N117: 2.03 | O117: 1.84 | P117: 1.71 | Q117: 1.62 | R117: 1.54 | S117: 1.48 | T117: 1.42 | U117: 1.38 | V117: 1.34 | W117: 1.3 | X117: 1.27 | Y117: 1.24 | Z117: 1.21 | AA117: 1.18 | AB117: 1.08 | AC117: 1.01 | AD117: 0.95 | AE117: 0.9 | AF117: 0.86 | AG117: 0.82 | AH117: 0.79 | AI117: 0.76 | AJ117: 0.73 | AK117: 0.71 | AL117: 0.69 | AM117: 0.67 | AN117: 0.65 | AO117: 0.64 | AP117: 0.62 | AQ117: 0.61 | AR117: 0.59 | AS117: 0.53 | AT117: 0.49
A118: 9 | B118: 4.49 | C118: 4.23 | D118: 3.92 | E118: 3.6 | F118: 3.37 | G118: 3.2 | H118: 3.06 | I118: 2.95 | J118: 2.86 | K118: 2.78 | L118: 2.71 | M118: 2.64 | N118: 2.25 | O118: 2.03 | P118: 1.88 | Q118: 1.77 | R118: 1.69 | S118: 1.62 | T118: 1.55 | U118: 1.5 | V118: 1.46 | W118: 1.42 | X118: 1.38 | Y118: 1.35 | Z118: 1.32 | AA118: 1.29 | AB118: 1.17 | AC118: 1.09 | AD118: 1.02 | AE118: 0.97 | AF118: 0.92 | AG118: 0.88 | AH118: 0.85 | AI118: 0.82 | AJ118: 0.79 | AK118: 0.76 | AL118: 0.74 | AM118: 0.72 | AN118: 0.7 | AO118: 0.68 | AP118: 0.66 | AQ118: 0.65 | AR118: 0.63 | AS118: 0.57 | AT118: 0.52
A119: 10 | B119: 4.97 | C119: 4.67 | D119: 4.31 | E119: 3.95 | F119: 3.69 | G119: 3.49 | H119: 3.34 | I119: 3.22 | J119: 3.11 | K119: 3.02 | L119: 2.94 | M119: 2.87 | N119: 2.43 | O119: 2.19 | P119: 2.03 | Q119: 1.9 | R119: 1.81 | S119: 1.73 | T119: 1.66 | U119: 1.61 | V119: 1.55 | W119: 1.51 | X119: 1.47 | Y119: 1.43 | Z119: 1.4 | AA119: 1.37 | AB119: 1.25 | AC119: 1.15 | AD119: 1.08 | AE119: 1.02 | AF119: 0.97 | AG119: 0.93 | AH119: 0.89 | AI119: 0.86 | AJ119: 0.83 | AK119: 0.8 | AL119: 0.78 | AM119: 0.75 | AN119: 0.73 | AO119: 0.71 | AP119: 0.69 | AQ119: 0.68 | AR119: 0.66 | AS119: 0.59 | AT119: 0.54
A120: 11 | B120: 5.37 | C120: 5.04 | D120: 4.64 | E120: 4.24 | F120: 3.95 | G120: 3.74 | H120: 3.57 | I120: 3.43 | J120: 3.32 | K120: 3.22 | L120: 3.13 | M120: 3.05 | N120: 2.57 | O120: 2.31 | P120: 2.13 | Q120: 2 | R120: 1.9 | S120: 1.81 | T120: 1.74 | U120: 1.68 | V120: 1.63 | W120: 1.58 | X120: 1.53 | Y120: 1.5 | Z120: 1.46 | AA120: 1.43 | AB120: 1.29 | AC120: 1.2 | AD120: 1.12 | AE120: 1.06 | AF120: 1 | AG120: 0.96 | AH120: 0.92 | AI120: 0.88 | AJ120: 0.85 | AK120: 0.82 | AL120: 0.8 | AM120: 0.77 | AN120: 0.75 | AO120: 0.73 | AP120: 0.71 | AQ120: 0.69 | AR120: 0.67 | AS120: 0.6 | AT120: 0.55
A121: 12 | B121: 5.68 | C121: 5.32 | D121: 4.89 | E121: 4.45 | F121: 4.14 | G121: 3.91 | H121: 3.73 | I121: 3.59 | J121: 3.47 | K121: 3.36 | L121: 3.27 | M121: 3.18 | N121: 2.67 | O121: 2.39 | P121: 2.2 | Q121: 2.06 | R121: 1.96 | S121: 1.87 | T121: 1.79 | U121: 1.73 | V121: 1.67 | W121: 1.62 | X121: 1.57 | Y121: 1.53 | Z121: 1.49 | AA121: 1.46 | AB121: 1.32 | AC121: 1.22 | AD121: 1.14 | AE121: 1.07 | AF121: 1.02 | AG121: 0.97 | AH121: 0.93 | AI121: 0.89 | AJ121: 0.86 | AK121: 0.83 | AL121: 0.8 | AM121: 0.78 | AN121: 0.75 | AO121: 0.73 | AP121: 0.71 | AQ121: 0.69 | AR121: 0.68 | AS121: 0.6 | AT121: 0.54
A122: 13 | B122: 5.88 | C122: 5.49 | D122: 5.04 | E122: 4.58 | F122: 4.26 | G122: 4.02 | H122: 3.83 | I122: 3.68 | J122: 3.55 | K122: 3.44 | L122: 3.34 | M122: 3.25 | N122: 2.72 | O122: 2.43 | P122: 2.23 | Q122: 2.09 | R122: 1.98 | S122: 1.88 | T122: 1.81 | U122: 1.74 | V122: 1.68 | W122: 1.63 | X122: 1.58 | Y122: 1.54 | Z122: 1.5 | AA122: 1.46 | AB122: 1.32 | AC122: 1.22 | AD122: 1.13 | AE122: 1.07 | AF122: 1.01 | AG122: 0.96 | AH122: 0.92 | AI122: 0.88 | AJ122: 0.85 | AK122: 0.82 | AL122: 0.79 | AM122: 0.76 | AN122: 0.74 | AO122: 0.72 | AP122: 0.7 | AQ122: 0.68 | AR122: 0.66 | AS122: 0.59 | AT122: 0.53
... A129: 20 | B129: 4.08 | C129: 3.8194448 | D129: 3.5081098 | E129: 3.1932224 | F129: 2.9710019 | G129: 2.8054817 | H129: 2.6750787 | I129: 2.5712063 | J129: 2.4829589 | K129: 2.4056427 | L129: 2.3391547 | M129: 2.15 | N129: 1.76 | O129: 1.55 | P129: 1.41 | Q129: 1.3 | R129: 1.22 | S129: 1.15 | T129: 1.09 | U129: 1.04 | V129: 1 | W129: 0.96 | X129: 0.93 | Y129: 0.89 | Z129: 0.87 | AA129: 0.84 | AB129: 0.73 | AC129: 0.66 | AD129: 0.6 | AE129: 0.55 | AF129: 0.5 | AG129: 0.47 | AH129: 0.44 | AI129: 0.41 | AJ129: 0.38 | AK129: 0.36 | AL129: 0.34 | AM129: 0.32 | AN129: 0.3 | AO129: 0.29 | AP129: 0.27 | AQ129: 0.26 | AR129: 0.25 | AS129: 0.19 | AT129: 0.15

Sheet Veksttabell FV
A1: Veksttabell fersvann
A2: Gjeldende tabell gj.strømming | E2: ='Priseestimat gj.strømming'!$C$13 -> 0 | J2: =IF('Priseestimat gj.strømming'!$C$13='Veksttabell FV'!$A$45,'Veksttabell FV'!J45,IF($E$2=$A$66,J66,"")) | K2: =IF('Priseestimat gj.strømming'!$C$13='Veksttabell FV'!$A$45,'Veksttabell FV'!K45,IF($E$2=$A$66,K66,"")) | N2: =IF('Priseestimat gj.strømming'!$C$13='Veksttabell FV'!$A$45,'Veksttabell FV'!N45,IF($E$2=$A$66,N66,"")) | O2: =IF('Priseestimat gj.strømming'!$C$13='Veksttabell FV'!$A$45,'Veksttabell FV'!O45,IF($E$2=$A$66,O66,""))
B3: Fiskevekt (g)
A4: Temperatur | B4: =IF('Priseestimat gj.strømming'!$C$13='Veksttabell FV'!$A$45,'Veksttabell FV'!B47,IF($E$2=$A$66,B68,"ingen data")) -> ingen data | C4: =IF('Priseestimat gj.strømming'!$C$13='Veksttabell FV'!$A$45,'Veksttabell FV'!C47,IF($E$2=$A$66,C68,"ingen data")) -> ingen data | D4: =IF('Priseestimat gj.strømming'!$C$13='Veksttabell FV'!$A$45,'Veksttabell FV'!D47,IF($E$2=$A$66,D68,"ingen data")) -> ingen data | E4: =IF('Priseestimat gj.strømming'!$C$13='Veksttabell FV'!$A$45,'Veksttabell FV'!E47,IF($E$2=$A$66,E68,"ingen data")) -> ingen data | F4: =IF('Priseestimat gj.strømming'!$C$13='Veksttabell FV'!$A$45,'Veksttabell FV'!F47,IF($E$2=$A$66,F68,"ingen data")) -> ingen data | G4: =IF('Priseestimat gj.strømming'!$C$13='Veksttabell FV'!$A$45,'Veksttabell FV'!G47,IF($E$2=$A$66,G68,"ingen data")) -> ingen data | H4: =IF('Priseestimat gj.strømming'!$C$13='Veksttabell FV'!$A$45,'Veksttabell FV'!H47,IF($E$2=$A$66,H68,"ingen data")) -> ingen data | I4: =IF('Priseestimat gj.strømming'!$C$13='Veksttabell FV'!$A$45,'Veksttabell FV'!I47,IF($E$2=$A$66,I68,"ingen data")) -> ingen data | ... T4: =IF('Priseestimat gj.strømming'!$C$13='Veksttabell FV'!$A$45,'Veksttabell FV'!T47,IF($E$2=$A$66,T68,"ingen data")) -> ingen data
A5: =IF('Priseestimat gj.strømming'!$C$13='Veksttabell FV'!$A$45,'Veksttabell FV'!A48,IF($E$2=$A$66,A69,"ingen data")) -> ingen data | B5: =IF('Priseestimat gj.strømming'!$C$13='Veksttabell FV'!$A$45,'Veksttabell FV'!B48,IF($E$2=$A$66,B69,"ingen data")) -> ingen data | C5: =IF('Priseestimat gj.strømming'!$C$13='Veksttabell FV'!$A$45,'Veksttabell FV'!C48,IF($E$2=$A$66,C69,"ingen data")) -> ingen data | D5: =IF('Priseestimat gj.strømming'!$C$13='Veksttabell FV'!$A$45,'Veksttabell FV'!D48,IF($E$2=$A$66,D69,"ingen data")) -> ingen data | E5: =IF('Priseestimat gj.strømming'!$C$13='Veksttabell FV'!$A$45,'Veksttabell FV'!E48,IF($E$2=$A$66,E69,"ingen data")) -> ingen data | F5: =IF('Priseestimat gj.strømming'!$C$13='Veksttabell FV'!$A$45,'Veksttabell FV'!F48,IF($E$2=$A$66,F69,"ingen data")) -> ingen data | G5: =IF('Priseestimat gj.strømming'!$C$13='Veksttabell FV'!$A$45,'Veksttabell FV'!G48,IF($E$2=$A$66,G69,"ingen data")) -> ingen data | H5: =IF('Priseestimat gj.strømming'!$C$13='Veksttabell FV'!$A$45,'Veksttabell FV'!H48,IF($E$2=$A$66,H69,"ingen data")) -> ingen data | ... T5: =IF('Priseestimat gj.strømming'!$C$13='Veksttabell FV'!$A$45,'Veksttabell FV'!T48,IF($E$2=$A$66,T69,"ingen data")) -> ingen data
A6: =IF('Priseestimat gj.strømming'!$C$13='Veksttabell FV'!$A$45,'Veksttabell FV'!A49,IF($E$2=$A$66,A70,"ingen data")) -> ingen data | B6: =IF('Priseestimat gj.strømming'!$C$13='Veksttabell FV'!$A$45,'Veksttabell FV'!B49,IF($E$2=$A$66,B70,"ingen data")) -> ingen data | C6: =IF('Priseestimat gj.strømming'!$C$13='Veksttabell FV'!$A$45,'Veksttabell FV'!C49,IF($E$2=$A$66,C70,"ingen data")) -> ingen data | D6: =IF('Priseestimat gj.strømming'!$C$13='Veksttabell FV'!$A$45,'Veksttabell FV'!D49,IF($E$2=$A$66,D70,"ingen data")) -> ingen data | E6: =IF('Priseestimat gj.strømming'!$C$13='Veksttabell FV'!$A$45,'Veksttabell FV'!E49,IF($E$2=$A$66,E70,"ingen data")) -> ingen data | F6: =IF('Priseestimat gj.strømming'!$C$13='Veksttabell FV'!$A$45,'Veksttabell FV'!F49,IF($E$2=$A$66,F70,"ingen data")) -> ingen data | G6: =IF('Priseestimat gj.strømming'!$C$13='Veksttabell FV'!$A$45,'Veksttabell FV'!G49,IF($E$2=$A$66,G70,"ingen data")) -> ingen data | H6: =IF('Priseestimat gj.strømming'!$C$13='Veksttabell FV'!$A$45,'Veksttabell FV'!H49,IF($E$2=$A$66,H70,"ingen data")) -> ingen data | ... T6: =IF('Priseestimat gj.strømming'!$C$13='Veksttabell FV'!$A$45,'Veksttabell FV'!T49,IF($E$2=$A$66,T70,"ingen data")) -> ingen data
